Workbook

Sheet الدليل
A1: مسير رواتب شركة أرمسترونج
A2: فرع 10 رمضان • موقع التجمعات • السنة المالية 2026 • 59 موظفًا
B4: عدد الموظفين | D4: صافي رواتب يوليو | F4: إجمالي صافي السنة | H4: متوسط الصافي للفرد
B5: =COUNTA('بيانات الموظفين'!$B$7:$B$65) | D5: ='07-يوليو'!BD67 | F5: ='ملخص سنوي'!P129 | H5: ='ملخص سنوي'!P129/COUNTA('بيانات الموظفين'!$B$7:$B$65)
B8: ملخص الشهور
B9: الشهر | C9: أيام الحضور | D9: الوجبات | E9: الجزاءات | F9: بدل العطلة | G9: الصافي المستحق
B10: يناير 2026 | C10: ='01-يناير'!AQ67 | D10: ='01-يناير'!AX67 | E10: ='01-يناير'!BA67 | F10: ='01-يناير'!BC67 | G10: ='01-يناير'!BD67
B11: فبراير 2026 | C11: ='02-فبراير'!AQ67 | D11: ='02-فبراير'!AX67 | E11: ='02-فبراير'!BA67 | F11: ='02-فبراير'!BC67 | G11: ='02-فبراير'!BD67
B12: مارس 2026 | C12: ='03-مارس'!AQ67 | D12: ='03-مارس'!AX67 | E12: ='03-مارس'!BA67 | F12: ='03-مارس'!BC67 | G12: ='03-مارس'!BD67
B13: أبريل 2026 | C13: ='04-أبريل'!AQ67 | D13: ='04-أبريل'!AX67 | E13: ='04-أبريل'!BA67 | F13: ='04-أبريل'!BC67 | G13: ='04-أبريل'!BD67
B14: مايو 2026 | C14: ='05-مايو'!AQ67 | D14: ='05-مايو'!AX67 | E14: ='05-مايو'!BA67 | F14: ='05-مايو'!BC67 | G14: ='05-مايو'!BD67
B15: يونيو 2026 | C15: ='06-يونيو'!AQ67 | D15: ='06-يونيو'!AX67 | E15: ='06-يونيو'!BA67 | F15: ='06-يونيو'!BC67 | G15: ='06-يونيو'!BD67
B16: يوليو 2026 | C16: ='07-يوليو'!AQ67 | D16: ='07-يوليو'!AX67 | E16: ='07-يوليو'!BA67 | F16: ='07-يوليو'!BC67 | G16: ='07-يوليو'!BD67
B17: أغسطس 2026 | C17: ='08-أغسطس'!AQ67 | D17: ='08-أغسطس'!AX67 | E17: ='08-أغسطس'!BA67 | F17: ='08-أغسطس'!BC67 | G17: ='08-أغسطس'!BD67
B18: سبتمبر 2026 | C18: ='09-سبتمبر'!AQ67 | D18: ='09-سبتمبر'!AX67 | E18: ='09-سبتمبر'!BA67 | F18: ='09-سبتمبر'!BC67 | G18: ='09-سبتمبر'!BD67
B19: أكتوبر 2026 | C19: ='10-أكتوبر'!AQ67 | D19: ='10-أكتوبر'!AX67 | E19: ='10-أكتوبر'!BA67 | F19: ='10-أكتوبر'!BC67 | G19: ='10-أكتوبر'!BD67
B20: نوفمبر 2026 | C20: ='11-نوفمبر'!AQ67 | D20: ='11-نوفمبر'!AX67 | E20: ='11-نوفمبر'!BA67 | F20: ='11-نوفمبر'!BC67 | G20: ='11-نوفمبر'!BD67
B21: ديسمبر 2026 | C21: ='12-ديسمبر'!AQ67 | D21: ='12-ديسمبر'!AX67 | E21: ='12-ديسمبر'!BA67 | F21: ='12-ديسمبر'!BC67 | G21: ='12-ديسمبر'!BD67
B22: الإجمالي | C22: =SUM(C10:C21) | D22: =SUM(D10:D21) | E22: =SUM(E10:E21) | F22: =SUM(F10:F21) | G22: =SUM(G10:G21)
B24: التنقل السريع
B25: شيت يناير | D25: بيانات الموظفين | F25: كيف تستخدم الملف؟ ١) بيانات كل موظف وراتبه في شيت «بيانات الموظفين». ٢) سياستك (أيام الراحة، الوجبة، معامل العطلة، العطل) في شيت «الإعدادات». ٣) في شيت الشهر اكتب رموز الحضور من E إلى AI، وكل الأعمدة تُحسب تلقائيًا. الرموز: P حاضر • غ غياب • إ إجازة • م مرضية • خ نصف يوم • د دبل شيفت • فارغ = راحة
B26: شيت فبراير | D26: الملخص السنوي
B27: شيت مارس | D27: الإعدادات
B28: شيت أبريل | D28: تدقيق يوليو
B29: شيت مايو
B30: شيت يونيو
B31: شيت يوليو
B32: شيت أغسطس
B33: شيت سبتمبر
B34: شيت أكتوبر
B35: شيت نوفمبر
B36: شيت ديسمبر

Sheet 01-يناير
A1: مسير رواتب شهر يناير 2026 — شركة أرمسترونج | فرع 10 رمضان | موقع التجمعات
A2: أيام الشهر: 31 • أيام المعيار: 27 • بدل الوجبة: 30 ج.م/يوم • قيمة اليوم = الأساسي ÷ 30 • معامل العطلة: 2
A3: الرموز: P حاضر • غ غياب • إ إجازة • م مرضية • خ نصف يوم • د دبل شيفت — والخانة الفارغة = راحة (تُحتسب ضمن الشهر ولا تُحتسب حضورًا)
A5: م | B5: الكود | C5: اسم الموظف | D5: الوظيفة | E5: 1 | F5: 2 | G5: 3 | H5: 4 | I5: 5 | J5: 6 | K5: 7 | L5: 8 | M5: 9 | N5: 10 | O5: 11 | P5: 12 | Q5: 13 | R5: 14 | S5: 15 | T5: 16 | U5: 17 | V5: 18 | W5: 19 | X5: 20 | Y5: 21 | Z5: 22 | AA5: 23 | AB5: 24 | AC5: 25 | AD5: 26 | AE5: 27 | AF5: 28 | AG5: 29 | AH5: 30 | AI5: 31 | AJ5: بيانات الحضور | AR5: أيام الاستحقاق | AU5: الأجر | AX5: البدلات | AZ5: الاستقطاعات | BC5: بدل العطلة | BD5: الصافي المستحق
E6: خ | F6: ج | G6: س | H6: أ | I6: ن | J6: ث | K6: ر | L6: خ | M6: ج | N6: س | O6: أ | P6: ن | Q6: ث | R6: ر | S6: خ | T6: ج | U6: س | V6: أ | W6: ن | X6: ث | Y6: ر | Z6: خ | AA6: ج | AB6: س | AC6: أ | AD6: ن | AE6: ث | AF6: ر | AG6: خ | AH6: ج | AI6: س | AJ6: حاضر | AK6: غياب | AL6: إجازة | AM6: مرضية | AN6: نصف يوم | AO6: دبل | AP6: راحة (فراغ) | AQ6: أيام الحضور | AR6: أيام محتسبة (تلقائي) | AS6: تعديل يدوي | AT6: الأيام النهائية | AU6: الراتب الأساسي | AV6: قيمة اليوم | AW6: أجر الأيام | AX6: الوجبات | AY6: بدل التأمين (+) | AZ6: جزاء (أيام) | BA6: قيمة الجزاء | BB6: خصم آخر (مبلغ)
A7: عطلة رسمية (1 = يوم عطلة مدفوع بالمعامل) | E7: =IF(COUNTIFS(الإعدادات!$B$23:$B$60,1,الإعدادات!$C$23:$C$60,E$5)>0,1,0) | F7: =IF(COUNTIFS(الإعدادات!$B$23:$B$60,1,الإعدادات!$C$23:$C$60,F$5)>0,1,0) | G7: =IF(COUNTIFS(الإعدادات!$B$23:$B$60,1,الإعدادات!$C$23:$C$60,G$5)>0,1,0) | H7: =IF(COUNTIFS(الإعدادات!$B$23:$B$60,1,الإعدادات!$C$23:$C$60,H$5)>0,1,0) | I7: =IF(COUNTIFS(الإعدادات!$B$23:$B$60,1,الإعدادات!$C$23:$C$60,I$5)>0,1,0) | J7: =IF(COUNTIFS(الإعدادات!$B$23:$B$60,1,الإعدادات!$C$23:$C$60,J$5)>0,1,0) | K7: =IF(COUNTIFS(الإعدادات!$B$23:$B$60,1,الإعدادات!$C$23:$C$60,K$5)>0,1,0) | L7: =IF(COUNTIFS(الإعدادات!$B$23:$B$60,1,الإعدادات!$C$23:$C$60,L$5)>0,1,0) | ... AI7: =IF(COUNTIFS(الإعدادات!$B$23:$B$60,1,الإعدادات!$C$23:$C$60,AI$5)>0,1,0)
A8: 1 | B8: 1 | C8: صابر محمود محمد حسن | D8: SO | AJ8: =COUNTIF($E8:$AI8,"P") | AK8: =COUNTIF($E8:$AI8,"غ") | AL8: =COUNTIF($E8:$AI8,"إ") | AM8: =COUNTIF($E8:$AI8,"م") | AN8: =COUNTIF($E8:$AI8,"خ") | AO8: =COUNTIF($E8:$AI8,"د") | AP8: =IF(COUNTA($E8:$AI8)=0,0,SUMPRODUCT(($E$5:$AI$5<>"")*($E8:$AI8=""))) | AQ8: =SUMPRODUCT(SUMIF(الإعدادات!$A$14:$A$19,$E8:$AI8,الإعدادات!$C$14:$C$19)) | AR8: =AQ8+AP8 | AT8: =IF(COUNTA($E8:$AI8)=0,IF(AS8="",0,AS8),IF(AS8="",AR8,AS8)) | AU8: =IFERROR(VLOOKUP($B8,'بيانات الموظفين'!$B$7:$K$65,5,FALSE),0) | AV8: =IF(AU8=0,0,AU8/الإعدادات!$C$7) | AW8: =IF(AT8>=(COUNT($E$5:$AI$5)-الإعدادات!$C$6),AU8+AV8*(AT8-(COUNT($E$5:$AI$5)-الإعدادات!$C$6)),AV8*AT8) | AX8: =AQ8*IFERROR(VLOOKUP($B8,'بيانات الموظفين'!$B$7:$K$65,7,FALSE),الإعدادات!$C$8) | AY8: =IF(COUNTA($E8:$AI8)=0,0,IFERROR(VLOOKUP($B8,'بيانات الموظفين'!$B$7:$K$65,6,FALSE),0)) | BA8: =AZ8*AV8 | BC8: =AV8*الإعدادات!$C$9*SUMPRODUCT(SUMIF(الإعدادات!$A$14:$A$19,$E8:$AI8,الإعدادات!$C$14:$C$19)*($E$7:$AI$7=1)) | BD8: =AW8+AX8+AY8+BC8-BA8-BB8
A9: 2 | B9: 2 | C9: ناجي محمد حسن ابو العزم | D9: SO | AJ9: =COUNTIF($E9:$AI9,"P") | AK9: =COUNTIF($E9:$AI9,"غ") | AL9: =COUNTIF($E9:$AI9,"إ") | AM9: =COUNTIF($E9:$AI9,"م") | AN9: =COUNTIF($E9:$AI9,"خ") | AO9: =COUNTIF($E9:$AI9,"د") | AP9: =IF(COUNTA($E9:$AI9)=0,0,SUMPRODUCT(($E$5:$AI$5<>"")*($E9:$AI9=""))) | AQ9: =SUMPRODUCT(SUMIF(الإعدادات!$A$14:$A$19,$E9:$AI9,الإعدادات!$C$14:$C$19)) | AR9: =AQ9+AP9 | AT9: =IF(COUNTA($E9:$AI9)=0,IF(AS9="",0,AS9),IF(AS9="",AR9,AS9)) | AU9: =IFERROR(VLOOKUP($B9,'بيانات الموظفين'!$B$7:$K$65,5,FALSE),0) | AV9: =IF(AU9=0,0,AU9/الإعدادات!$C$7) | AW9: =IF(AT9>=(COUNT($E$5:$AI$5)-الإعدادات!$C$6),AU9+AV9*(AT9-(COUNT($E$5:$AI$5)-الإعدادات!$C$6)),AV9*AT9) | AX9: =AQ9*IFERROR(VLOOKUP($B9,'بيانات الموظفين'!$B$7:$K$65,7,FALSE),الإعدادات!$C$8) | AY9: =IF(COUNTA($E9:$AI9)=0,0,IFERROR(VLOOKUP($B9,'بيانات الموظفين'!$B$7:$K$65,6,FALSE),0)) | BA9: =AZ9*AV9 | BC9: =AV9*الإعدادات!$C$9*SUMPRODUCT(SUMIF(الإعدادات!$A$14:$A$19,$E9:$AI9,الإعدادات!$C$14:$C$19)*($E$7:$AI$7=1)) | BD9: =AW9+AX9+AY9+BC9-BA9-BB9
A10: 3 | B10: 3 | C10: طه سامي طه تله | D10: SO | AJ10: =COUNTIF($E10:$AI10,"P") | AK10: =COUNTIF($E10:$AI10,"غ") | AL10: =COUNTIF($E10:$AI10,"إ") | AM10: =COUNTIF($E10:$AI10,"م") | AN10: =COUNTIF($E10:$AI10,"خ") | AO10: =COUNTIF($E10:$AI10,"د") | AP10: =IF(COUNTA($E10:$AI10)=0,0,SUMPRODUCT(($E$5:$AI$5<>"")*($E10:$AI10=""))) | AQ10: =SUMPRODUCT(SUMIF(الإعدادات!$A$14:$A$19,$E10:$AI10,الإعدادات!$C$14:$C$19)) | AR10: =AQ10+AP10 | AT10: =IF(COUNTA($E10:$AI10)=0,IF(AS10="",0,AS10),IF(AS10="",AR10,AS10)) | AU10: =IFERROR(VLOOKUP($B10,'بيانات الموظفين'!$B$7:$K$65,5,FALSE),0) | AV10: =IF(AU10=0,0,AU10/الإعدادات!$C$7) | AW10: =IF(AT10>=(COUNT($E$5:$AI$5)-الإعدادات!$C$6),AU10+AV10*(AT10-(COUNT($E$5:$AI$5)-الإعدادات!$C$6)),AV10*AT10) | AX10: =AQ10*IFERROR(VLOOKUP($B10,'بيانات الموظفين'!$B$7:$K$65,7,FALSE),الإعدادات!$C$8) | AY10: =IF(COUNTA($E10:$AI10)=0,0,IFERROR(VLOOKUP($B10,'بيانات الموظفين'!$B$7:$K$65,6,FALSE),0)) | BA10: =AZ10*AV10 | BC10: =AV10*الإعدادات!$C$9*SUMPRODUCT(SUMIF(الإعدادات!$A$14:$A$19,$E10:$AI10,الإعدادات!$C$14:$C$19)*($E$7:$AI$7=1)) | BD10: =AW10+AX10+AY10+BC10-BA10-BB10
A11: 4 | B11: 4 | C11: مصطفي ربيع محمد حسن | D11: SO | AJ11: =COUNTIF($E11:$AI11,"P") | AK11: =COUNTIF($E11:$AI11,"غ") | AL11: =COUNTIF($E11:$AI11,"إ") | AM11: =COUNTIF($E11:$AI11,"م") | AN11: =COUNTIF($E11:$AI11,"خ") | AO11: =COUNTIF($E11:$AI11,"د") | AP11: =IF(COUNTA($E11:$AI11)=0,0,SUMPRODUCT(($E$5:$AI$5<>"")*($E11:$AI11=""))) | AQ11: =SUMPRODUCT(SUMIF(الإعدادات!$A$14:$A$19,$E11:$AI11,الإعدادات!$C$14:$C$19)) | AR11: =AQ11+AP11 | AT11: =IF(COUNTA($E11:$AI11)=0,IF(AS11="",0,AS11),IF(AS11="",AR11,AS11)) | AU11: =IFERROR(VLOOKUP($B11,'بيانات الموظفين'!$B$7:$K$65,5,FALSE),0) | AV11: =IF(AU11=0,0,AU11/الإعدادات!$C$7) | AW11: =IF(AT11>=(COUNT($E$5:$AI$5)-الإعدادات!$C$6),AU11+AV11*(AT11-(COUNT($E$5:$AI$5)-الإعدادات!$C$6)),AV11*AT11) | AX11: =AQ11*IFERROR(VLOOKUP($B11,'بيانات الموظفين'!$B$7:$K$65,7,FALSE),الإعدادات!$C$8) | AY11: =IF(COUNTA($E11:$AI11)=0,0,IFERROR(VLOOKUP($B11,'بيانات الموظفين'!$B$7:$K$65,6,FALSE),0)) | BA11: =AZ11*AV11 | BC11: =AV11*الإعدادات!$C$9*SUMPRODUCT(SUMIF(الإعدادات!$A$14:$A$19,$E11:$AI11,الإعدادات!$C$14:$C$19)*($E$7:$AI$7=1)) | BD11: =AW11+AX11+AY11+BC11-BA11-BB11
A12: 5 | B12: 5 | C12: محمد محمود خليل غنيم | D12: SO | AJ12: =COUNTIF($E12:$AI12,"P") | AK12: =COUNTIF($E12:$AI12,"غ") | AL12: =COUNTIF($E12:$AI12,"إ") | AM12: =COUNTIF($E12:$AI12,"م") | AN12: =COUNTIF($E12:$AI12,"خ") | AO12: =COUNTIF($E12:$AI12,"د") | AP12: =IF(COUNTA($E12:$AI12)=0,0,SUMPRODUCT(($E$5:$AI$5<>"")*($E12:$AI12=""))) | AQ12: =SUMPRODUCT(SUMIF(الإعدادات!$A$14:$A$19,$E12:$AI12,الإعدادات!$C$14:$C$19)) | AR12: =AQ12+AP12 | AT12: =IF(COUNTA($E12:$AI12)=0,IF(AS12="",0,AS12),IF(AS12="",AR12,AS12)) | AU12: =IFERROR(VLOOKUP($B12,'بيانات الموظفين'!$B$7:$K$65,5,FALSE),0) | AV12: =IF(AU12=0,0,AU12/الإعدادات!$C$7) | AW12: =IF(AT12>=(COUNT($E$5:$AI$5)-الإعدادات!$C$6),AU12+AV12*(AT12-(COUNT($E$5:$AI$5)-الإعدادات!$C$6)),AV12*AT12) | AX12: =AQ12*IFERROR(VLOOKUP($B12,'بيانات الموظفين'!$B$7:$K$65,7,FALSE),الإعدادات!$C$8) | AY12: =IF(COUNTA($E12:$AI12)=0,0,IFERROR(VLOOKUP($B12,'بيانات الموظفين'!$B$7:$K$65,6,FALSE),0)) | BA12: =AZ12*AV12 | BC12: =AV12*الإعدادات!$C$9*SUMPRODUCT(SUMIF(الإعدادات!$A$14:$A$19,$E12:$AI12,الإعدادات!$C$14:$C$19)*($E$7:$AI$7=1)) | BD12: =AW12+AX12+AY12+BC12-BA12-BB12
A13: 6 | B13: 6 | C13: ربيع محمد أحمد محمد | D13: SO | AJ13: =COUNTIF($E13:$AI13,"P") | AK13: =COUNTIF($E13:$AI13,"غ") | AL13: =COUNTIF($E13:$AI13,"إ") | AM13: =COUNTIF($E13:$AI13,"م") | AN13: =COUNTIF($E13:$AI13,"خ") | AO13: =COUNTIF($E13:$AI13,"د") | AP13: =IF(COUNTA($E13:$AI13)=0,0,SUMPRODUCT(($E$5:$AI$5<>"")*($E13:$AI13=""))) | AQ13: =SUMPRODUCT(SUMIF(الإعدادات!$A$14:$A$19,$E13:$AI13,الإعدادات!$C$14:$C$19)) | AR13: =AQ13+AP13 | AT13: =IF(COUNTA($E13:$AI13)=0,IF(AS13="",0,AS13),IF(AS13="",AR13,AS13)) | AU13: =IFERROR(VLOOKUP($B13,'بيانات الموظفين'!$B$7:$K$65,5,FALSE),0) | AV13: =IF(AU13=0,0,AU13/الإعدادات!$C$7) | AW13: =IF(AT13>=(COUNT($E$5:$AI$5)-الإعدادات!$C$6),AU13+AV13*(AT13-(COUNT($E$5:$AI$5)-الإعدادات!$C$6)),AV13*AT13) | AX13: =AQ13*IFERROR(VLOOKUP($B13,'بيانات الموظفين'!$B$7:$K$65,7,FALSE),الإعدادات!$C$8) | AY13: =IF(COUNTA($E13:$AI13)=0,0,IFERROR(VLOOKUP($B13,'بيانات الموظفين'!$B$7:$K$65,6,FALSE),0)) | BA13: =AZ13*AV13 | BC13: =AV13*الإعدادات!$C$9*SUMPRODUCT(SUMIF(الإعدادات!$A$14:$A$19,$E13:$AI13,الإعدادات!$C$14:$C$19)*($E$7:$AI$7=1)) | BD13: =AW13+AX13+AY13+BC13-BA13-BB13
A14: 7 | B14: 7 | C14: حماده محمد محمد عبد الباقي | D14: SO | AJ14: =COUNTIF($E14:$AI14,"P") | AK14: =COUNTIF($E14:$AI14,"غ") | AL14: =COUNTIF($E14:$AI14,"إ") | AM14: =COUNTIF($E14:$AI14,"م") | AN14: =COUNTIF($E14:$AI14,"خ") | AO14: =COUNTIF($E14:$AI14,"د") | AP14: =IF(COUNTA($E14:$AI14)=0,0,SUMPRODUCT(($E$5:$AI$5<>"")*($E14:$AI14=""))) | AQ14: =SUMPRODUCT(SUMIF(الإعدادات!$A$14:$A$19,$E14:$AI14,الإعدادات!$C$14:$C$19)) | AR14: =AQ14+AP14 | AT14: =IF(COUNTA($E14:$AI14)=0,IF(AS14="",0,AS14),IF(AS14="",AR14,AS14)) | AU14: =IFERROR(VLOOKUP($B14,'بيانات الموظفين'!$B$7:$K$65,5,FALSE),0) | AV14: =IF(AU14=0,0,AU14/الإعدادات!$C$7) | AW14: =IF(AT14>=(COUNT($E$5:$AI$5)-الإعدادات!$C$6),AU14+AV14*(AT14-(COUNT($E$5:$AI$5)-الإعدادات!$C$6)),AV14*AT14) | AX14: =AQ14*IFERROR(VLOOKUP($B14,'بيانات الموظفين'!$B$7:$K$65,7,FALSE),الإعدادات!$C$8) | AY14: =IF(COUNTA($E14:$AI14)=0,0,IFERROR(VLOOKUP($B14,'بيانات الموظفين'!$B$7:$K$65,6,FALSE),0)) | BA14: =AZ14*AV14 | BC14: =AV14*الإعدادات!$C$9*SUMPRODUCT(SUMIF(الإعدادات!$A$14:$A$19,$E14:$AI14,الإعدادات!$C$14:$C$19)*($E$7:$AI$7=1)) | BD14: =AW14+AX14+AY14+BC14-BA14-BB14
A15: 8 | B15: 8 | C15: أيمن أمين أمين حنفي | D15: SO | AJ15: =COUNTIF($E15:$AI15,"P") | AK15: =COUNTIF($E15:$AI15,"غ") | AL15: =COUNTIF($E15:$AI15,"إ") | AM15: =COUNTIF($E15:$AI15,"م") | AN15: =COUNTIF($E15:$AI15,"خ") | AO15: =COUNTIF($E15:$AI15,"د") | AP15: =IF(COUNTA($E15:$AI15)=0,0,SUMPRODUCT(($E$5:$AI$5<>"")*($E15:$AI15=""))) | AQ15: =SUMPRODUCT(SUMIF(الإعدادات!$A$14:$A$19,$E15:$AI15,الإعدادات!$C$14:$C$19)) | AR15: =AQ15+AP15 | AT15: =IF(COUNTA($E15:$AI15)=0,IF(AS15="",0,AS15),IF(AS15="",AR15,AS15)) | AU15: =IFERROR(VLOOKUP($B15,'بيانات الموظفين'!$B$7:$K$65,5,FALSE),0) | AV15: =IF(AU15=0,0,AU15/الإعدادات!$C$7) | AW15: =IF(AT15>=(COUNT($E$5:$AI$5)-الإعدادات!$C$6),AU15+AV15*(AT15-(COUNT($E$5:$AI$5)-الإعدادات!$C$6)),AV15*AT15) | AX15: =AQ15*IFERROR(VLOOKUP($B15,'بيانات الموظفين'!$B$7:$K$65,7,FALSE),الإعدادات!$C$8) | AY15: =IF(COUNTA($E15:$AI15)=0,0,IFERROR(VLOOKUP($B15,'بيانات الموظفين'!$B$7:$K$65,6,FALSE),0)) | BA15: =AZ15*AV15 | BC15: =AV15*الإعدادات!$C$9*SUMPRODUCT(SUMIF(الإعدادات!$A$14:$A$19,$E15:$AI15,الإعدادات!$C$14:$C$19)*($E$7:$AI$7=1)) | BD15: =AW15+AX15+AY15+BC15-BA15-BB15
A16: 9 | B16: 9 | C16: احمد فتحي محمد زيدان | D16: SO | AJ16: =COUNTIF($E16:$AI16,"P") | AK16: =COUNTIF($E16:$AI16,"غ") | AL16: =COUNTIF($E16:$AI16,"إ") | AM16: =COUNTIF($E16:$AI16,"م") | AN16: =COUNTIF($E16:$AI16,"خ") | AO16: =COUNTIF($E16:$AI16,"د") | AP16: =IF(COUNTA($E16:$AI16)=0,0,SUMPRODUCT(($E$5:$AI$5<>"")*($E16:$AI16=""))) | AQ16: =SUMPRODUCT(SUMIF(الإعدادات!$A$14:$A$19,$E16:$AI16,الإعدادات!$C$14:$C$19)) | AR16: =AQ16+AP16 | AT16: =IF(COUNTA($E16:$AI16)=0,IF(AS16="",0,AS16),IF(AS16="",AR16,AS16)) | AU16: =IFERROR(VLOOKUP($B16,'بيانات الموظفين'!$B$7:$K$65,5,FALSE),0) | AV16: =IF(AU16=0,0,AU16/الإعدادات!$C$7) | AW16: =IF(AT16>=(COUNT($E$5:$AI$5)-الإعدادات!$C$6),AU16+AV16*(AT16-(COUNT($E$5:$AI$5)-الإعدادات!$C$6)),AV16*AT16) | AX16: =AQ16*IFERROR(VLOOKUP($B16,'بيانات الموظفين'!$B$7:$K$65,7,FALSE),الإعدادات!$C$8) | AY16: =IF(COUNTA($E16:$AI16)=0,0,IFERROR(VLOOKUP($B16,'بيانات الموظفين'!$B$7:$K$65,6,FALSE),0)) | BA16: =AZ16*AV16 | BC16: =AV16*الإعدادات!$C$9*SUMPRODUCT(SUMIF(الإعدادات!$A$14:$A$19,$E16:$AI16,الإعدادات!$C$14:$C$19)*($E$7:$AI$7=1)) | BD16: =AW16+AX16+AY16+BC16-BA16-BB16
A17: 10 | B17: 10 | C17: البدري عبد الكريم محمد حسانين | D17: SO | AJ17: =COUNTIF($E17:$AI17,"P") | AK17: =COUNTIF($E17:$AI17,"غ") | AL17: =COUNTIF($E17:$AI17,"إ") | AM17: =COUNTIF($E17:$AI17,"م") | AN17: =COUNTIF($E17:$AI17,"خ") | AO17: =COUNTIF($E17:$AI17,"د") | AP17: =IF(COUNTA($E17:$AI17)=0,0,SUMPRODUCT(($E$5:$AI$5<>"")*($E17:$AI17=""))) | AQ17: =SUMPRODUCT(SUMIF(الإعدادات!$A$14:$A$19,$E17:$AI17,الإعدادات!$C$14:$C$19)) | AR17: =AQ17+AP17 | AT17: =IF(COUNTA($E17:$AI17)=0,IF(AS17="",0,AS17),IF(AS17="",AR17,AS17)) | AU17: =IFERROR(VLOOKUP($B17,'بيانات الموظفين'!$B$7:$K$65,5,FALSE),0) | AV17: =IF(AU17=0,0,AU17/الإعدادات!$C$7) | AW17: =IF(AT17>=(COUNT($E$5:$AI$5)-الإعدادات!$C$6),AU17+AV17*(AT17-(COUNT($E$5:$AI$5)-الإعدادات!$C$6)),AV17*AT17) | AX17: =AQ17*IFERROR(VLOOKUP($B17,'بيانات الموظفين'!$B$7:$K$65,7,FALSE),الإعدادات!$C$8) | AY17: =IF(COUNTA($E17:$AI17)=0,0,IFERROR(VLOOKUP($B17,'بيانات الموظفين'!$B$7:$K$65,6,FALSE),0)) | BA17: =AZ17*AV17 | BC17: =AV17*الإعدادات!$C$9*SUMPRODUCT(SUMIF(الإعدادات!$A$14:$A$19,$E17:$AI17,الإعدادات!$C$14:$C$19)*($E$7:$AI$7=1)) | BD17: =AW17+AX17+AY17+BC17-BA17-BB17
A18: 11 | B18: 11 | C18: أحمد عبد الرحيم خضري حسين | D18: SO | AJ18: =COUNTIF($E18:$AI18,"P") | AK18: =COUNTIF($E18:$AI18,"غ") | AL18: =COUNTIF($E18:$AI18,"إ") | AM18: =COUNTIF($E18:$AI18,"م") | AN18: =COUNTIF($E18:$AI18,"خ") | AO18: =COUNTIF($E18:$AI18,"د") | AP18: =IF(COUNTA($E18:$AI18)=0,0,SUMPRODUCT(($E$5:$AI$5<>"")*($E18:$AI18=""))) | AQ18: =SUMPRODUCT(SUMIF(الإعدادات!$A$14:$A$19,$E18:$AI18,الإعدادات!$C$14:$C$19)) | AR18: =AQ18+AP18 | AT18: =IF(COUNTA($E18:$AI18)=0,IF(AS18="",0,AS18),IF(AS18="",AR18,AS18)) | AU18: =IFERROR(VLOOKUP($B18,'بيانات الموظفين'!$B$7:$K$65,5,FALSE),0) | AV18: =IF(AU18=0,0,AU18/الإعدادات!$C$7) | AW18: =IF(AT18>=(COUNT($E$5:$AI$5)-الإعدادات!$C$6),AU18+AV18*(AT18-(COUNT($E$5:$AI$5)-الإعدادات!$C$6)),AV18*AT18) | AX18: =AQ18*IFERROR(VLOOKUP($B18,'بيانات الموظفين'!$B$7:$K$65,7,FALSE),الإعدادات!$C$8) | AY18: =IF(COUNTA($E18:$AI18)=0,0,IFERROR(VLOOKUP($B18,'بيانات الموظفين'!$B$7:$K$65,6,FALSE),0)) | BA18: =AZ18*AV18 | BC18: =AV18*الإعدادات!$C$9*SUMPRODUCT(SUMIF(الإعدادات!$A$14:$A$19,$E18:$AI18,الإعدادات!$C$14:$C$19)*($E$7:$AI$7=1)) | BD18: =AW18+AX18+AY18+BC18-BA18-BB18
A19: 12 | B19: 12 | C19: محمد سلطان النطري محمد | D19: SO | AJ19: =COUNTIF($E19:$AI19,"P") | AK19: =COUNTIF($E19:$AI19,"غ") | AL19: =COUNTIF($E19:$AI19,"إ") | AM19: =COUNTIF($E19:$AI19,"م") | AN19: =COUNTIF($E19:$AI19,"خ") | AO19: =COUNTIF($E19:$AI19,"د") | AP19: =IF(COUNTA($E19:$AI19)=0,0,SUMPRODUCT(($E$5:$AI$5<>"")*($E19:$AI19=""))) | AQ19: =SUMPRODUCT(SUMIF(الإعدادات!$A$14:$A$19,$E19:$AI19,الإعدادات!$C$14:$C$19)) | AR19: =AQ19+AP19 | AT19: =IF(COUNTA($E19:$AI19)=0,IF(AS19="",0,AS19),IF(AS19="",AR19,AS19)) | AU19: =IFERROR(VLOOKUP($B19,'بيانات الموظفين'!$B$7:$K$65,5,FALSE),0) | AV19: =IF(AU19=0,0,AU19/الإعدادات!$C$7) | AW19: =IF(AT19>=(COUNT($E$5:$AI$5)-الإعدادات!$C$6),AU19+AV19*(AT19-(COUNT($E$5:$AI$5)-الإعدادات!$C$6)),AV19*AT19) | AX19: =AQ19*IFERROR(VLOOKUP($B19,'بيانات الموظفين'!$B$7:$K$65,7,FALSE),الإعدادات!$C$8) | AY19: =IF(COUNTA($E19:$AI19)=0,0,IFERROR(VLOOKUP($B19,'بيانات الموظفين'!$B$7:$K$65,6,FALSE),0)) | BA19: =AZ19*AV19 | BC19: =AV19*الإعدادات!$C$9*SUMPRODUCT(SUMIF(الإعدادات!$A$14:$A$19,$E19:$AI19,الإعدادات!$C$14:$C$19)*($E$7:$AI$7=1)) | BD19: =AW19+AX19+AY19+BC19-BA19-BB19
... A66: 59 | B66: 59 | C66: حسن محمد حسن حسيني | D66: SO | AJ66: =COUNTIF($E66:$AI66,"P") | AK66: =COUNTIF($E66:$AI66,"غ") | AL66: =COUNTIF($E66:$AI66,"إ") | AM66: =COUNTIF($E66:$AI66,"م") | AN66: =COUNTIF($E66:$AI66,"خ") | AO66: =COUNTIF($E66:$AI66,"د") | AP66: =IF(COUNTA($E66:$AI66)=0,0,SUMPRODUCT(($E$5:$AI$5<>"")*($E66:$AI66=""))) | AQ66: =SUMPRODUCT(SUMIF(الإعدادات!$A$14:$A$19,$E66:$AI66,الإعدادات!$C$14:$C$19)) | AR66: =AQ66+AP66 | AT66: =IF(COUNTA($E66:$AI66)=0,IF(AS66="",0,AS66),IF(AS66="",AR66,AS66)) | AU66: =IFERROR(VLOOKUP($B66,'بيانات الموظفين'!$B$7:$K$65,5,FALSE),0) | AV66: =IF(AU66=0,0,AU66/الإعدادات!$C$7) | AW66: =IF(AT66>=(COUNT($E$5:$AI$5)-الإعدادات!$C$6),AU66+AV66*(AT66-(COUNT($E$5:$AI$5)-الإعدادات!$C$6)),AV66*AT66) | AX66: =AQ66*IFERROR(VLOOKUP($B66,'بيانات الموظفين'!$B$7:$K$65,7,FALSE),الإعدادات!$C$8) | AY66: =IF(COUNTA($E66:$AI66)=0,0,IFERROR(VLOOKUP($B66,'بيانات الموظفين'!$B$7:$K$65,6,FALSE),0)) | BA66: =AZ66*AV66 | BC66: =AV66*الإعدادات!$C$9*SUMPRODUCT(SUMIF(الإعدادات!$A$14:$A$19,$E66:$AI66,الإعدادات!$C$14:$C$19)*($E$7:$AI$7=1)) | BD66: =AW66+AX66+AY66+BC66-BA66-BB66
A67: الإجمالي — 59 موظفًا | AJ67: =SUM(AJ8:AJ66) | AK67: =SUM(AK8:AK66) | AL67: =SUM(AL8:AL66) | AM67: =SUM(AM8:AM66) | AN67: =SUM(AN8:AN66) | AO67: =SUM(AO8:AO66) | AP67: =SUM(AP8:AP66) | AQ67: =SUM(AQ8:AQ66) | ... AU67: =SUM(AU8:AU66) | AW67: =SUM(AW8:AW66) | AX67: =SUM(AX8:AX66) | AY67: =SUM(AY8:AY66) | AZ67: =SUM(AZ8:AZ66) | BA67: =SUM(BA8:BA66) | BB67: =SUM(BB8:BB66) | BC67: =SUM(BC8:BC66) | BD67: =SUM(BD8:BD66)
A69: طريقة الحساب: قيمة اليوم = الراتب الأساسي ÷ 30 • أجر الأيام = قيمة اليوم × الأيام النهائية، وإذا زادت الأيام عن أيام المعيار (أيام الشهر − 4) يُضاف الفرق بأجر اليوم • الوجبات = أيام الحضور × بدل الوجبة اليومي • بدل العطلة = قيمة اليوم × 2 لكل يوم عطلة حضر فيه الموظف • الصافي = أجر الأيام + الوجبات + بدل التأمين + بدل العطلة − قيمة الجزاء − أي خصم آخر • عمود «تعديل يدوي» للموظف الجديد أو منتصف الشهر ويُلغي الحساب التلقائي للأيام. تنبيه: الخانة الفارغة تُعدّ يوم راحة مدفوعًا — لا تترك يوم غياب فارغًا، بل سجّله «غ».
A71: إعداد المحاسب: ________________ | S71: مراجعة: ________________ | AK71: اعتماد المدير: ________________

Sheet 02-فبراير
A1: مسير رواتب شهر فبراير 2026 — شركة أرمسترونج | فرع 10 رمضان | موقع التجمعات
A2: أيام الشهر: 28 • أيام المعيار: 24 • بدل الوجبة: 30 ج.م/يوم • قيمة اليوم = الأساسي ÷ 30 • معامل العطلة: 2
A3: الرموز: P حاضر • غ غياب • إ إجازة • م مرضية • خ نصف يوم • د دبل شيفت — والخانة الفارغة = راحة (تُحتسب ضمن الشهر ولا تُحتسب حضورًا)
A5: م | B5: الكود | C5: اسم الموظف | D5: الوظيفة | E5: 1 | F5: 2 | G5: 3 | H5: 4 | I5: 5 | J5: 6 | K5: 7 | L5: 8 | M5: 9 | N5: 10 | O5: 11 | P5: 12 | Q5: 13 | R5: 14 | S5: 15 | T5: 16 | U5: 17 | V5: 18 | W5: 19 | X5: 20 | Y5: 21 | Z5: 22 | AA5: 23 | AB5: 24 | AC5: 25 | AD5: 26 | AE5: 27 | AF5: 28 | AJ5: بيانات الحضور | AR5: أيام الاستحقاق | AU5: الأجر | AX5: البدلات | AZ5: الاستقطاعات | BC5: بدل العطلة | BD5: الصافي المستحق
E6: أ | F6: ن | G6: ث | H6: ر | I6: خ | J6: ج | K6: س | L6: أ | M6: ن | N6: ث | O6: ر | P6: خ | Q6: ج | R6: س | S6: أ | T6: ن | U6: ث | V6: ر | W6: خ | X6: ج | Y6: س | Z6: أ | AA6: ن | AB6: ث | AC6: ر | AD6: خ | AE6: ج | AF6: س | AJ6: حاضر | AK6: غياب | AL6: إجازة | AM6: مرضية | AN6: نصف يوم | AO6: دبل | AP6: راحة (فراغ) | AQ6: أيام الحضور | AR6: أيام محتسبة (تلقائي) | AS6: تعديل يدوي | AT6: الأيام النهائية | AU6: الراتب الأساسي | AV6: قيمة اليوم | AW6: أجر الأيام | AX6: الوجبات | AY6: بدل التأمين (+) | AZ6: جزاء (أيام) | BA6: قيمة الجزاء | BB6: خصم آخر (مبلغ)
A7: عطلة رسمية (1 = يوم عطلة مدفوع بالمعامل) | E7: =IF(COUNTIFS(الإعدادات!$B$23:$B$60,2,الإعدادات!$C$23:$C$60,E$5)>0,1,0) | F7: =IF(COUNTIFS(الإعدادات!$B$23:$B$60,2,الإعدادات!$C$23:$C$60,F$5)>0,1,0) | G7: =IF(COUNTIFS(الإعدادات!$B$23:$B$60,2,الإعدادات!$C$23:$C$60,G$5)>0,1,0) | H7: =IF(COUNTIFS(الإعدادات!$B$23:$B$60,2,الإعدادات!$C$23:$C$60,H$5)>0,1,0) | I7: =IF(COUNTIFS(الإعدادات!$B$23:$B$60,2,الإعدادات!$C$23:$C$60,I$5)>0,1,0) | J7: =IF(COUNTIFS(الإعدادات!$B$23:$B$60,2,الإعدادات!$C$23:$C$60,J$5)>0,1,0) | K7: =IF(COUNTIFS(الإعدادات!$B$23:$B$60,2,الإعدادات!$C$23:$C$60,K$5)>0,1,0) | L7: =IF(COUNTIFS(الإعدادات!$B$23:$B$60,2,الإعدادات!$C$23:$C$60,L$5)>0,1,0) | ... AF7: =IF(COUNTIFS(الإعدادات!$B$23:$B$60,2,الإعدادات!$C$23:$C$60,AF$5)>0,1,0)
A8: 1 | B8: 1 | C8: صابر محمود محمد حسن | D8: SO | AJ8: =COUNTIF($E8:$AI8,"P") | AK8: =COUNTIF($E8:$AI8,"غ") | AL8: =COUNTIF($E8:$AI8,"إ") | AM8: =COUNTIF($E8:$AI8,"م") | AN8: =COUNTIF($E8:$AI8,"خ") | AO8: =COUNTIF($E8:$AI8,"د") | AP8: =IF(COUNTA($E8:$AI8)=0,0,SUMPRODUCT(($E$5:$AI$5<>"")*($E8:$AI8=""))) | AQ8: =SUMPRODUCT(SUMIF(الإعدادات!$A$14:$A$19,$E8:$AI8,الإعدادات!$C$14:$C$19)) | AR8: =AQ8+AP8 | AT8: =IF(COUNTA($E8:$AI8)=0,IF(AS8="",0,AS8),IF(AS8="",AR8,AS8)) | AU8: =IFERROR(VLOOKUP($B8,'بيانات الموظفين'!$B$7:$K$65,5,FALSE),0) | AV8: =IF(AU8=0,0,AU8/الإعدادات!$C$7) | AW8: =IF(AT8>=(COUNT($E$5:$AI$5)-الإعدادات!$C$6),AU8+AV8*(AT8-(COUNT($E$5:$AI$5)-الإعدادات!$C$6)),AV8*AT8) | AX8: =AQ8*IFERROR(VLOOKUP($B8,'بيانات الموظفين'!$B$7:$K$65,7,FALSE),الإعدادات!$C$8) | AY8: =IF(COUNTA($E8:$AI8)=0,0,IFERROR(VLOOKUP($B8,'بيانات الموظفين'!$B$7:$K$65,6,FALSE),0)) | BA8: =AZ8*AV8 | BC8: =AV8*الإعدادات!$C$9*SUMPRODUCT(SUMIF(الإعدادات!$A$14:$A$19,$E8:$AI8,الإعدادات!$C$14:$C$19)*($E$7:$AI$7=1)) | BD8: =AW8+AX8+AY8+BC8-BA8-BB8
A9: 2 | B9: 2 | C9: ناجي محمد حسن ابو العزم | D9: SO | AJ9: =COUNTIF($E9:$AI9,"P") | AK9: =COUNTIF($E9:$AI9,"غ") | AL9: =COUNTIF($E9:$AI9,"إ") | AM9: =COUNTIF($E9:$AI9,"م") | AN9: =COUNTIF($E9:$AI9,"خ") | AO9: =COUNTIF($E9:$AI9,"د") | AP9: =IF(COUNTA($E9:$AI9)=0,0,SUMPRODUCT(($E$5:$AI$5<>"")*($E9:$AI9=""))) | AQ9: =SUMPRODUCT(SUMIF(الإعدادات!$A$14:$A$19,$E9:$AI9,الإعدادات!$C$14:$C$19)) | AR9: =AQ9+AP9 | AT9: =IF(COUNTA($E9:$AI9)=0,IF(AS9="",0,AS9),IF(AS9="",AR9,AS9)) | AU9: =IFERROR(VLOOKUP($B9,'بيانات الموظفين'!$B$7:$K$65,5,FALSE),0) | AV9: =IF(AU9=0,0,AU9/الإعدادات!$C$7) | AW9: =IF(AT9>=(COUNT($E$5:$AI$5)-الإعدادات!$C$6),AU9+AV9*(AT9-(COUNT($E$5:$AI$5)-الإعدادات!$C$6)),AV9*AT9) | AX9: =AQ9*IFERROR(VLOOKUP($B9,'بيانات الموظفين'!$B$7:$K$65,7,FALSE),الإعدادات!$C$8) | AY9: =IF(COUNTA($E9:$AI9)=0,0,IFERROR(VLOOKUP($B9,'بيانات الموظفين'!$B$7:$K$65,6,FALSE),0)) | BA9: =AZ9*AV9 | BC9: =AV9*الإعدادات!$C$9*SUMPRODUCT(SUMIF(الإعدادات!$A$14:$A$19,$E9:$AI9,الإعدادات!$C$14:$C$19)*($E$7:$AI$7=1)) | BD9: =AW9+AX9+AY9+BC9-BA9-BB9
A10: 3 | B10: 3 | C10: طه سامي طه تله | D10: SO | AJ10: =COUNTIF($E10:$AI10,"P") | AK10: =COUNTIF($E10:$AI10,"غ") | AL10: =COUNTIF($E10:$AI10,"إ") | AM10: =COUNTIF($E10:$AI10,"م") | AN10: =COUNTIF($E10:$AI10,"خ") | AO10: =COUNTIF($E10:$AI10,"د") | AP10: =IF(COUNTA($E10:$AI10)=0,0,SUMPRODUCT(($E$5:$AI$5<>"")*($E10:$AI10=""))) | AQ10: =SUMPRODUCT(SUMIF(الإعدادات!$A$14:$A$19,$E10:$AI10,الإعدادات!$C$14:$C$19)) | AR10: =AQ10+AP10 | AT10: =IF(COUNTA($E10:$AI10)=0,IF(AS10="",0,AS10),IF(AS10="",AR10,AS10)) | AU10: =IFERROR(VLOOKUP($B10,'بيانات الموظفين'!$B$7:$K$65,5,FALSE),0) | AV10: =IF(AU10=0,0,AU10/الإعدادات!$C$7) | AW10: =IF(AT10>=(COUNT($E$5:$AI$5)-الإعدادات!$C$6),AU10+AV10*(AT10-(COUNT($E$5:$AI$5)-الإعدادات!$C$6)),AV10*AT10) | AX10: =AQ10*IFERROR(VLOOKUP($B10,'بيانات الموظفين'!$B$7:$K$65,7,FALSE),الإعدادات!$C$8) | AY10: =IF(COUNTA($E10:$AI10)=0,0,IFERROR(VLOOKUP($B10,'بيانات الموظفين'!$B$7:$K$65,6,FALSE),0)) | BA10: =AZ10*AV10 | BC10: =AV10*الإعدادات!$C$9*SUMPRODUCT(SUMIF(الإعدادات!$A$14:$A$19,$E10:$AI10,الإعدادات!$C$14:$C$19)*($E$7:$AI$7=1)) | BD10: =AW10+AX10+AY10+BC10-BA10-BB10
A11: 4 | B11: 4 | C11: مصطفي ربيع محمد حسن | D11: SO | AJ11: =COUNTIF($E11:$AI11,"P") | AK11: =COUNTIF($E11:$AI11,"غ") | AL11: =COUNTIF($E11:$AI11,"إ") | AM11: =COUNTIF($E11:$AI11,"م") | AN11: =COUNTIF($E11:$AI11,"خ") | AO11: =COUNTIF($E11:$AI11,"د") | AP11: =IF(COUNTA($E11:$AI11)=0,0,SUMPRODUCT(($E$5:$AI$5<>"")*($E11:$AI11=""))) | AQ11: =SUMPRODUCT(SUMIF(الإعدادات!$A$14:$A$19,$E11:$AI11,الإعدادات!$C$14:$C$19)) | AR11: =AQ11+AP11 | AT11: =IF(COUNTA($E11:$AI11)=0,IF(AS11="",0,AS11),IF(AS11="",AR11,AS11)) | AU11: =IFERROR(VLOOKUP($B11,'بيانات الموظفين'!$B$7:$K$65,5,FALSE),0) | AV11: =IF(AU11=0,0,AU11/الإعدادات!$C$7) | AW11: =IF(AT11>=(COUNT($E$5:$AI$5)-الإعدادات!$C$6),AU11+AV11*(AT11-(COUNT($E$5:$AI$5)-الإعدادات!$C$6)),AV11*AT11) | AX11: =AQ11*IFERROR(VLOOKUP($B11,'بيانات الموظفين'!$B$7:$K$65,7,FALSE),الإعدادات!$C$8) | AY11: =IF(COUNTA($E11:$AI11)=0,0,IFERROR(VLOOKUP($B11,'بيانات الموظفين'!$B$7:$K$65,6,FALSE),0)) | BA11: =AZ11*AV11 | BC11: =AV11*الإعدادات!$C$9*SUMPRODUCT(SUMIF(الإعدادات!$A$14:$A$19,$E11:$AI11,الإعدادات!$C$14:$C$19)*($E$7:$AI$7=1)) | BD11: =AW11+AX11+AY11+BC11-BA11-BB11
A12: 5 | B12: 5 | C12: محمد محمود خليل غنيم | D12: SO | AJ12: =COUNTIF($E12:$AI12,"P") | AK12: =COUNTIF($E12:$AI12,"غ") | AL12: =COUNTIF($E12:$AI12,"إ") | AM12: =COUNTIF($E12:$AI12,"م") | AN12: =COUNTIF($E12:$AI12,"خ") | AO12: =COUNTIF($E12:$AI12,"د") | AP12: =IF(COUNTA($E12:$AI12)=0,0,SUMPRODUCT(($E$5:$AI$5<>"")*($E12:$AI12=""))) | AQ12: =SUMPRODUCT(SUMIF(الإعدادات!$A$14:$A$19,$E12:$AI12,الإعدادات!$C$14:$C$19)) | AR12: =AQ12+AP12 | AT12: =IF(COUNTA($E12:$AI12)=0,IF(AS12="",0,AS12),IF(AS12="",AR12,AS12)) | AU12: =IFERROR(VLOOKUP($B12,'بيانات الموظفين'!$B$7:$K$65,5,FALSE),0) | AV12: =IF(AU12=0,0,AU12/الإعدادات!$C$7) | AW12: =IF(AT12>=(COUNT($E$5:$AI$5)-الإعدادات!$C$6),AU12+AV12*(AT12-(COUNT($E$5:$AI$5)-الإعدادات!$C$6)),AV12*AT12) | AX12: =AQ12*IFERROR(VLOOKUP($B12,'بيانات الموظفين'!$B$7:$K$65,7,FALSE),الإعدادات!$C$8) | AY12: =IF(COUNTA($E12:$AI12)=0,0,IFERROR(VLOOKUP($B12,'بيانات الموظفين'!$B$7:$K$65,6,FALSE),0)) | BA12: =AZ12*AV12 | BC12: =AV12*الإعدادات!$C$9*SUMPRODUCT(SUMIF(الإعدادات!$A$14:$A$19,$E12:$AI12,الإعدادات!$C$14:$C$19)*($E$7:$AI$7=1)) | BD12: =AW12+AX12+AY12+BC12-BA12-BB12
A13: 6 | B13: 6 | C13: ربيع محمد أحمد محمد | D13: SO | AJ13: =COUNTIF($E13:$AI13,"P") | AK13: =COUNTIF($E13:$AI13,"غ") | AL13: =COUNTIF($E13:$AI13,"إ") | AM13: =COUNTIF($E13:$AI13,"م") | AN13: =COUNTIF($E13:$AI13,"خ") | AO13: =COUNTIF($E13:$AI13,"د") | AP13: =IF(COUNTA($E13:$AI13)=0,0,SUMPRODUCT(($E$5:$AI$5<>"")*($E13:$AI13=""))) | AQ13: =SUMPRODUCT(SUMIF(الإعدادات!$A$14:$A$19,$E13:$AI13,الإعدادات!$C$14:$C$19)) | AR13: =AQ13+AP13 | AT13: =IF(COUNTA($E13:$AI13)=0,IF(AS13="",0,AS13),IF(AS13="",AR13,AS13)) | AU13: =IFERROR(VLOOKUP($B13,'بيانات الموظفين'!$B$7:$K$65,5,FALSE),0) | AV13: =IF(AU13=0,0,AU13/الإعدادات!$C$7) | AW13: =IF(AT13>=(COUNT($E$5:$AI$5)-الإعدادات!$C$6),AU13+AV13*(AT13-(COUNT($E$5:$AI$5)-الإعدادات!$C$6)),AV13*AT13) | AX13: =AQ13*IFERROR(VLOOKUP($B13,'بيانات الموظفين'!$B$7:$K$65,7,FALSE),الإعدادات!$C$8) | AY13: =IF(COUNTA($E13:$AI13)=0,0,IFERROR(VLOOKUP($B13,'بيانات الموظفين'!$B$7:$K$65,6,FALSE),0)) | BA13: =AZ13*AV13 | BC13: =AV13*الإعدادات!$C$9*SUMPRODUCT(SUMIF(الإعدادات!$A$14:$A$19,$E13:$AI13,الإعدادات!$C$14:$C$19)*($E$7:$AI$7=1)) | BD13: =AW13+AX13+AY13+BC13-BA13-BB13
A14: 7 | B14: 7 | C14: حماده محمد محمد عبد الباقي | D14: SO | AJ14: =COUNTIF($E14:$AI14,"P") | AK14: =COUNTIF($E14:$AI14,"غ") | AL14: =COUNTIF($E14:$AI14,"إ") | AM14: =COUNTIF($E14:$AI14,"م") | AN14: =COUNTIF($E14:$AI14,"خ") | AO14: =COUNTIF($E14:$AI14,"د") | AP14: =IF(COUNTA($E14:$AI14)=0,0,SUMPRODUCT(($E$5:$AI$5<>"")*($E14:$AI14=""))) | AQ14: =SUMPRODUCT(SUMIF(الإعدادات!$A$14:$A$19,$E14:$AI14,الإعدادات!$C$14:$C$19)) | AR14: =AQ14+AP14 | AT14: =IF(COUNTA($E14:$AI14)=0,IF(AS14="",0,AS14),IF(AS14="",AR14,AS14)) | AU14: =IFERROR(VLOOKUP($B14,'بيانات الموظفين'!$B$7:$K$65,5,FALSE),0) | AV14: =IF(AU14=0,0,AU14/الإعدادات!$C$7) | AW14: =IF(AT14>=(COUNT($E$5:$AI$5)-الإعدادات!$C$6),AU14+AV14*(AT14-(COUNT($E$5:$AI$5)-الإعدادات!$C$6)),AV14*AT14) | AX14: =AQ14*IFERROR(VLOOKUP($B14,'بيانات الموظفين'!$B$7:$K$65,7,FALSE),الإعدادات!$C$8) | AY14: =IF(COUNTA($E14:$AI14)=0,0,IFERROR(VLOOKUP($B14,'بيانات الموظفين'!$B$7:$K$65,6,FALSE),0)) | BA14: =AZ14*AV14 | BC14: =AV14*الإعدادات!$C$9*SUMPRODUCT(SUMIF(الإعدادات!$A$14:$A$19,$E14:$AI14,الإعدادات!$C$14:$C$19)*($E$7:$AI$7=1)) | BD14: =AW14+AX14+AY14+BC14-BA14-BB14
A15: 8 | B15: 8 | C15: أيمن أمين أمين حنفي | D15: SO | AJ15: =COUNTIF($E15:$AI15,"P") | AK15: =COUNTIF($E15:$AI15,"غ") | AL15: =COUNTIF($E15:$AI15,"إ") | AM15: =COUNTIF($E15:$AI15,"م") | AN15: =COUNTIF($E15:$AI15,"خ") | AO15: =COUNTIF($E15:$AI15,"د") | AP15: =IF(COUNTA($E15:$AI15)=0,0,SUMPRODUCT(($E$5:$AI$5<>"")*($E15:$AI15=""))) | AQ15: =SUMPRODUCT(SUMIF(الإعدادات!$A$14:$A$19,$E15:$AI15,الإعدادات!$C$14:$C$19)) | AR15: =AQ15+AP15 | AT15: =IF(COUNTA($E15:$AI15)=0,IF(AS15="",0,AS15),IF(AS15="",AR15,AS15)) | AU15: =IFERROR(VLOOKUP($B15,'بيانات الموظفين'!$B$7:$K$65,5,FALSE),0) | AV15: =IF(AU15=0,0,AU15/الإعدادات!$C$7) | AW15: =IF(AT15>=(COUNT($E$5:$AI$5)-الإعدادات!$C$6),AU15+AV15*(AT15-(COUNT($E$5:$AI$5)-الإعدادات!$C$6)),AV15*AT15) | AX15: =AQ15*IFERROR(VLOOKUP($B15,'بيانات الموظفين'!$B$7:$K$65,7,FALSE),الإعدادات!$C$8) | AY15: =IF(COUNTA($E15:$AI15)=0,0,IFERROR(VLOOKUP($B15,'بيانات الموظفين'!$B$7:$K$65,6,FALSE),0)) | BA15: =AZ15*AV15 | BC15: =AV15*الإعدادات!$C$9*SUMPRODUCT(SUMIF(الإعدادات!$A$14:$A$19,$E15:$AI15,الإعدادات!$C$14:$C$19)*($E$7:$AI$7=1)) | BD15: =AW15+AX15+AY15+BC15-BA15-BB15
A16: 9 | B16: 9 | C16: احمد فتحي محمد زيدان | D16: SO | AJ16: =COUNTIF($E16:$AI16,"P") | AK16: =COUNTIF($E16:$AI16,"غ") | AL16: =COUNTIF($E16:$AI16,"إ") | AM16: =COUNTIF($E16:$AI16,"م") | AN16: =COUNTIF($E16:$AI16,"خ") | AO16: =COUNTIF($E16:$AI16,"د") | AP16: =IF(COUNTA($E16:$AI16)=0,0,SUMPRODUCT(($E$5:$AI$5<>"")*($E16:$AI16=""))) | AQ16: =SUMPRODUCT(SUMIF(الإعدادات!$A$14:$A$19,$E16:$AI16,الإعدادات!$C$14:$C$19)) | AR16: =AQ16+AP16 | AT16: =IF(COUNTA($E16:$AI16)=0,IF(AS16="",0,AS16),IF(AS16="",AR16,AS16)) | AU16: =IFERROR(VLOOKUP($B16,'بيانات الموظفين'!$B$7:$K$65,5,FALSE),0) | AV16: =IF(AU16=0,0,AU16/الإعدادات!$C$7) | AW16: =IF(AT16>=(COUNT($E$5:$AI$5)-الإعدادات!$C$6),AU16+AV16*(AT16-(COUNT($E$5:$AI$5)-الإعدادات!$C$6)),AV16*AT16) | AX16: =AQ16*IFERROR(VLOOKUP($B16,'بيانات الموظفين'!$B$7:$K$65,7,FALSE),الإعدادات!$C$8) | AY16: =IF(COUNTA($E16:$AI16)=0,0,IFERROR(VLOOKUP($B16,'بيانات الموظفين'!$B$7:$K$65,6,FALSE),0)) | BA16: =AZ16*AV16 | BC16: =AV16*الإعدادات!$C$9*SUMPRODUCT(SUMIF(الإعدادات!$A$14:$A$19,$E16:$AI16,الإعدادات!$C$14:$C$19)*($E$7:$AI$7=1)) | BD16: =AW16+AX16+AY16+BC16-BA16-BB16
A17: 10 | B17: 10 | C17: البدري عبد الكريم محمد حسانين | D17: SO | AJ17: =COUNTIF($E17:$AI17,"P") | AK17: =COUNTIF($E17:$AI17,"غ") | AL17: =COUNTIF($E17:$AI17,"إ") | AM17: =COUNTIF($E17:$AI17,"م") | AN17: =COUNTIF($E17:$AI17,"خ") | AO17: =COUNTIF($E17:$AI17,"د") | AP17: =IF(COUNTA($E17:$AI17)=0,0,SUMPRODUCT(($E$5:$AI$5<>"")*($E17:$AI17=""))) | AQ17: =SUMPRODUCT(SUMIF(الإعدادات!$A$14:$A$19,$E17:$AI17,الإعدادات!$C$14:$C$19)) | AR17: =AQ17+AP17 | AT17: =IF(COUNTA($E17:$AI17)=0,IF(AS17="",0,AS17),IF(AS17="",AR17,AS17)) | AU17: =IFERROR(VLOOKUP($B17,'بيانات الموظفين'!$B$7:$K$65,5,FALSE),0) | AV17: =IF(AU17=0,0,AU17/الإعدادات!$C$7) | AW17: =IF(AT17>=(COUNT($E$5:$AI$5)-الإعدادات!$C$6),AU17+AV17*(AT17-(COUNT($E$5:$AI$5)-الإعدادات!$C$6)),AV17*AT17) | AX17: =AQ17*IFERROR(VLOOKUP($B17,'بيانات الموظفين'!$B$7:$K$65,7,FALSE),الإعدادات!$C$8) | AY17: =IF(COUNTA($E17:$AI17)=0,0,IFERROR(VLOOKUP($B17,'بيانات الموظفين'!$B$7:$K$65,6,FALSE),0)) | BA17: =AZ17*AV17 | BC17: =AV17*الإعدادات!$C$9*SUMPRODUCT(SUMIF(الإعدادات!$A$14:$A$19,$E17:$AI17,الإعدادات!$C$14:$C$19)*($E$7:$AI$7=1)) | BD17: =AW17+AX17+AY17+BC17-BA17-BB17
A18: 11 | B18: 11 | C18: أحمد عبد الرحيم خضري حسين | D18: SO | AJ18: =COUNTIF($E18:$AI18,"P") | AK18: =COUNTIF($E18:$AI18,"غ") | AL18: =COUNTIF($E18:$AI18,"إ") | AM18: =COUNTIF($E18:$AI18,"م") | AN18: =COUNTIF($E18:$AI18,"خ") | AO18: =COUNTIF($E18:$AI18,"د") | AP18: =IF(COUNTA($E18:$AI18)=0,0,SUMPRODUCT(($E$5:$AI$5<>"")*($E18:$AI18=""))) | AQ18: =SUMPRODUCT(SUMIF(الإعدادات!$A$14:$A$19,$E18:$AI18,الإعدادات!$C$14:$C$19)) | AR18: =AQ18+AP18 | AT18: =IF(COUNTA($E18:$AI18)=0,IF(AS18="",0,AS18),IF(AS18="",AR18,AS18)) | AU18: =IFERROR(VLOOKUP($B18,'بيانات الموظفين'!$B$7:$K$65,5,FALSE),0) | AV18: =IF(AU18=0,0,AU18/الإعدادات!$C$7) | AW18: =IF(AT18>=(COUNT($E$5:$AI$5)-الإعدادات!$C$6),AU18+AV18*(AT18-(COUNT($E$5:$AI$5)-الإعدادات!$C$6)),AV18*AT18) | AX18: =AQ18*IFERROR(VLOOKUP($B18,'بيانات الموظفين'!$B$7:$K$65,7,FALSE),الإعدادات!$C$8) | AY18: =IF(COUNTA($E18:$AI18)=0,0,IFERROR(VLOOKUP($B18,'بيانات الموظفين'!$B$7:$K$65,6,FALSE),0)) | BA18: =AZ18*AV18 | BC18: =AV18*الإعدادات!$C$9*SUMPRODUCT(SUMIF(الإعدادات!$A$14:$A$19,$E18:$AI18,الإعدادات!$C$14:$C$19)*($E$7:$AI$7=1)) | BD18: =AW18+AX18+AY18+BC18-BA18-BB18
A19: 12 | B19: 12 | C19: محمد سلطان النطري محمد | D19: SO | AJ19: =COUNTIF($E19:$AI19,"P") | AK19: =COUNTIF($E19:$AI19,"غ") | AL19: =COUNTIF($E19:$AI19,"إ") | AM19: =COUNTIF($E19:$AI19,"م") | AN19: =COUNTIF($E19:$AI19,"خ") | AO19: =COUNTIF($E19:$AI19,"د") | AP19: =IF(COUNTA($E19:$AI19)=0,0,SUMPRODUCT(($E$5:$AI$5<>"")*($E19:$AI19=""))) | AQ19: =SUMPRODUCT(SUMIF(الإعدادات!$A$14:$A$19,$E19:$AI19,الإعدادات!$C$14:$C$19)) | AR19: =AQ19+AP19 | AT19: =IF(COUNTA($E19:$AI19)=0,IF(AS19="",0,AS19),IF(AS19="",AR19,AS19)) | AU19: =IFERROR(VLOOKUP($B19,'بيانات الموظفين'!$B$7:$K$65,5,FALSE),0) | AV19: =IF(AU19=0,0,AU19/الإعدادات!$C$7) | AW19: =IF(AT19>=(COUNT($E$5:$AI$5)-الإعدادات!$C$6),AU19+AV19*(AT19-(COUNT($E$5:$AI$5)-الإعدادات!$C$6)),AV19*AT19) | AX19: =AQ19*IFERROR(VLOOKUP($B19,'بيانات الموظفين'!$B$7:$K$65,7,FALSE),الإعدادات!$C$8) | AY19: =IF(COUNTA($E19:$AI19)=0,0,IFERROR(VLOOKUP($B19,'بيانات الموظفين'!$B$7:$K$65,6,FALSE),0)) | BA19: =AZ19*AV19 | BC19: =AV19*الإعدادات!$C$9*SUMPRODUCT(SUMIF(الإعدادات!$A$14:$A$19,$E19:$AI19,الإعدادات!$C$14:$C$19)*($E$7:$AI$7=1)) | BD19: =AW19+AX19+AY19+BC19-BA19-BB19
... A66: 59 | B66: 59 | C66: حسن محمد حسن حسيني | D66: SO | AJ66: =COUNTIF($E66:$AI66,"P") | AK66: =COUNTIF($E66:$AI66,"غ") | AL66: =COUNTIF($E66:$AI66,"إ") | AM66: =COUNTIF($E66:$AI66,"م") | AN66: =COUNTIF($E66:$AI66,"خ") | AO66: =COUNTIF($E66:$AI66,"د") | AP66: =IF(COUNTA($E66:$AI66)=0,0,SUMPRODUCT(($E$5:$AI$5<>"")*($E66:$AI66=""))) | AQ66: =SUMPRODUCT(SUMIF(الإعدادات!$A$14:$A$19,$E66:$AI66,الإعدادات!$C$14:$C$19)) | AR66: =AQ66+AP66 | AT66: =IF(COUNTA($E66:$AI66)=0,IF(AS66="",0,AS66),IF(AS66="",AR66,AS66)) | AU66: =IFERROR(VLOOKUP($B66,'بيانات الموظفين'!$B$7:$K$65,5,FALSE),0) | AV66: =IF(AU66=0,0,AU66/الإعدادات!$C$7) | AW66: =IF(AT66>=(COUNT($E$5:$AI$5)-الإعدادات!$C$6),AU66+AV66*(AT66-(COUNT($E$5:$AI$5)-الإعدادات!$C$6)),AV66*AT66) | AX66: =AQ66*IFERROR(VLOOKUP($B66,'بيانات الموظفين'!$B$7:$K$65,7,FALSE),الإعدادات!$C$8) | AY66: =IF(COUNTA($E66:$AI66)=0,0,IFERROR(VLOOKUP($B66,'بيانات الموظفين'!$B$7:$K$65,6,FALSE),0)) | BA66: =AZ66*AV66 | BC66: =AV66*الإعدادات!$C$9*SUMPRODUCT(SUMIF(الإعدادات!$A$14:$A$19,$E66:$AI66,الإعدادات!$C$14:$C$19)*($E$7:$AI$7=1)) | BD66: =AW66+AX66+AY66+BC66-BA66-BB66
A67: الإجمالي — 59 موظفًا | AJ67: =SUM(AJ8:AJ66) | AK67: =SUM(AK8:AK66) | AL67: =SUM(AL8:AL66) | AM67: =SUM(AM8:AM66) | AN67: =SUM(AN8:AN66) | AO67: =SUM(AO8:AO66) | AP67: =SUM(AP8:AP66) | AQ67: =SUM(AQ8:AQ66) | ... AU67: =SUM(AU8:AU66) | AW67: =SUM(AW8:AW66) | AX67: =SUM(AX8:AX66) | AY67: =SUM(AY8:AY66) | AZ67: =SUM(AZ8:AZ66) | BA67: =SUM(BA8:BA66) | BB67: =SUM(BB8:BB66) | BC67: =SUM(BC8:BC66) | BD67: =SUM(BD8:BD66)
A69: طريقة الحساب: قيمة اليوم = الراتب الأساسي ÷ 30 • أجر الأيام = قيمة اليوم × الأيام النهائية، وإذا زادت الأيام عن أيام المعيار (أيام الشهر − 4) يُضاف الفرق بأجر اليوم • الوجبات = أيام الحضور × بدل الوجبة اليومي • بدل العطلة = قيمة اليوم × 2 لكل يوم عطلة حضر فيه الموظف • الصافي = أجر الأيام + الوجبات + بدل التأمين + بدل العطلة − قيمة الجزاء − أي خصم آخر • عمود «تعديل يدوي» للموظف الجديد أو منتصف الشهر ويُلغي الحساب التلقائي للأيام. تنبيه: الخانة الفارغة تُعدّ يوم راحة مدفوعًا — لا تترك يوم غياب فارغًا، بل سجّله «غ».
A71: إعداد المحاسب: ________________ | S71: مراجعة: ________________ | AK71: اعتماد المدير: ________________

Sheet 03-مارس
A1: مسير رواتب شهر مارس 2026 — شركة أرمسترونج | فرع 10 رمضان | موقع التجمعات
A2: أيام الشهر: 31 • أيام المعيار: 27 • بدل الوجبة: 30 ج.م/يوم • قيمة اليوم = الأساسي ÷ 30 • معامل العطلة: 2
A3: الرموز: P حاضر • غ غياب • إ إجازة • م مرضية • خ نصف يوم • د دبل شيفت — والخانة الفارغة = راحة (تُحتسب ضمن الشهر ولا تُحتسب حضورًا)
A5: م | B5: الكود | C5: اسم الموظف | D5: الوظيفة | E5: 1 | F5: 2 | G5: 3 | H5: 4 | I5: 5 | J5: 6 | K5: 7 | L5: 8 | M5: 9 | N5: 10 | O5: 11 | P5: 12 | Q5: 13 | R5: 14 | S5: 15 | T5: 16 | U5: 17 | V5: 18 | W5: 19 | X5: 20 | Y5: 21 | Z5: 22 | AA5: 23 | AB5: 24 | AC5: 25 | AD5: 26 | AE5: 27 | AF5: 28 | AG5: 29 | AH5: 30 | AI5: 31 | AJ5: بيانات الحضور | AR5: أيام الاستحقاق | AU5: الأجر | AX5: البدلات | AZ5: الاستقطاعات | BC5: بدل العطلة | BD5: الصافي المستحق
E6: أ | F6: ن | G6: ث | H6: ر | I6: خ | J6: ج | K6: س | L6: أ | M6: ن | N6: ث | O6: ر | P6: خ | Q6: ج | R6: س | S6: أ | T6: ن | U6: ث | V6: ر | W6: خ | X6: ج | Y6: س | Z6: أ | AA6: ن | AB6: ث | AC6: ر | AD6: خ | AE6: ج | AF6: س | AG6: أ | AH6: ن | AI6: ث | AJ6: حاضر | AK6: غياب | AL6: إجازة | AM6: مرضية | AN6: نصف يوم | AO6: دبل | AP6: راحة (فراغ) | AQ6: أيام الحضور | AR6: أيام محتسبة (تلقائي) | AS6: تعديل يدوي | AT6: الأيام النهائية | AU6: الراتب الأساسي | AV6: قيمة اليوم | AW6: أجر الأيام | AX6: الوجبات | AY6: بدل التأمين (+) | AZ6: جزاء (أيام) | BA6: قيمة الجزاء | BB6: خصم آخر (مبلغ)
A7: عطلة رسمية (1 = يوم عطلة مدفوع بالمعامل) | E7: =IF(COUNTIFS(الإعدادات!$B$23:$B$60,3,الإعدادات!$C$23:$C$60,E$5)>0,1,0) | F7: =IF(COUNTIFS(الإعدادات!$B$23:$B$60,3,الإعدادات!$C$23:$C$60,F$5)>0,1,0) | G7: =IF(COUNTIFS(الإعدادات!$B$23:$B$60,3,الإعدادات!$C$23:$C$60,G$5)>0,1,0) | H7: =IF(COUNTIFS(الإعدادات!$B$23:$B$60,3,الإعدادات!$C$23:$C$60,H$5)>0,1,0) | I7: =IF(COUNTIFS(الإعدادات!$B$23:$B$60,3,الإعدادات!$C$23:$C$60,I$5)>0,1,0) | J7: =IF(COUNTIFS(الإعدادات!$B$23:$B$60,3,الإعدادات!$C$23:$C$60,J$5)>0,1,0) | K7: =IF(COUNTIFS(الإعدادات!$B$23:$B$60,3,الإعدادات!$C$23:$C$60,K$5)>0,1,0) | L7: =IF(COUNTIFS(الإعدادات!$B$23:$B$60,3,الإعدادات!$C$23:$C$60,L$5)>0,1,0) | ... AI7: =IF(COUNTIFS(الإعدادات!$B$23:$B$60,3,الإعدادات!$C$23:$C$60,AI$5)>0,1,0)
A8: 1 | B8: 1 | C8: صابر محمود محمد حسن | D8: SO | AJ8: =COUNTIF($E8:$AI8,"P") | AK8: =COUNTIF($E8:$AI8,"غ") | AL8: =COUNTIF($E8:$AI8,"إ") | AM8: =COUNTIF($E8:$AI8,"م") | AN8: =COUNTIF($E8:$AI8,"خ") | AO8: =COUNTIF($E8:$AI8,"د") | AP8: =IF(COUNTA($E8:$AI8)=0,0,SUMPRODUCT(($E$5:$AI$5<>"")*($E8:$AI8=""))) | AQ8: =SUMPRODUCT(SUMIF(الإعدادات!$A$14:$A$19,$E8:$AI8,الإعدادات!$C$14:$C$19)) | AR8: =AQ8+AP8 | AT8: =IF(COUNTA($E8:$AI8)=0,IF(AS8="",0,AS8),IF(AS8="",AR8,AS8)) | AU8: =IFERROR(VLOOKUP($B8,'بيانات الموظفين'!$B$7:$K$65,5,FALSE),0) | AV8: =IF(AU8=0,0,AU8/الإعدادات!$C$7) | AW8: =IF(AT8>=(COUNT($E$5:$AI$5)-الإعدادات!$C$6),AU8+AV8*(AT8-(COUNT($E$5:$AI$5)-الإعدادات!$C$6)),AV8*AT8) | AX8: =AQ8*IFERROR(VLOOKUP($B8,'بيانات الموظفين'!$B$7:$K$65,7,FALSE),الإعدادات!$C$8) | AY8: =IF(COUNTA($E8:$AI8)=0,0,IFERROR(VLOOKUP($B8,'بيانات الموظفين'!$B$7:$K$65,6,FALSE),0)) | BA8: =AZ8*AV8 | BC8: =AV8*الإعدادات!$C$9*SUMPRODUCT(SUMIF(الإعدادات!$A$14:$A$19,$E8:$AI8,الإعدادات!$C$14:$C$19)*($E$7:$AI$7=1)) | BD8: =AW8+AX8+AY8+BC8-BA8-BB8
A9: 2 | B9: 2 | C9: ناجي محمد حسن ابو العزم | D9: SO | AJ9: =COUNTIF($E9:$AI9,"P") | AK9: =COUNTIF($E9:$AI9,"غ") | AL9: =COUNTIF($E9:$AI9,"إ") | AM9: =COUNTIF($E9:$AI9,"م") | AN9: =COUNTIF($E9:$AI9,"خ") | AO9: =COUNTIF($E9:$AI9,"د") | AP9: =IF(COUNTA($E9:$AI9)=0,0,SUMPRODUCT(($E$5:$AI$5<>"")*($E9:$AI9=""))) | AQ9: =SUMPRODUCT(SUMIF(الإعدادات!$A$14:$A$19,$E9:$AI9,الإعدادات!$C$14:$C$19)) | AR9: =AQ9+AP9 | AT9: =IF(COUNTA($E9:$AI9)=0,IF(AS9="",0,AS9),IF(AS9="",AR9,AS9)) | AU9: =IFERROR(VLOOKUP($B9,'بيانات الموظفين'!$B$7:$K$65,5,FALSE),0) | AV9: =IF(AU9=0,0,AU9/الإعدادات!$C$7) | AW9: =IF(AT9>=(COUNT($E$5:$AI$5)-الإعدادات!$C$6),AU9+AV9*(AT9-(COUNT($E$5:$AI$5)-الإعدادات!$C$6)),AV9*AT9) | AX9: =AQ9*IFERROR(VLOOKUP($B9,'بيانات الموظفين'!$B$7:$K$65,7,FALSE),الإعدادات!$C$8) | AY9: =IF(COUNTA($E9:$AI9)=0,0,IFERROR(VLOOKUP($B9,'بيانات الموظفين'!$B$7:$K$65,6,FALSE),0)) | BA9: =AZ9*AV9 | BC9: =AV9*الإعدادات!$C$9*SUMPRODUCT(SUMIF(الإعدادات!$A$14:$A$19,$E9:$AI9,الإعدادات!$C$14:$C$19)*($E$7:$AI$7=1)) | BD9: =AW9+AX9+AY9+BC9-BA9-BB9
A10: 3 | B10: 3 | C10: طه سامي طه تله | D10: SO | AJ10: =COUNTIF($E10:$AI10,"P") | AK10: =COUNTIF($E10:$AI10,"غ") | AL10: =COUNTIF($E10:$AI10,"إ") | AM10: =COUNTIF($E10:$AI10,"م") | AN10: =COUNTIF($E10:$AI10,"خ") | AO10: =COUNTIF($E10:$AI10,"د") | AP10: =IF(COUNTA($E10:$AI10)=0,0,SUMPRODUCT(($E$5:$AI$5<>"")*($E10:$AI10=""))) | AQ10: =SUMPRODUCT(SUMIF(الإعدادات!$A$14:$A$19,$E10:$AI10,الإعدادات!$C$14:$C$19)) | AR10: =AQ10+AP10 | AT10: =IF(COUNTA($E10:$AI10)=0,IF(AS10="",0,AS10),IF(AS10="",AR10,AS10)) | AU10: =IFERROR(VLOOKUP($B10,'بيانات الموظفين'!$B$7:$K$65,5,FALSE),0) | AV10: =IF(AU10=0,0,AU10/الإعدادات!$C$7) | AW10: =IF(AT10>=(COUNT($E$5:$AI$5)-الإعدادات!$C$6),AU10+AV10*(AT10-(COUNT($E$5:$AI$5)-الإعدادات!$C$6)),AV10*AT10) | AX10: =AQ10*IFERROR(VLOOKUP($B10,'بيانات الموظفين'!$B$7:$K$65,7,FALSE),الإعدادات!$C$8) | AY10: =IF(COUNTA($E10:$AI10)=0,0,IFERROR(VLOOKUP($B10,'بيانات الموظفين'!$B$7:$K$65,6,FALSE),0)) | BA10: =AZ10*AV10 | BC10: =AV10*الإعدادات!$C$9*SUMPRODUCT(SUMIF(الإعدادات!$A$14:$A$19,$E10:$AI10,الإعدادات!$C$14:$C$19)*($E$7:$AI$7=1)) | BD10: =AW10+AX10+AY10+BC10-BA10-BB10
A11: 4 | B11: 4 | C11: مصطفي ربيع محمد حسن | D11: SO | AJ11: =COUNTIF($E11:$AI11,"P") | AK11: =COUNTIF($E11:$AI11,"غ") | AL11: =COUNTIF($E11:$AI11,"إ") | AM11: =COUNTIF($E11:$AI11,"م") | AN11: =COUNTIF($E11:$AI11,"خ") | AO11: =COUNTIF($E11:$AI11,"د") | AP11: =IF(COUNTA($E11:$AI11)=0,0,SUMPRODUCT(($E$5:$AI$5<>"")*($E11:$AI11=""))) | AQ11: =SUMPRODUCT(SUMIF(الإعدادات!$A$14:$A$19,$E11:$AI11,الإعدادات!$C$14:$C$19)) | AR11: =AQ11+AP11 | AT11: =IF(COUNTA($E11:$AI11)=0,IF(AS11="",0,AS11),IF(AS11="",AR11,AS11)) | AU11: =IFERROR(VLOOKUP($B11,'بيانات الموظفين'!$B$7:$K$65,5,FALSE),0) | AV11: =IF(AU11=0,0,AU11/الإعدادات!$C$7) | AW11: =IF(AT11>=(COUNT($E$5:$AI$5)-الإعدادات!$C$6),AU11+AV11*(AT11-(COUNT($E$5:$AI$5)-الإعدادات!$C$6)),AV11*AT11) | AX11: =AQ11*IFERROR(VLOOKUP($B11,'بيانات الموظفين'!$B$7:$K$65,7,FALSE),الإعدادات!$C$8) | AY11: =IF(COUNTA($E11:$AI11)=0,0,IFERROR(VLOOKUP($B11,'بيانات الموظفين'!$B$7:$K$65,6,FALSE),0)) | BA11: =AZ11*AV11 | BC11: =AV11*الإعدادات!$C$9*SUMPRODUCT(SUMIF(الإعدادات!$A$14:$A$19,$E11:$AI11,الإعدادات!$C$14:$C$19)*($E$7:$AI$7=1)) | BD11: =AW11+AX11+AY11+BC11-BA11-BB11
A12: 5 | B12: 5 | C12: محمد محمود خليل غنيم | D12: SO | AJ12: =COUNTIF($E12:$AI12,"P") | AK12: =COUNTIF($E12:$AI12,"غ") | AL12: =COUNTIF($E12:$AI12,"إ") | AM12: =COUNTIF($E12:$AI12,"م") | AN12: =COUNTIF($E12:$AI12,"خ") | AO12: =COUNTIF($E12:$AI12,"د") | AP12: =IF(COUNTA($E12:$AI12)=0,0,SUMPRODUCT(($E$5:$AI$5<>"")*($E12:$AI12=""))) | AQ12: =SUMPRODUCT(SUMIF(الإعدادات!$A$14:$A$19,$E12:$AI12,الإعدادات!$C$14:$C$19)) | AR12: =AQ12+AP12 | AT12: =IF(COUNTA($E12:$AI12)=0,IF(AS12="",0,AS12),IF(AS12="",AR12,AS12)) | AU12: =IFERROR(VLOOKUP($B12,'بيانات الموظفين'!$B$7:$K$65,5,FALSE),0) | AV12: =IF(AU12=0,0,AU12/الإعدادات!$C$7) | AW12: =IF(AT12>=(COUNT($E$5:$AI$5)-الإعدادات!$C$6),AU12+AV12*(AT12-(COUNT($E$5:$AI$5)-الإعدادات!$C$6)),AV12*AT12) | AX12: =AQ12*IFERROR(VLOOKUP($B12,'بيانات الموظفين'!$B$7:$K$65,7,FALSE),الإعدادات!$C$8) | AY12: =IF(COUNTA($E12:$AI12)=0,0,IFERROR(VLOOKUP($B12,'بيانات الموظفين'!$B$7:$K$65,6,FALSE),0)) | BA12: =AZ12*AV12 | BC12: =AV12*الإعدادات!$C$9*SUMPRODUCT(SUMIF(الإعدادات!$A$14:$A$19,$E12:$AI12,الإعدادات!$C$14:$C$19)*($E$7:$AI$7=1)) | BD12: =AW12+AX12+AY12+BC12-BA12-BB12
A13: 6 | B13: 6 | C13: ربيع محمد أحمد محمد | D13: SO | AJ13: =COUNTIF($E13:$AI13,"P") | AK13: =COUNTIF($E13:$AI13,"غ") | AL13: =COUNTIF($E13:$AI13,"إ") | AM13: =COUNTIF($E13:$AI13,"م") | AN13: =COUNTIF($E13:$AI13,"خ") | AO13: =COUNTIF($E13:$AI13,"د") | AP13: =IF(COUNTA($E13:$AI13)=0,0,SUMPRODUCT(($E$5:$AI$5<>"")*($E13:$AI13=""))) | AQ13: =SUMPRODUCT(SUMIF(الإعدادات!$A$14:$A$19,$E13:$AI13,الإعدادات!$C$14:$C$19)) | AR13: =AQ13+AP13 | AT13: =IF(COUNTA($E13:$AI13)=0,IF(AS13="",0,AS13),IF(AS13="",AR13,AS13)) | AU13: =IFERROR(VLOOKUP($B13,'بيانات الموظفين'!$B$7:$K$65,5,FALSE),0) | AV13: =IF(AU13=0,0,AU13/الإعدادات!$C$7) | AW13: =IF(AT13>=(COUNT($E$5:$AI$5)-الإعدادات!$C$6),AU13+AV13*(AT13-(COUNT($E$5:$AI$5)-الإعدادات!$C$6)),AV13*AT13) | AX13: =AQ13*IFERROR(VLOOKUP($B13,'بيانات الموظفين'!$B$7:$K$65,7,FALSE),الإعدادات!$C$8) | AY13: =IF(COUNTA($E13:$AI13)=0,0,IFERROR(VLOOKUP($B13,'بيانات الموظفين'!$B$7:$K$65,6,FALSE),0)) | BA13: =AZ13*AV13 | BC13: =AV13*الإعدادات!$C$9*SUMPRODUCT(SUMIF(الإعدادات!$A$14:$A$19,$E13:$AI13,الإعدادات!$C$14:$C$19)*($E$7:$AI$7=1)) | BD13: =AW13+AX13+AY13+BC13-BA13-BB13
A14: 7 | B14: 7 | C14: حماده محمد محمد عبد الباقي | D14: SO | AJ14: =COUNTIF($E14:$AI14,"P") | AK14: =COUNTIF($E14:$AI14,"غ") | AL14: =COUNTIF($E14:$AI14,"إ") | AM14: =COUNTIF($E14:$AI14,"م") | AN14: =COUNTIF($E14:$AI14,"خ") | AO14: =COUNTIF($E14:$AI14,"د") | AP14: =IF(COUNTA($E14:$AI14)=0,0,SUMPRODUCT(($E$5:$AI$5<>"")*($E14:$AI14=""))) | AQ14: =SUMPRODUCT(SUMIF(الإعدادات!$A$14:$A$19,$E14:$AI14,الإعدادات!$C$14:$C$19)) | AR14: =AQ14+AP14 | AT14: =IF(COUNTA($E14:$AI14)=0,IF(AS14="",0,AS14),IF(AS14="",AR14,AS14)) | AU14: =IFERROR(VLOOKUP($B14,'بيانات الموظفين'!$B$7:$K$65,5,FALSE),0) | AV14: =IF(AU14=0,0,AU14/الإعدادات!$C$7) | AW14: =IF(AT14>=(COUNT($E$5:$AI$5)-الإعدادات!$C$6),AU14+AV14*(AT14-(COUNT($E$5:$AI$5)-الإعدادات!$C$6)),AV14*AT14) | AX14: =AQ14*IFERROR(VLOOKUP($B14,'بيانات الموظفين'!$B$7:$K$65,7,FALSE),الإعدادات!$C$8) | AY14: =IF(COUNTA($E14:$AI14)=0,0,IFERROR(VLOOKUP($B14,'بيانات الموظفين'!$B$7:$K$65,6,FALSE),0)) | BA14: =AZ14*AV14 | BC14: =AV14*الإعدادات!$C$9*SUMPRODUCT(SUMIF(الإعدادات!$A$14:$A$19,$E14:$AI14,الإعدادات!$C$14:$C$19)*($E$7:$AI$7=1)) | BD14: =AW14+AX14+AY14+BC14-BA14-BB14
A15: 8 | B15: 8 | C15: أيمن أمين أمين حنفي | D15: SO | AJ15: =COUNTIF($E15:$AI15,"P") | AK15: =COUNTIF($E15:$AI15,"غ") | AL15: =COUNTIF($E15:$AI15,"إ") | AM15: =COUNTIF($E15:$AI15,"م") | AN15: =COUNTIF($E15:$AI15,"خ") | AO15: =COUNTIF($E15:$AI15,"د") | AP15: =IF(COUNTA($E15:$AI15)=0,0,SUMPRODUCT(($E$5:$AI$5<>"")*($E15:$AI15=""))) | AQ15: =SUMPRODUCT(SUMIF(الإعدادات!$A$14:$A$19,$E15:$AI15,الإعدادات!$C$14:$C$19)) | AR15: =AQ15+AP15 | AT15: =IF(COUNTA($E15:$AI15)=0,IF(AS15="",0,AS15),IF(AS15="",AR15,AS15)) | AU15: =IFERROR(VLOOKUP($B15,'بيانات الموظفين'!$B$7:$K$65,5,FALSE),0) | AV15: =IF(AU15=0,0,AU15/الإعدادات!$C$7) | AW15: =IF(AT15>=(COUNT($E$5:$AI$5)-الإعدادات!$C$6),AU15+AV15*(AT15-(COUNT($E$5:$AI$5)-الإعدادات!$C$6)),AV15*AT15) | AX15: =AQ15*IFERROR(VLOOKUP($B15,'بيانات الموظفين'!$B$7:$K$65,7,FALSE),الإعدادات!$C$8) | AY15: =IF(COUNTA($E15:$AI15)=0,0,IFERROR(VLOOKUP($B15,'بيانات الموظفين'!$B$7:$K$65,6,FALSE),0)) | BA15: =AZ15*AV15 | BC15: =AV15*الإعدادات!$C$9*SUMPRODUCT(SUMIF(الإعدادات!$A$14:$A$19,$E15:$AI15,الإعدادات!$C$14:$C$19)*($E$7:$AI$7=1)) | BD15: =AW15+AX15+AY15+BC15-BA15-BB15
A16: 9 | B16: 9 | C16: احمد فتحي محمد زيدان | D16: SO | AJ16: =COUNTIF($E16:$AI16,"P") | AK16: =COUNTIF($E16:$AI16,"غ") | AL16: =COUNTIF($E16:$AI16,"إ") | AM16: =COUNTIF($E16:$AI16,"م") | AN16: =COUNTIF($E16:$AI16,"خ") | AO16: =COUNTIF($E16:$AI16,"د") | AP16: =IF(COUNTA($E16:$AI16)=0,0,SUMPRODUCT(($E$5:$AI$5<>"")*($E16:$AI16=""))) | AQ16: =SUMPRODUCT(SUMIF(الإعدادات!$A$14:$A$19,$E16:$AI16,الإعدادات!$C$14:$C$19)) | AR16: =AQ16+AP16 | AT16: =IF(COUNTA($E16:$AI16)=0,IF(AS16="",0,AS16),IF(AS16="",AR16,AS16)) | AU16: =IFERROR(VLOOKUP($B16,'بيانات الموظفين'!$B$7:$K$65,5,FALSE),0) | AV16: =IF(AU16=0,0,AU16/الإعدادات!$C$7) | AW16: =IF(AT16>=(COUNT($E$5:$AI$5)-الإعدادات!$C$6),AU16+AV16*(AT16-(COUNT($E$5:$AI$5)-الإعدادات!$C$6)),AV16*AT16) | AX16: =AQ16*IFERROR(VLOOKUP($B16,'بيانات الموظفين'!$B$7:$K$65,7,FALSE),الإعدادات!$C$8) | AY16: =IF(COUNTA($E16:$AI16)=0,0,IFERROR(VLOOKUP($B16,'بيانات الموظفين'!$B$7:$K$65,6,FALSE),0)) | BA16: =AZ16*AV16 | BC16: =AV16*الإعدادات!$C$9*SUMPRODUCT(SUMIF(الإعدادات!$A$14:$A$19,$E16:$AI16,الإعدادات!$C$14:$C$19)*($E$7:$AI$7=1)) | BD16: =AW16+AX16+AY16+BC16-BA16-BB16
A17: 10 | B17: 10 | C17: البدري عبد الكريم محمد حسانين | D17: SO | AJ17: =COUNTIF($E17:$AI17,"P") | AK17: =COUNTIF($E17:$AI17,"غ") | AL17: =COUNTIF($E17:$AI17,"إ") | AM17: =COUNTIF($E17:$AI17,"م") | AN17: =COUNTIF($E17:$AI17,"خ") | AO17: =COUNTIF($E17:$AI17,"د") | AP17: =IF(COUNTA($E17:$AI17)=0,0,SUMPRODUCT(($E$5:$AI$5<>"")*($E17:$AI17=""))) | AQ17: =SUMPRODUCT(SUMIF(الإعدادات!$A$14:$A$19,$E17:$AI17,الإعدادات!$C$14:$C$19)) | AR17: =AQ17+AP17 | AT17: =IF(COUNTA($E17:$AI17)=0,IF(AS17="",0,AS17),IF(AS17="",AR17,AS17)) | AU17: =IFERROR(VLOOKUP($B17,'بيانات الموظفين'!$B$7:$K$65,5,FALSE),0) | AV17: =IF(AU17=0,0,AU17/الإعدادات!$C$7) | AW17: =IF(AT17>=(COUNT($E$5:$AI$5)-الإعدادات!$C$6),AU17+AV17*(AT17-(COUNT($E$5:$AI$5)-الإعدادات!$C$6)),AV17*AT17) | AX17: =AQ17*IFERROR(VLOOKUP($B17,'بيانات الموظفين'!$B$7:$K$65,7,FALSE),الإعدادات!$C$8) | AY17: =IF(COUNTA($E17:$AI17)=0,0,IFERROR(VLOOKUP($B17,'بيانات الموظفين'!$B$7:$K$65,6,FALSE),0)) | BA17: =AZ17*AV17 | BC17: =AV17*الإعدادات!$C$9*SUMPRODUCT(SUMIF(الإعدادات!$A$14:$A$19,$E17:$AI17,الإعدادات!$C$14:$C$19)*($E$7:$AI$7=1)) | BD17: =AW17+AX17+AY17+BC17-BA17-BB17
A18: 11 | B18: 11 | C18: أحمد عبد الرحيم خضري حسين | D18: SO | AJ18: =COUNTIF($E18:$AI18,"P") | AK18: =COUNTIF($E18:$AI18,"غ") | AL18: =COUNTIF($E18:$AI18,"إ") | AM18: =COUNTIF($E18:$AI18,"م") | AN18: =COUNTIF($E18:$AI18,"خ") | AO18: =COUNTIF($E18:$AI18,"د") | AP18: =IF(COUNTA($E18:$AI18)=0,0,SUMPRODUCT(($E$5:$AI$5<>"")*($E18:$AI18=""))) | AQ18: =SUMPRODUCT(SUMIF(الإعدادات!$A$14:$A$19,$E18:$AI18,الإعدادات!$C$14:$C$19)) | AR18: =AQ18+AP18 | AT18: =IF(COUNTA($E18:$AI18)=0,IF(AS18="",0,AS18),IF(AS18="",AR18,AS18)) | AU18: =IFERROR(VLOOKUP($B18,'بيانات الموظفين'!$B$7:$K$65,5,FALSE),0) | AV18: =IF(AU18=0,0,AU18/الإعدادات!$C$7) | AW18: =IF(AT18>=(COUNT($E$5:$AI$5)-الإعدادات!$C$6),AU18+AV18*(AT18-(COUNT($E$5:$AI$5)-الإعدادات!$C$6)),AV18*AT18) | AX18: =AQ18*IFERROR(VLOOKUP($B18,'بيانات الموظفين'!$B$7:$K$65,7,FALSE),الإعدادات!$C$8) | AY18: =IF(COUNTA($E18:$AI18)=0,0,IFERROR(VLOOKUP($B18,'بيانات الموظفين'!$B$7:$K$65,6,FALSE),0)) | BA18: =AZ18*AV18 | BC18: =AV18*الإعدادات!$C$9*SUMPRODUCT(SUMIF(الإعدادات!$A$14:$A$19,$E18:$AI18,الإعدادات!$C$14:$C$19)*($E$7:$AI$7=1)) | BD18: =AW18+AX18+AY18+BC18-BA18-BB18
A19: 12 | B19: 12 | C19: محمد سلطان النطري محمد | D19: SO | AJ19: =COUNTIF($E19:$AI19,"P") | AK19: =COUNTIF($E19:$AI19,"غ") | AL19: =COUNTIF($E19:$AI19,"إ") | AM19: =COUNTIF($E19:$AI19,"م") | AN19: =COUNTIF($E19:$AI19,"خ") | AO19: =COUNTIF($E19:$AI19,"د") | AP19: =IF(COUNTA($E19:$AI19)=0,0,SUMPRODUCT(($E$5:$AI$5<>"")*($E19:$AI19=""))) | AQ19: =SUMPRODUCT(SUMIF(الإعدادات!$A$14:$A$19,$E19:$AI19,الإعدادات!$C$14:$C$19)) | AR19: =AQ19+AP19 | AT19: =IF(COUNTA($E19:$AI19)=0,IF(AS19="",0,AS19),IF(AS19="",AR19,AS19)) | AU19: =IFERROR(VLOOKUP($B19,'بيانات الموظفين'!$B$7:$K$65,5,FALSE),0) | AV19: =IF(AU19=0,0,AU19/الإعدادات!$C$7) | AW19: =IF(AT19>=(COUNT($E$5:$AI$5)-الإعدادات!$C$6),AU19+AV19*(AT19-(COUNT($E$5:$AI$5)-الإعدادات!$C$6)),AV19*AT19) | AX19: =AQ19*IFERROR(VLOOKUP($B19,'بيانات الموظفين'!$B$7:$K$65,7,FALSE),الإعدادات!$C$8) | AY19: =IF(COUNTA($E19:$AI19)=0,0,IFERROR(VLOOKUP($B19,'بيانات الموظفين'!$B$7:$K$65,6,FALSE),0)) | BA19: =AZ19*AV19 | BC19: =AV19*الإعدادات!$C$9*SUMPRODUCT(SUMIF(الإعدادات!$A$14:$A$19,$E19:$AI19,الإعدادات!$C$14:$C$19)*($E$7:$AI$7=1)) | BD19: =AW19+AX19+AY19+BC19-BA19-BB19
... A66: 59 | B66: 59 | C66: حسن محمد حسن حسيني | D66: SO | AJ66: =COUNTIF($E66:$AI66,"P") | AK66: =COUNTIF($E66:$AI66,"غ") | AL66: =COUNTIF($E66:$AI66,"إ") | AM66: =COUNTIF($E66:$AI66,"م") | AN66: =COUNTIF($E66:$AI66,"خ") | AO66: =COUNTIF($E66:$AI66,"د") | AP66: =IF(COUNTA($E66:$AI66)=0,0,SUMPRODUCT(($E$5:$AI$5<>"")*($E66:$AI66=""))) | AQ66: =SUMPRODUCT(SUMIF(الإعدادات!$A$14:$A$19,$E66:$AI66,الإعدادات!$C$14:$C$19)) | AR66: =AQ66+AP66 | AT66: =IF(COUNTA($E66:$AI66)=0,IF(AS66="",0,AS66),IF(AS66="",AR66,AS66)) | AU66: =IFERROR(VLOOKUP($B66,'بيانات الموظفين'!$B$7:$K$65,5,FALSE),0) | AV66: =IF(AU66=0,0,AU66/الإعدادات!$C$7) | AW66: =IF(AT66>=(COUNT($E$5:$AI$5)-الإعدادات!$C$6),AU66+AV66*(AT66-(COUNT($E$5:$AI$5)-الإعدادات!$C$6)),AV66*AT66) | AX66: =AQ66*IFERROR(VLOOKUP($B66,'بيانات الموظفين'!$B$7:$K$65,7,FALSE),الإعدادات!$C$8) | AY66: =IF(COUNTA($E66:$AI66)=0,0,IFERROR(VLOOKUP($B66,'بيانات الموظفين'!$B$7:$K$65,6,FALSE),0)) | BA66: =AZ66*AV66 | BC66: =AV66*الإعدادات!$C$9*SUMPRODUCT(SUMIF(الإعدادات!$A$14:$A$19,$E66:$AI66,الإعدادات!$C$14:$C$19)*($E$7:$AI$7=1)) | BD66: =AW66+AX66+AY66+BC66-BA66-BB66
A67: الإجمالي — 59 موظفًا | AJ67: =SUM(AJ8:AJ66) | AK67: =SUM(AK8:AK66) | AL67: =SUM(AL8:AL66) | AM67: =SUM(AM8:AM66) | AN67: =SUM(AN8:AN66) | AO67: =SUM(AO8:AO66) | AP67: =SUM(AP8:AP66) | AQ67: =SUM(AQ8:AQ66) | ... AU67: =SUM(AU8:AU66) | AW67: =SUM(AW8:AW66) | AX67: =SUM(AX8:AX66) | AY67: =SUM(AY8:AY66) | AZ67: =SUM(AZ8:AZ66) | BA67: =SUM(BA8:BA66) | BB67: =SUM(BB8:BB66) | BC67: =SUM(BC8:BC66) | BD67: =SUM(BD8:BD66)
A69: طريقة الحساب: قيمة اليوم = الراتب الأساسي ÷ 30 • أجر الأيام = قيمة اليوم × الأيام النهائية، وإذا زادت الأيام عن أيام المعيار (أيام الشهر − 4) يُضاف الفرق بأجر اليوم • الوجبات = أيام الحضور × بدل الوجبة اليومي • بدل العطلة = قيمة اليوم × 2 لكل يوم عطلة حضر فيه الموظف • الصافي = أجر الأيام + الوجبات + بدل التأمين + بدل العطلة − قيمة الجزاء − أي خصم آخر • عمود «تعديل يدوي» للموظف الجديد أو منتصف الشهر ويُلغي الحساب التلقائي للأيام. تنبيه: الخانة الفارغة تُعدّ يوم راحة مدفوعًا — لا تترك يوم غياب فارغًا، بل سجّله «غ».
A71: إعداد المحاسب: ________________ | S71: مراجعة: ________________ | AK71: اعتماد المدير: ________________

Sheet 04-أبريل
A1: مسير رواتب شهر أبريل 2026 — شركة أرمسترونج | فرع 10 رمضان | موقع التجمعات
A2: أيام الشهر: 30 • أيام المعيار: 26 • بدل الوجبة: 30 ج.م/يوم • قيمة اليوم = الأساسي ÷ 30 • معامل العطلة: 2
A3: الرموز: P حاضر • غ غياب • إ إجازة • م مرضية • خ نصف يوم • د دبل شيفت — والخانة الفارغة = راحة (تُحتسب ضمن الشهر ولا تُحتسب حضورًا)
A5: م | B5: الكود | C5: اسم الموظف | D5: الوظيفة | E5: 1 | F5: 2 | G5: 3 | H5: 4 | I5: 5 | J5: 6 | K5: 7 | L5: 8 | M5: 9 | N5: 10 | O5: 11 | P5: 12 | Q5: 13 | R5: 14 | S5: 15 | T5: 16 | U5: 17 | V5: 18 | W5: 19 | X5: 20 | Y5: 21 | Z5: 22 | AA5: 23 | AB5: 24 | AC5: 25 | AD5: 26 | AE5: 27 | AF5: 28 | AG5: 29 | AH5: 30 | AJ5: بيانات الحضور | AR5: أيام الاستحقاق | AU5: الأجر | AX5: البدلات | AZ5: الاستقطاعات | BC5: بدل العطلة | BD5: الصافي المستحق
E6: ر | F6: خ | G6: ج | H6: س | I6: أ | J6: ن | K6: ث | L6: ر | M6: خ | N6: ج | O6: س | P6: أ | Q6: ن | R6: ث | S6: ر | T6: خ | U6: ج | V6: س | W6: أ | X6: ن | Y6: ث | Z6: ر | AA6: خ | AB6: ج | AC6: س | AD6: أ | AE6: ن | AF6: ث | AG6: ر | AH6: خ | AJ6: حاضر | AK6: غياب | AL6: إجازة | AM6: مرضية | AN6: نصف يوم | AO6: دبل | AP6: راحة (فراغ) | AQ6: أيام الحضور | AR6: أيام محتسبة (تلقائي) | AS6: تعديل يدوي | AT6: الأيام النهائية | AU6: الراتب الأساسي | AV6: قيمة اليوم | AW6: أجر الأيام | AX6: الوجبات | AY6: بدل التأمين (+) | AZ6: جزاء (أيام) | BA6: قيمة الجزاء | BB6: خصم آخر (مبلغ)
A7: عطلة رسمية (1 = يوم عطلة مدفوع بالمعامل) | E7: =IF(COUNTIFS(الإعدادات!$B$23:$B$60,4,الإعدادات!$C$23:$C$60,E$5)>0,1,0) | F7: =IF(COUNTIFS(الإعدادات!$B$23:$B$60,4,الإعدادات!$C$23:$C$60,F$5)>0,1,0) | G7: =IF(COUNTIFS(الإعدادات!$B$23:$B$60,4,الإعدادات!$C$23:$C$60,G$5)>0,1,0) | H7: =IF(COUNTIFS(الإعدادات!$B$23:$B$60,4,الإعدادات!$C$23:$C$60,H$5)>0,1,0) | I7: =IF(COUNTIFS(الإعدادات!$B$23:$B$60,4,الإعدادات!$C$23:$C$60,I$5)>0,1,0) | J7: =IF(COUNTIFS(الإعدادات!$B$23:$B$60,4,الإعدادات!$C$23:$C$60,J$5)>0,1,0) | K7: =IF(COUNTIFS(الإعدادات!$B$23:$B$60,4,الإعدادات!$C$23:$C$60,K$5)>0,1,0) | L7: =IF(COUNTIFS(الإعدادات!$B$23:$B$60,4,الإعدادات!$C$23:$C$60,L$5)>0,1,0) | ... AH7: =IF(COUNTIFS(الإعدادات!$B$23:$B$60,4,الإعدادات!$C$23:$C$60,AH$5)>0,1,0)
A8: 1 | B8: 1 | C8: صابر محمود محمد حسن | D8: SO | AJ8: =COUNTIF($E8:$AI8,"P") | AK8: =COUNTIF($E8:$AI8,"غ") | AL8: =COUNTIF($E8:$AI8,"إ") | AM8: =COUNTIF($E8:$AI8,"م") | AN8: =COUNTIF($E8:$AI8,"خ") | AO8: =COUNTIF($E8:$AI8,"د") | AP8: =IF(COUNTA($E8:$AI8)=0,0,SUMPRODUCT(($E$5:$AI$5<>"")*($E8:$AI8=""))) | AQ8: =SUMPRODUCT(SUMIF(الإعدادات!$A$14:$A$19,$E8:$AI8,الإعدادات!$C$14:$C$19)) | AR8: =AQ8+AP8 | AT8: =IF(COUNTA($E8:$AI8)=0,IF(AS8="",0,AS8),IF(AS8="",AR8,AS8)) | AU8: =IFERROR(VLOOKUP($B8,'بيانات الموظفين'!$B$7:$K$65,5,FALSE),0) | AV8: =IF(AU8=0,0,AU8/الإعدادات!$C$7) | AW8: =IF(AT8>=(COUNT($E$5:$AI$5)-الإعدادات!$C$6),AU8+AV8*(AT8-(COUNT($E$5:$AI$5)-الإعدادات!$C$6)),AV8*AT8) | AX8: =AQ8*IFERROR(VLOOKUP($B8,'بيانات الموظفين'!$B$7:$K$65,7,FALSE),الإعدادات!$C$8) | AY8: =IF(COUNTA($E8:$AI8)=0,0,IFERROR(VLOOKUP($B8,'بيانات الموظفين'!$B$7:$K$65,6,FALSE),0)) | BA8: =AZ8*AV8 | BC8: =AV8*الإعدادات!$C$9*SUMPRODUCT(SUMIF(الإعدادات!$A$14:$A$19,$E8:$AI8,الإعدادات!$C$14:$C$19)*($E$7:$AI$7=1)) | BD8: =AW8+AX8+AY8+BC8-BA8-BB8
A9: 2 | B9: 2 | C9: ناجي محمد حسن ابو العزم | D9: SO | AJ9: =COUNTIF($E9:$AI9,"P") | AK9: =COUNTIF($E9:$AI9,"غ") | AL9: =COUNTIF($E9:$AI9,"إ") | AM9: =COUNTIF($E9:$AI9,"م") | AN9: =COUNTIF($E9:$AI9,"خ") | AO9: =COUNTIF($E9:$AI9,"د") | AP9: =IF(COUNTA($E9:$AI9)=0,0,SUMPRODUCT(($E$5:$AI$5<>"")*($E9:$AI9=""))) | AQ9: =SUMPRODUCT(SUMIF(الإعدادات!$A$14:$A$19,$E9:$AI9,الإعدادات!$C$14:$C$19)) | AR9: =AQ9+AP9 | AT9: =IF(COUNTA($E9:$AI9)=0,IF(AS9="",0,AS9),IF(AS9="",AR9,AS9)) | AU9: =IFERROR(VLOOKUP($B9,'بيانات الموظفين'!$B$7:$K$65,5,FALSE),0) | AV9: =IF(AU9=0,0,AU9/الإعدادات!$C$7) | AW9: =IF(AT9>=(COUNT($E$5:$AI$5)-الإعدادات!$C$6),AU9+AV9*(AT9-(COUNT($E$5:$AI$5)-الإعدادات!$C$6)),AV9*AT9) | AX9: =AQ9*IFERROR(VLOOKUP($B9,'بيانات الموظفين'!$B$7:$K$65,7,FALSE),الإعدادات!$C$8) | AY9: =IF(COUNTA($E9:$AI9)=0,0,IFERROR(VLOOKUP($B9,'بيانات الموظفين'!$B$7:$K$65,6,FALSE),0)) | BA9: =AZ9*AV9 | BC9: =AV9*الإعدادات!$C$9*SUMPRODUCT(SUMIF(الإعدادات!$A$14:$A$19,$E9:$AI9,الإعدادات!$C$14:$C$19)*($E$7:$AI$7=1)) | BD9: =AW9+AX9+AY9+BC9-BA9-BB9
