Workbook

Sheet الدليل
A1: مسير رواتب شركة أرمسترونج
A2: فرع 10 رمضان • موقع التجمعات • السنة المالية 2026 • 59 موظفًا
B4: عدد الموظفين | D4: صافي رواتب يوليو | F4: إجمالي صافي السنة | H4: متوسط الصافي للفرد
B5: =COUNTA('بيانات الموظفين'!$B$7:$B$65) | D5: ='07-يوليو'!BD67 | F5: ='ملخص سنوي'!P129 | H5: ='ملخص سنوي'!P129/COUNTA('بيانات الموظفين'!$B$7:$B$65)
B8: ملخص الشهور
B9: الشهر | C9: أيام الحضور | D9: الوجبات | E9: الجزاءات | F9: بدل العطلة | G9: الصافي المستحق
B10: يناير 2026 | C10: ='01-يناير'!AQ67 | D10: ='01-يناير'!AX67 | E10: ='01-يناير'!BA67 | F10: ='01-يناير'!BC67 | G10: ='01-يناير'!BD67
B11: فبراير 2026 | C11: ='02-فبراير'!AQ67 | D11: ='02-فبراير'!AX67 | E11: ='02-فبراير'!BA67 | F11: ='02-فبراير'!BC67 | G11: ='02-فبراير'!BD67
B12: مارس 2026 | C12: ='03-مارس'!AQ67 | D12: ='03-مارس'!AX67 | E12: ='03-مارس'!BA67 | F12: ='03-مارس'!BC67 | G12: ='03-مارس'!BD67
B13: أبريل 2026 | C13: ='04-أبريل'!AQ67 | D13: ='04-أبريل'!AX67 | E13: ='04-أبريل'!BA67 | F13: ='04-أبريل'!BC67 | G13: ='04-أبريل'!BD67
B14: مايو 2026 | C14: ='05-مايو'!AQ67 | D14: ='05-مايو'!AX67 | E14: ='05-مايو'!BA67 | F14: ='05-مايو'!BC67 | G14: ='05-مايو'!BD67
B15: يونيو 2026 | C15: ='06-يونيو'!AQ67 | D15: ='06-يونيو'!AX67 | E15: ='06-يونيو'!BA67 | F15: ='06-يونيو'!BC67 | G15: ='06-يونيو'!BD67
B16: يوليو 2026 | C16: ='07-يوليو'!AQ67 | D16: ='07-يوليو'!AX67 | E16: ='07-يوليو'!BA67 | F16: ='07-يوليو'!BC67 | G16: ='07-يوليو'!BD67
B17: أغسطس 2026 | C17: ='08-أغسطس'!AQ67 | D17: ='08-أغسطس'!AX67 | E17: ='08-أغسطس'!BA67 | F17: ='08-أغسطس'!BC67 | G17: ='08-أغسطس'!BD67
B18: سبتمبر 2026 | C18: ='09-سبتمبر'!AQ67 | D18: ='09-سبتمبر'!AX67 | E18: ='09-سبتمبر'!BA67 | F18: ='09-سبتمبر'!BC67 | G18: ='09-سبتمبر'!BD67
B19: أكتوبر 2026 | C19: ='10-أكتوبر'!AQ67 | D19: ='10-أكتوبر'!AX67 | E19: ='10-أكتوبر'!BA67 | F19: ='10-أكتوبر'!BC67 | G19: ='10-أكتوبر'!BD67
B20: نوفمبر 2026 | C20: ='11-نوفمبر'!AQ67 | D20: ='11-نوفمبر'!AX67 | E20: ='11-نوفمبر'!BA67 | F20: ='11-نوفمبر'!BC67 | G20: ='11-نوفمبر'!BD67
B21: ديسمبر 2026 | C21: ='12-ديسمبر'!AQ67 | D21: ='12-ديسمبر'!AX67 | E21: ='12-ديسمبر'!BA67 | F21: ='12-ديسمبر'!BC67 | G21: ='12-ديسمبر'!BD67
B22: الإجمالي | C22: =SUM(C10:C21) | D22: =SUM(D10:D21) | E22: =SUM(E10:E21) | F22: =SUM(F10:F21) | G22: =SUM(G10:G21)
B24: التنقل السريع
B25: شيت يناير | D25: بيانات الموظفين | F25: كيف تستخدم الملف؟ ١) بيانات كل موظف وراتبه في شيت «بيانات الموظفين». ٢) سياستك (أيام الراحة، الوجبة، معامل العطلة، العطل) في شيت «الإعدادات». ٣) في شيت الشهر اكتب رموز الحضور من E إلى AI، وكل الأعمدة تُحسب تلقائيًا. الرموز: P حاضر • غ غياب • إ إجازة • م مرضية • خ نصف يوم • د دبل شيفت • فارغ = راحة
B26: شيت فبراير | D26: الملخص السنوي
B27: شيت مارس | D27: الإعدادات
B28: شيت أبريل | D28: تدقيق يوليو
B29: شيت مايو
B30: شيت يونيو
B31: شيت يوليو
B32: شيت أغسطس
B33: شيت سبتمبر
B34: شيت أكتوبر
B35: شيت نوفمبر
B36: شيت ديسمبر

Sheet 01-يناير
A1: مسير رواتب شهر يناير 2026 — شركة أرمسترونج | فرع 10 رمضان | موقع التجمعات
A2: أيام الشهر: 31 • أيام المعيار: 27 • بدل الوجبة: 30 ج.م/يوم • قيمة اليوم = الأساسي ÷ 30 • معامل العطلة: 2
A3: الرموز: P حاضر • غ غياب • إ إجازة • م مرضية • خ نصف يوم • د دبل شيفت — والخانة الفارغة = راحة (تُحتسب ضمن الشهر ولا تُحتسب حضورًا)
A5: م | B5: الكود | C5: اسم الموظف | D5: الوظيفة | E5: 1 | F5: 2 | G5: 3 | H5: 4 | I5: 5 | J5: 6 | K5: 7 | L5: 8 | M5: 9 | N5: 10 | O5: 11 | P5: 12 | Q5: 13 | R5: 14 | S5: 15 | T5: 16 | U5: 17 | V5: 18 | W5: 19 | X5: 20 | Y5: 21 | Z5: 22 | AA5: 23 | AB5: 24 | AC5: 25 | AD5: 26 | AE5: 27 | AF5: 28 | AG5: 29 | AH5: 30 | AI5: 31 | AJ5: بيانات الحضور | AR5: أيام الاستحقاق | AU5: الأجر | AX5: البدلات | AZ5: الاستقطاعات | BC5: بدل العطلة | BD5: الصافي المستحق
E6: خ | F6: ج | G6: س | H6: أ | I6: ن | J6: ث | K6: ر | L6: خ | M6: ج | N6: س | O6: أ | P6: ن | Q6: ث | R6: ر | S6: خ | T6: ج | U6: س | V6: أ | W6: ن | X6: ث | Y6: ر | Z6: خ | AA6: ج | AB6: س | AC6: أ | AD6: ن | AE6: ث | AF6: ر | AG6: خ | AH6: ج | AI6: س | AJ6: حاضر | AK6: غياب | AL6: إجازة | AM6: مرضية | AN6: نصف يوم | AO6: دبل | AP6: راحة (فراغ) | AQ6: أيام الحضور | AR6: أيام محتسبة (تلقائي) | AS6: تعديل يدوي | AT6: الأيام النهائية | AU6: الراتب الأساسي | AV6: قيمة اليوم | AW6: أجر الأيام | AX6: الوجبات | AY6: بدل التأمين (+) | AZ6: جزاء (أيام) | BA6: قيمة الجزاء | BB6: خصم آخر (مبلغ)
A7: عطلة رسمية (1 = يوم عطلة مدفوع بالمعامل) | E7: =IF(COUNTIFS(الإعدادات!$B$23:$B$60,1,الإعدادات!$C$23:$C$60,E$5)>0,1,0) | F7: =IF(COUNTIFS(الإعدادات!$B$23:$B$60,1,الإعدادات!$C$23:$C$60,F$5)>0,1,0) | G7: =IF(COUNTIFS(الإعدادات!$B$23:$B$60,1,الإعدادات!$C$23:$C$60,G$5)>0,1,0) | H7: =IF(COUNTIFS(الإعدادات!$B$23:$B$60,1,الإعدادات!$C$23:$C$60,H$5)>0,1,0) | I7: =IF(COUNTIFS(الإعدادات!$B$23:$B$60,1,الإعدادات!$C$23:$C$60,I$5)>0,1,0) | J7: =IF(COUNTIFS(الإعدادات!$B$23:$B$60,1,الإعدادات!$C$23:$C$60,J$5)>0,1,0) | K7: =IF(COUNTIFS(الإعدادات!$B$23:$B$60,1,الإعدادات!$C$23:$C$60,K$5)>0,1,0) | L7: =IF(COUNTIFS(الإعدادات!$B$23:$B$60,1,الإعدادات!$C$23:$C$60,L$5)>0,1,0) | ... AI7: =IF(COUNTIFS(الإعدادات!$B$23:$B$60,1,الإعدادات!$C$23:$C$60,AI$5)>0,1,0)
A8: 1 | B8: 1 | C8: صابر محمود محمد حسن | D8: SO | AJ8: =COUNTIF($E8:$AI8,"P") | AK8: =COUNTIF($E8:$AI8,"غ") | AL8: =COUNTIF($E8:$AI8,"إ") | AM8: =COUNTIF($E8:$AI8,"م") | AN8: =COUNTIF($E8:$AI8,"خ") | AO8: =COUNTIF($E8:$AI8,"د") | AP8: =IF(COUNTA($E8:$AI8)=0,0,SUMPRODUCT(($E$5:$AI$5<>"")*($E8:$AI8=""))) | AQ8: =SUMPRODUCT(SUMIF(الإعدادات!$A$14:$A$19,$E8:$AI8,الإعدادات!$C$14:$C$19)) | AR8: =AQ8+AP8 | AT8: =IF(COUNTA($E8:$AI8)=0,IF(AS8="",0,AS8),IF(AS8="",AR8,AS8)) | AU8: =IFERROR(VLOOKUP($B8,'بيانات الموظفين'!$B$7:$K$65,5,FALSE),0) | AV8: =IF(AU8=0,0,AU8/الإعدادات!$C$7) | AW8: =IF(AT8>=(COUNT($E$5:$AI$5)-الإعدادات!$C$6),AU8+AV8*(AT8-(COUNT($E$5:$AI$5)-الإعدادات!$C$6)),AV8*AT8) | AX8: =AQ8*IFERROR(VLOOKUP($B8,'بيانات الموظفين'!$B$7:$K$65,7,FALSE),الإعدادات!$C$8) | AY8: =IF(COUNTA($E8:$AI8)=0,0,IFERROR(VLOOKUP($B8,'بيانات الموظفين'!$B$7:$K$65,6,FALSE),0)) | BA8: =AZ8*AV8 | BC8: =AV8*الإعدادات!$C$9*SUMPRODUCT(SUMIF(الإعدادات!$A$14:$A$19,$E8:$AI8,الإعدادات!$C$14:$C$19)*($E$7:$AI$7=1)) | BD8: =AW8+AX8+AY8+BC8-BA8-BB8
A9: 2 | B9: 2 | C9: ناجي محمد حسن ابو العزم | D9: SO | AJ9: =COUNTIF($E9:$AI9,"P") | AK9: =COUNTIF($E9:$AI9,"غ") | AL9: =COUNTIF($E9:$AI9,"إ") | AM9: =COUNTIF($E9:$AI9,"م") | AN9: =COUNTIF($E9:$AI9,"خ") | AO9: =COUNTIF($E9:$AI9,"د") | AP9: =IF(COUNTA($E9:$AI9)=0,0,SUMPRODUCT(($E$5:$AI$5<>"")*($E9:$AI9=""))) | AQ9: =SUMPRODUCT(SUMIF(الإعدادات!$A$14:$A$19,$E9:$AI9,الإعدادات!$C$14:$C$19)) | AR9: =AQ9+AP9 | AT9: =IF(COUNTA($E9:$AI9)=0,IF(AS9="",0,AS9),IF(AS9="",AR9,AS9)) | AU9: =IFERROR(VLOOKUP($B9,'بيانات الموظفين'!$B$7:$K$65,5,FALSE),0) | AV9: =IF(AU9=0,0,AU9/الإعدادات!$C$7) | AW9: =IF(AT9>=(COUNT($E$5:$AI$5)-الإعدادات!$C$6),AU9+AV9*(AT9-(COUNT($E$5:$AI$5)-الإعدادات!$C$6)),AV9*AT9) | AX9: =AQ9*IFERROR(VLOOKUP($B9,'بيانات الموظفين'!$B$7:$K$65,7,FALSE),الإعدادات!$C$8) | AY9: =IF(COUNTA($E9:$AI9)=0,0,IFERROR(VLOOKUP($B9,'بيانات الموظفين'!$B$7:$K$65,6,FALSE),0)) | BA9: =AZ9*AV9 | BC9: =AV9*الإعدادات!$C$9*SUMPRODUCT(SUMIF(الإعدادات!$A$14:$A$19,$E9:$AI9,الإعدادات!$C$14:$C$19)*($E$7:$AI$7=1)) | BD9: =AW9+AX9+AY9+BC9-BA9-BB9
A10: 3 | B10: 3 | C10: طه سامي طه تله | D10: SO | AJ10: =COUNTIF($E10:$AI10,"P") | AK10: =COUNTIF($E10:$AI10,"غ") | AL10: =COUNTIF($E10:$AI10,"إ") | AM10: =COUNTIF($E10:$AI10,"م") | AN10: =COUNTIF($E10:$AI10,"خ") | AO10: =COUNTIF($E10:$AI10,"د") | AP10: =IF(COUNTA($E10:$AI10)=0,0,SUMPRODUCT(($E$5:$AI$5<>"")*($E10:$AI10=""))) | AQ10: =SUMPRODUCT(SUMIF(الإعدادات!$A$14:$A$19,$E10:$AI10,الإعدادات!$C$14:$C$19)) | AR10: =AQ10+AP10 | AT10: =IF(COUNTA($E10:$AI10)=0,IF(AS10="",0,AS10),IF(AS10="",AR10,AS10)) | AU10: =IFERROR(VLOOKUP($B10,'بيانات الموظفين'!$B$7:$K$65,5,FALSE),0) | AV10: =IF(AU10=0,0,AU10/الإعدادات!$C$7) | AW10: =IF(AT10>=(COUNT($E$5:$AI$5)-الإعدادات!$C$6),AU10+AV10*(AT10-(COUNT($E$5:$AI$5)-الإعدادات!$C$6)),AV10*AT10) | AX10: =AQ10*IFERROR(VLOOKUP($B10,'بيانات الموظفين'!$B$7:$K$65,7,FALSE),الإعدادات!$C$8) | AY10: =IF(COUNTA($E10:$AI10)=0,0,IFERROR(VLOOKUP($B10,'بيانات الموظفين'!$B$7:$K$65,6,FALSE),0)) | BA10: =AZ10*AV10 | BC10: =AV10*الإعدادات!$C$9*SUMPRODUCT(SUMIF(الإعدادات!$A$14:$A$19,$E10:$AI10,الإعدادات!$C$14:$C$19)*($E$7:$AI$7=1)) | BD10: =AW10+AX10+AY10+BC10-BA10-BB10
A11: 4 | B11: 4 | C11: مصطفي ربيع محمد حسن | D11: SO | AJ11: =COUNTIF($E11:$AI11,"P") | AK11: =COUNTIF($E11:$AI11,"غ") | AL11: =COUNTIF($E11:$AI11,"إ") | AM11: =COUNTIF($E11:$AI11,"م") | AN11: =COUNTIF($E11:$AI11,"خ") | AO11: =COUNTIF($E11:$AI11,"د") | AP11: =IF(COUNTA($E11:$AI11)=0,0,SUMPRODUCT(($E$5:$AI$5<>"")*($E11:$AI11=""))) | AQ11: =SUMPRODUCT(SUMIF(الإعدادات!$A$14:$A$19,$E11:$AI11,الإعدادات!$C$14:$C$19)) | AR11: =AQ11+AP11 | AT11: =IF(COUNTA($E11:$AI11)=0,IF(AS11="",0,AS11),IF(AS11="",AR11,AS11)) | AU11: =IFERROR(VLOOKUP($B11,'بيانات الموظفين'!$B$7:$K$65,5,FALSE),0) | AV11: =IF(AU11=0,0,AU11/الإعدادات!$C$7) | AW11: =IF(AT11>=(COUNT($E$5:$AI$5)-الإعدادات!$C$6),AU11+AV11*(AT11-(COUNT($E$5:$AI$5)-الإعدادات!$C$6)),AV11*AT11) | AX11: =AQ11*IFERROR(VLOOKUP($B11,'بيانات الموظفين'!$B$7:$K$65,7,FALSE),الإعدادات!$C$8) | AY11: =IF(COUNTA($E11:$AI11)=0,0,IFERROR(VLOOKUP($B11,'بيانات الموظفين'!$B$7:$K$65,6,FALSE),0)) | BA11: =AZ11*AV11 | BC11: =AV11*الإعدادات!$C$9*SUMPRODUCT(SUMIF(الإعدادات!$A$14:$A$19,$E11:$AI11,الإعدادات!$C$14:$C$19)*($E$7:$AI$7=1)) | BD11: =AW11+AX11+AY11+BC11-BA11-BB11
A12: 5 | B12: 5 | C12: محمد محمود خليل غنيم | D12: SO | AJ12: =COUNTIF($E12:$AI12,"P") | AK12: =COUNTIF($E12:$AI12,"غ") | AL12: =COUNTIF($E12:$AI12,"إ") | AM12: =COUNTIF($E12:$AI12,"م") | AN12: =COUNTIF($E12:$AI12,"خ") | AO12: =COUNTIF($E12:$AI12,"د") | AP12: =IF(COUNTA($E12:$AI12)=0,0,SUMPRODUCT(($E$5:$AI$5<>"")*($E12:$AI12=""))) | AQ12: =SUMPRODUCT(SUMIF(الإعدادات!$A$14:$A$19,$E12:$AI12,الإعدادات!$C$14:$C$19)) | AR12: =AQ12+AP12 | AT12: =IF(COUNTA($E12:$AI12)=0,IF(AS12="",0,AS12),IF(AS12="",AR12,AS12)) | AU12: =IFERROR(VLOOKUP($B12,'بيانات الموظفين'!$B$7:$K$65,5,FALSE),0) | AV12: =IF(AU12=0,0,AU12/الإعدادات!$C$7) | AW12: =IF(AT12>=(COUNT($E$5:$AI$5)-الإعدادات!$C$6),AU12+AV12*(AT12-(COUNT($E$5:$AI$5)-الإعدادات!$C$6)),AV12*AT12) | AX12: =AQ12*IFERROR(VLOOKUP($B12,'بيانات الموظفين'!$B$7:$K$65,7,FALSE),الإعدادات!$C$8) | AY12: =IF(COUNTA($E12:$AI12)=0,0,IFERROR(VLOOKUP($B12,'بيانات الموظفين'!$B$7:$K$65,6,FALSE),0)) | BA12: =AZ12*AV12 | BC12: =AV12*الإعدادات!$C$9*SUMPRODUCT(SUMIF(الإعدادات!$A$14:$A$19,$E12:$AI12,الإعدادات!$C$14:$C$19)*($E$7:$AI$7=1)) | BD12: =AW12+AX12+AY12+BC12-BA12-BB12
A13: 6 | B13: 6 | C13: ربيع محمد أحمد محمد | D13: SO | AJ13: =COUNTIF($E13:$AI13,"P") | AK13: =COUNTIF($E13:$AI13,"غ") | AL13: =COUNTIF($E13:$AI13,"إ") | AM13: =COUNTIF($E13:$AI13,"م") | AN13: =COUNTIF($E13:$AI13,"خ") | AO13: =COUNTIF($E13:$AI13,"د") | AP13: =IF(COUNTA($E13:$AI13)=0,0,SUMPRODUCT(($E$5:$AI$5<>"")*($E13:$AI13=""))) | AQ13: =SUMPRODUCT(SUMIF(الإعدادات!$A$14:$A$19,$E13:$AI13,الإعدادات!$C$14:$C$19)) | AR13: =AQ13+AP13 | AT13: =IF(COUNTA($E13:$AI13)=0,IF(AS13="",0,AS13),IF(AS13="",AR13,AS13)) | AU13: =IFERROR(VLOOKUP($B13,'بيانات الموظفين'!$B$7:$K$65,5,FALSE),0) | AV13: =IF(AU13=0,0,AU13/الإعدادات!$C$7) | AW13: =IF(AT13>=(COUNT($E$5:$AI$5)-الإعدادات!$C$6),AU13+AV13*(AT13-(COUNT($E$5:$AI$5)-الإعدادات!$C$6)),AV13*AT13) | AX13: =AQ13*IFERROR(VLOOKUP($B13,'بيانات الموظفين'!$B$7:$K$65,7,FALSE),الإعدادات!$C$8) | AY13: =IF(COUNTA($E13:$AI13)=0,0,IFERROR(VLOOKUP($B13,'بيانات الموظفين'!$B$7:$K$65,6,FALSE),0)) | BA13: =AZ13*AV13 | BC13: =AV13*الإعدادات!$C$9*SUMPRODUCT(SUMIF(الإعدادات!$A$14:$A$19,$E13:$AI13,الإعدادات!$C$14:$C$19)*($E$7:$AI$7=1)) | BD13: =AW13+AX13+AY13+BC13-BA13-BB13
A14: 7 | B14: 7 | C14: حماده محمد محمد عبد الباقي | D14: SO | AJ14: =COUNTIF($E14:$AI14,"P") | AK14: =COUNTIF($E14:$AI14,"غ") | AL14: =COUNTIF($E14:$AI14,"إ") | AM14: =COUNTIF($E14:$AI14,"م") | AN14: =COUNTIF($E14:$AI14,"خ") | AO14: =COUNTIF($E14:$AI14,"د") | AP14: =IF(COUNTA($E14:$AI14)=0,0,SUMPRODUCT(($E$5:$AI$5<>"")*($E14:$AI14=""))) | AQ14: =SUMPRODUCT(SUMIF(الإعدادات!$A$14:$A$19,$E14:$AI14,الإعدادات!$C$14:$C$19)) | AR14: =AQ14+AP14 | AT14: =IF(COUNTA($E14:$AI14)=0,IF(AS14="",0,AS14),IF(AS14="",AR14,AS14)) | AU14: =IFERROR(VLOOKUP($B14,'بيانات الموظفين'!$B$7:$K$65,5,FALSE),0) | AV14: =IF(AU14=0,0,AU14/الإعدادات!$C$7) | AW14: =IF(AT14>=(COUNT($E$5:$AI$5)-الإعدادات!$C$6),AU14+AV14*(AT14-(COUNT($E$5:$AI$5)-الإعدادات!$C$6)),AV14*AT14) | AX14: =AQ14*IFERROR(VLOOKUP($B14,'بيانات الموظفين'!$B$7:$K$65,7,FALSE),الإعدادات!$C$8) | AY14: =IF(COUNTA($E14:$AI14)=0,0,IFERROR(VLOOKUP($B14,'بيانات الموظفين'!$B$7:$K$65,6,FALSE),0)) | BA14: =AZ14*AV14 | BC14: =AV14*الإعدادات!$C$9*SUMPRODUCT(SUMIF(الإعدادات!$A$14:$A$19,$E14:$AI14,الإعدادات!$C$14:$C$19)*($E$7:$AI$7=1)) | BD14: =AW14+AX14+AY14+BC14-BA14-BB14
A15: 8 | B15: 8 | C15: أيمن أمين أمين حنفي | D15: SO | AJ15: =COUNTIF($E15:$AI15,"P") | AK15: =COUNTIF($E15:$AI15,"غ") | AL15: =COUNTIF($E15:$AI15,"إ") | AM15: =COUNTIF($E15:$AI15,"م") | AN15: =COUNTIF($E15:$AI15,"خ") | AO15: =COUNTIF($E15:$AI15,"د") | AP15: =IF(COUNTA($E15:$AI15)=0,0,SUMPRODUCT(($E$5:$AI$5<>"")*($E15:$AI15=""))) | AQ15: =SUMPRODUCT(SUMIF(الإعدادات!$A$14:$A$19,$E15:$AI15,الإعدادات!$C$14:$C$19)) | AR15: =AQ15+AP15 | AT15: =IF(COUNTA($E15:$AI15)=0,IF(AS15="",0,AS15),IF(AS15="",AR15,AS15)) | AU15: =IFERROR(VLOOKUP($B15,'بيانات الموظفين'!$B$7:$K$65,5,FALSE),0) | AV15: =IF(AU15=0,0,AU15/الإعدادات!$C$7) | AW15: =IF(AT15>=(COUNT($E$5:$AI$5)-الإعدادات!$C$6),AU15+AV15*(AT15-(COUNT($E$5:$AI$5)-الإعدادات!$C$6)),AV15*AT15) | AX15: =AQ15*IFERROR(VLOOKUP($B15,'بيانات الموظفين'!$B$7:$K$65,7,FALSE),الإعدادات!$C$8) | AY15: =IF(COUNTA($E15:$AI15)=0,0,IFERROR(VLOOKUP($B15,'بيانات الموظفين'!$B$7:$K$65,6,FALSE),0)) | BA15: =AZ15*AV15 | BC15: =AV15*الإعدادات!$C$9*SUMPRODUCT(SUMIF(الإعدادات!$A$14:$A$19,$E15:$AI15,الإعدادات!$C$14:$C$19)*($E$7:$AI$7=1)) | BD15: =AW15+AX15+AY15+BC15-BA15-BB15
A16: 9 | B16: 9 | C16: احمد فتحي محمد زيدان | D16: SO | AJ16: =COUNTIF($E16:$AI16,"P") | AK16: =COUNTIF($E16:$AI16,"غ") | AL16: =COUNTIF($E16:$AI16,"إ") | AM16: =COUNTIF($E16:$AI16,"م") | AN16: =COUNTIF($E16:$AI16,"خ") | AO16: =COUNTIF($E16:$AI16,"د") | AP16: =IF(COUNTA($E16:$AI16)=0,0,SUMPRODUCT(($E$5:$AI$5<>"")*($E16:$AI16=""))) | AQ16: =SUMPRODUCT(SUMIF(الإعدادات!$A$14:$A$19,$E16:$AI16,الإعدادات!$C$14:$C$19)) | AR16: =AQ16+AP16 | AT16: =IF(COUNTA($E16:$AI16)=0,IF(AS16="",0,AS16),IF(AS16="",AR16,AS16)) | AU16: =IFERROR(VLOOKUP($B16,'بيانات الموظفين'!$B$7:$K$65,5,FALSE),0) | AV16: =IF(AU16=0,0,AU16/الإعدادات!$C$7) | AW16: =IF(AT16>=(COUNT($E$5:$AI$5)-الإعدادات!$C$6),AU16+AV16*(AT16-(COUNT($E$5:$AI$5)-الإعدادات!$C$6)),AV16*AT16) | AX16: =AQ16*IFERROR(VLOOKUP($B16,'بيانات الموظفين'!$B$7:$K$65,7,FALSE),الإعدادات!$C$8) | AY16: =IF(COUNTA($E16:$AI16)=0,0,IFERROR(VLOOKUP($B16,'بيانات الموظفين'!$B$7:$K$65,6,FALSE),0)) | BA16: =AZ16*AV16 | BC16: =AV16*الإعدادات!$C$9*SUMPRODUCT(SUMIF(الإعدادات!$A$14:$A$19,$E16:$AI16,الإعدادات!$C$14:$C$19)*($E$7:$AI$7=1)) | BD16: =AW16+AX16+AY16+BC16-BA16-BB16
A17: 10 | B17: 10 | C17: البدري عبد الكريم محمد حسانين | D17: SO | AJ17: =COUNTIF($E17:$AI17,"P") | AK17: =COUNTIF($E17:$AI17,"غ") | AL17: =COUNTIF($E17:$AI17,"إ") | AM17: =COUNTIF($E17:$AI17,"م") | AN17: =COUNTIF($E17:$AI17,"خ") | AO17: =COUNTIF($E17:$AI17,"د") | AP17: =IF(COUNTA($E17:$AI17)=0,0,SUMPRODUCT(($E$5:$AI$5<>"")*($E17:$AI17=""))) | AQ17: =SUMPRODUCT(SUMIF(الإعدادات!$A$14:$A$19,$E17:$AI17,الإعدادات!$C$14:$C$19)) | AR17: =AQ17+AP17 | AT17: =IF(COUNTA($E17:$AI17)=0,IF(AS17="",0,AS17),IF(AS17="",AR17,AS17)) | AU17: =IFERROR(VLOOKUP($B17,'بيانات الموظفين'!$B$7:$K$65,5,FALSE),0) | AV17: =IF(AU17=0,0,AU17/الإعدادات!$C$7) | AW17: =IF(AT17>=(COUNT($E$5:$AI$5)-الإعدادات!$C$6),AU17+AV17*(AT17-(COUNT($E$5:$AI$5)-الإعدادات!$C$6)),AV17*AT17) | AX17: =AQ17*IFERROR(VLOOKUP($B17,'بيانات الموظفين'!$B$7:$K$65,7,FALSE),الإعدادات!$C$8) | AY17: =IF(COUNTA($E17:$AI17)=0,0,IFERROR(VLOOKUP($B17,'بيانات الموظفين'!$B$7:$K$65,6,FALSE),0)) | BA17: =AZ17*AV17 | BC17: =AV17*الإعدادات!$C$9*SUMPRODUCT(SUMIF(الإعدادات!$A$14:$A$19,$E17:$AI17,الإعدادات!$C$14:$C$19)*($E$7:$AI$7=1)) | BD17: =AW17+AX17+AY17+BC17-BA17-BB17
A18: 11 | B18: 11 | C18: أحمد عبد الرحيم خضري حسين | D18: SO | AJ18: =COUNTIF($E18:$AI18,"P") | AK18: =COUNTIF($E18:$AI18,"غ") | AL18: =COUNTIF($E18:$AI18,"إ") | AM18: =COUNTIF($E18:$AI18,"م") | AN18: =COUNTIF($E18:$AI18,"خ") | AO18: =COUNTIF($E18:$AI18,"د") | AP18: =IF(COUNTA($E18:$AI18)=0,0,SUMPRODUCT(($E$5:$AI$5<>"")*($E18:$AI18=""))) | AQ18: =SUMPRODUCT(SUMIF(الإعدادات!$A$14:$A$19,$E18:$AI18,الإعدادات!$C$14:$C$19)) | AR18: =AQ18+AP18 | AT18: =IF(COUNTA($E18:$AI18)=0,IF(AS18="",0,AS18),IF(AS18="",AR18,AS18)) | AU18: =IFERROR(VLOOKUP($B18,'بيانات الموظفين'!$B$7:$K$65,5,FALSE),0) | AV18: =IF(AU18=0,0,AU18/الإعدادات!$C$7) | AW18: =IF(AT18>=(COUNT($E$5:$AI$5)-الإعدادات!$C$6),AU18+AV18*(AT18-(COUNT($E$5:$AI$5)-الإعدادات!$C$6)),AV18*AT18) | AX18: =AQ18*IFERROR(VLOOKUP($B18,'بيانات الموظفين'!$B$7:$K$65,7,FALSE),الإعدادات!$C$8) | AY18: =IF(COUNTA($E18:$AI18)=0,0,IFERROR(VLOOKUP($B18,'بيانات الموظفين'!$B$7:$K$65,6,FALSE),0)) | BA18: =AZ18*AV18 | BC18: =AV18*الإعدادات!$C$9*SUMPRODUCT(SUMIF(الإعدادات!$A$14:$A$19,$E18:$AI18,الإعدادات!$C$14:$C$19)*($E$7:$AI$7=1)) | BD18: =AW18+AX18+AY18+BC18-BA18-BB18
A19: 12 | B19: 12 | C19: محمد سلطان النطري محمد | D19: SO | AJ19: =COUNTIF($E19:$AI19,"P") | AK19: =COUNTIF($E19:$AI19,"غ") | AL19: =COUNTIF($E19:$AI19,"إ") | AM19: =COUNTIF($E19:$AI19,"م") | AN19: =COUNTIF($E19:$AI19,"خ") | AO19: =COUNTIF($E19:$AI19,"د") | AP19: =IF(COUNTA($E19:$AI19)=0,0,SUMPRODUCT(($E$5:$AI$5<>"")*($E19:$AI19=""))) | AQ19: =SUMPRODUCT(SUMIF(الإعدادات!$A$14:$A$19,$E19:$AI19,الإعدادات!$C$14:$C$19)) | AR19: =AQ19+AP19 | AT19: =IF(COUNTA($E19:$AI19)=0,IF(AS19="",0,AS19),IF(AS19="",AR19,AS19)) | AU19: =IFERROR(VLOOKUP($B19,'بيانات الموظفين'!$B$7:$K$65,5,FALSE),0) | AV19: =IF(AU19=0,0,AU19/الإعدادات!$C$7) | AW19: =IF(AT19>=(COUNT($E$5:$AI$5)-الإعدادات!$C$6),AU19+AV19*(AT19-(COUNT($E$5:$AI$5)-الإعدادات!$C$6)),AV19*AT19) | AX19: =AQ19*IFERROR(VLOOKUP($B19,'بيانات الموظفين'!$B$7:$K$65,7,FALSE),الإعدادات!$C$8) | AY19: =IF(COUNTA($E19:$AI19)=0,0,IFERROR(VLOOKUP($B19,'بيانات الموظفين'!$B$7:$K$65,6,FALSE),0)) | BA19: =AZ19*AV19 | BC19: =AV19*الإعدادات!$C$9*SUMPRODUCT(SUMIF(الإعدادات!$A$14:$A$19,$E19:$AI19,الإعدادات!$C$14:$C$19)*($E$7:$AI$7=1)) | BD19: =AW19+AX19+AY19+BC19-BA19-BB19
... A66: 59 | B66: 59 | C66: حسن محمد حسن حسيني | D66: SO | AJ66: =COUNTIF($E66:$AI66,"P") | AK66: =COUNTIF($E66:$AI66,"غ") | AL66: =COUNTIF($E66:$AI66,"إ") | AM66: =COUNTIF($E66:$AI66,"م") | AN66: =COUNTIF($E66:$AI66,"خ") | AO66: =COUNTIF($E66:$AI66,"د") | AP66: =IF(COUNTA($E66:$AI66)=0,0,SUMPRODUCT(($E$5:$AI$5<>"")*($E66:$AI66=""))) | AQ66: =SUMPRODUCT(SUMIF(الإعدادات!$A$14:$A$19,$E66:$AI66,الإعدادات!$C$14:$C$19)) | AR66: =AQ66+AP66 | AT66: =IF(COUNTA($E66:$AI66)=0,IF(AS66="",0,AS66),IF(AS66="",AR66,AS66)) | AU66: =IFERROR(VLOOKUP($B66,'بيانات الموظفين'!$B$7:$K$65,5,FALSE),0) | AV66: =IF(AU66=0,0,AU66/الإعدادات!$C$7) | AW66: =IF(AT66>=(COUNT($E$5:$AI$5)-الإعدادات!$C$6),AU66+AV66*(AT66-(COUNT($E$5:$AI$5)-الإعدادات!$C$6)),AV66*AT66) | AX66: =AQ66*IFERROR(VLOOKUP($B66,'بيانات الموظفين'!$B$7:$K$65,7,FALSE),الإعدادات!$C$8) | AY66: =IF(COUNTA($E66:$AI66)=0,0,IFERROR(VLOOKUP($B66,'بيانات الموظفين'!$B$7:$K$65,6,FALSE),0)) | BA66: =AZ66*AV66 | BC66: =AV66*الإعدادات!$C$9*SUMPRODUCT(SUMIF(الإعدادات!$A$14:$A$19,$E66:$AI66,الإعدادات!$C$14:$C$19)*($E$7:$AI$7=1)) | BD66: =AW66+AX66+AY66+BC66-BA66-BB66
A67: الإجمالي — 59 موظفًا | AJ67: =SUM(AJ8:AJ66) | AK67: =SUM(AK8:AK66) | AL67: =SUM(AL8:AL66) | AM67: =SUM(AM8:AM66) | AN67: =SUM(AN8:AN66) | AO67: =SUM(AO8:AO66) | AP67: =SUM(AP8:AP66) | AQ67: =SUM(AQ8:AQ66) | ... AU67: =SUM(AU8:AU66) | AW67: =SUM(AW8:AW66) | AX67: =SUM(AX8:AX66) | AY67: =SUM(AY8:AY66) | AZ67: =SUM(AZ8:AZ66) | BA67: =SUM(BA8:BA66) | BB67: =SUM(BB8:BB66) | BC67: =SUM(BC8:BC66) | BD67: =SUM(BD8:BD66)
A69: طريقة الحساب: قيمة اليوم = الراتب الأساسي ÷ 30 • أجر الأيام = قيمة اليوم × الأيام النهائية، وإذا زادت الأيام عن أيام المعيار (أيام الشهر − 4) يُضاف الفرق بأجر اليوم • الوجبات = أيام الحضور × بدل الوجبة اليومي • بدل العطلة = قيمة اليوم × 2 لكل يوم عطلة حضر فيه الموظف • الصافي = أجر الأيام + الوجبات + بدل التأمين + بدل العطلة − قيمة الجزاء − أي خصم آخر • عمود «تعديل يدوي» للموظف الجديد أو منتصف الشهر ويُلغي الحساب التلقائي للأيام. تنبيه: الخانة الفارغة تُعدّ يوم راحة مدفوعًا — لا تترك يوم غياب فارغًا، بل سجّله «غ».
A71: إعداد المحاسب: ________________ | S71: مراجعة: ________________ | AK71: اعتماد المدير: ________________

Sheet 02-فبراير
A1: مسير رواتب شهر فبراير 2026 — شركة أرمسترونج | فرع 10 رمضان | موقع التجمعات
A2: أيام الشهر: 28 • أيام المعيار: 24 • بدل الوجبة: 30 ج.م/يوم • قيمة اليوم = الأساسي ÷ 30 • معامل العطلة: 2
A3: الرموز: P حاضر • غ غياب • إ إجازة • م مرضية • خ نصف يوم • د دبل شيفت — والخانة الفارغة = راحة (تُحتسب ضمن الشهر ولا تُحتسب حضورًا)
A5: م | B5: الكود | C5: اسم الموظف | D5: الوظيفة | E5: 1 | F5: 2 | G5: 3 | H5: 4 | I5: 5 | J5: 6 | K5: 7 | L5: 8 | M5: 9 | N5: 10 | O5: 11 | P5: 12 | Q5: 13 | R5: 14 | S5: 15 | T5: 16 | U5: 17 | V5: 18 | W5: 19 | X5: 20 | Y5: 21 | Z5: 22 | AA5: 23 | AB5: 24 | AC5: 25 | AD5: 26 | AE5: 27 | AF5: 28 | AJ5: بيانات الحضور | AR5: أيام الاستحقاق | AU5: الأجر | AX5: البدلات | AZ5: الاستقطاعات | BC5: بدل العطلة | BD5: الصافي المستحق
E6: أ | F6: ن | G6: ث | H6: ر | I6: خ | J6: ج | K6: س | L6: أ | M6: ن | N6: ث | O6: ر | P6: خ | Q6: ج | R6: س | S6: أ | T6: ن | U6: ث | V6: ر | W6: خ | X6: ج | Y6: س | Z6: أ | AA6: ن | AB6: ث | AC6: ر | AD6: خ | AE6: ج | AF6: س | AJ6: حاضر | AK6: غياب | AL6: إجازة | AM6: مرضية | AN6: نصف يوم | AO6: دبل | AP6: راحة (فراغ) | AQ6: أيام الحضور | AR6: أيام محتسبة (تلقائي) | AS6: تعديل يدوي | AT6: الأيام النهائية | AU6: الراتب الأساسي | AV6: قيمة اليوم | AW6: أجر الأيام | AX6: الوجبات | AY6: بدل التأمين (+) | AZ6: جزاء (أيام) | BA6: قيمة الجزاء | BB6: خصم آخر (مبلغ)
A7: عطلة رسمية (1 = يوم عطلة مدفوع بالمعامل) | E7: =IF(COUNTIFS(الإعدادات!$B$23:$B$60,2,الإعدادات!$C$23:$C$60,E$5)>0,1,0) | F7: =IF(COUNTIFS(الإعدادات!$B$23:$B$60,2,الإعدادات!$C$23:$C$60,F$5)>0,1,0) | G7: =IF(COUNTIFS(الإعدادات!$B$23:$B$60,2,الإعدادات!$C$23:$C$60,G$5)>0,1,0) | H7: =IF(COUNTIFS(الإعدادات!$B$23:$B$60,2,الإعدادات!$C$23:$C$60,H$5)>0,1,0) | I7: =IF(COUNTIFS(الإعدادات!$B$23:$B$60,2,الإعدادات!$C$23:$C$60,I$5)>0,1,0) | J7: =IF(COUNTIFS(الإعدادات!$B$23:$B$60,2,الإعدادات!$C$23:$C$60,J$5)>0,1,0) | K7: =IF(COUNTIFS(الإعدادات!$B$23:$B$60,2,الإعدادات!$C$23:$C$60,K$5)>0,1,0) | L7: =IF(COUNTIFS(الإعدادات!$B$23:$B$60,2,الإعدادات!$C$23:$C$60,L$5)>0,1,0) | ... AF7: =IF(COUNTIFS(الإعدادات!$B$23:$B$60,2,الإعدادات!$C$23:$C$60,AF$5)>0,1,0)
A8: 1 | B8: 1 | C8: صابر محمود محمد حسن | D8: SO | AJ8: =COUNTIF($E8:$AI8,"P") | AK8: =COUNTIF($E8:$AI8,"غ") | AL8: =COUNTIF($E8:$AI8,"إ") | AM8: =COUNTIF($E8:$AI8,"م") | AN8: =COUNTIF($E8:$AI8,"خ") | AO8: =COUNTIF($E8:$AI8,"د") | AP8: =IF(COUNTA($E8:$AI8)=0,0,SUMPRODUCT(($E$5:$AI$5<>"")*($E8:$AI8=""))) | AQ8: =SUMPRODUCT(SUMIF(الإعدادات!$A$14:$A$19,$E8:$AI8,الإعدادات!$C$14:$C$19)) | AR8: =AQ8+AP8 | AT8: =IF(COUNTA($E8:$AI8)=0,IF(AS8="",0,AS8),IF(AS8="",AR8,AS8)) | AU8: =IFERROR(VLOOKUP($B8,'بيانات الموظفين'!$B$7:$K$65,5,FALSE),0) | AV8: =IF(AU8=0,0,AU8/الإعدادات!$C$7) | AW8: =IF(AT8>=(COUNT($E$5:$AI$5)-الإعدادات!$C$6),AU8+AV8*(AT8-(COUNT($E$5:$AI$5)-الإعدادات!$C$6)),AV8*AT8) | AX8: =AQ8*IFERROR(VLOOKUP($B8,'بيانات الموظفين'!$B$7:$K$65,7,FALSE),الإعدادات!$C$8) | AY8: =IF(COUNTA($E8:$AI8)=0,0,IFERROR(VLOOKUP($B8,'بيانات الموظفين'!$B$7:$K$65,6,FALSE),0)) | BA8: =AZ8*AV8 | BC8: =AV8*الإعدادات!$C$9*SUMPRODUCT(SUMIF(الإعدادات!$A$14:$A$19,$E8:$AI8,الإعدادات!$C$14:$C$19)*($E$7:$AI$7=1)) | BD8: =AW8+AX8+AY8+BC8-BA8-BB8
A9: 2 | B9: 2 | C9: ناجي محمد حسن ابو العزم | D9: SO | AJ9: =COUNTIF($E9:$AI9,"P") | AK9: =COUNTIF($E9:$AI9,"غ") | AL9: =COUNTIF($E9:$AI9,"إ") | AM9: =COUNTIF($E9:$AI9,"م") | AN9: =COUNTIF($E9:$AI9,"خ") | AO9: =COUNTIF($E9:$AI9,"د") | AP9: =IF(COUNTA($E9:$AI9)=0,0,SUMPRODUCT(($E$5:$AI$5<>"")*($E9:$AI9=""))) | AQ9: =SUMPRODUCT(SUMIF(الإعدادات!$A$14:$A$19,$E9:$AI9,الإعدادات!$C$14:$C$19)) | AR9: =AQ9+AP9 | AT9: =IF(COUNTA($E9:$AI9)=0,IF(AS9="",0,AS9),IF(AS9="",AR9,AS9)) | AU9: =IFERROR(VLOOKUP($B9,'بيانات الموظفين'!$B$7:$K$65,5,FALSE),0) | AV9: =IF(AU9=0,0,AU9/الإعدادات!$C$7) | AW9: =IF(AT9>=(COUNT($E$5:$AI$5)-الإعدادات!$C$6),AU9+AV9*(AT9-(COUNT($E$5:$AI$5)-الإعدادات!$C$6)),AV9*AT9) | AX9: =AQ9*IFERROR(VLOOKUP($B9,'بيانات الموظفين'!$B$7:$K$65,7,FALSE),الإعدادات!$C$8) | AY9: =IF(COUNTA($E9:$AI9)=0,0,IFERROR(VLOOKUP($B9,'بيانات الموظفين'!$B$7:$K$65,6,FALSE),0)) | BA9: =AZ9*AV9 | BC9: =AV9*الإعدادات!$C$9*SUMPRODUCT(SUMIF(الإعدادات!$A$14:$A$19,$E9:$AI9,الإعدادات!$C$14:$C$19)*($E$7:$AI$7=1)) | BD9: =AW9+AX9+AY9+BC9-BA9-BB9
A10: 3 | B10: 3 | C10: طه سامي طه تله | D10: SO | AJ10: =COUNTIF($E10:$AI10,"P") | AK10: =COUNTIF($E10:$AI10,"غ") | AL10: =COUNTIF($E10:$AI10,"إ") | AM10: =COUNTIF($E10:$AI10,"م") | AN10: =COUNTIF($E10:$AI10,"خ") | AO10: =COUNTIF($E10:$AI10,"د") | AP10: =IF(COUNTA($E10:$AI10)=0,0,SUMPRODUCT(($E$5:$AI$5<>"")*($E10:$AI10=""))) | AQ10: =SUMPRODUCT(SUMIF(الإعدادات!$A$14:$A$19,$E10:$AI10,الإعدادات!$C$14:$C$19)) | AR10: =AQ10+AP10 | AT10: =IF(COUNTA($E10:$AI10)=0,IF(AS10="",0,AS10),IF(AS10="",AR10,AS10)) | AU10: =IFERROR(VLOOKUP($B10,'بيانات الموظفين'!$B$7:$K$65,5,FALSE),0) | AV10: =IF(AU10=0,0,AU10/الإعدادات!$C$7) | AW10: =IF(AT10>=(COUNT($E$5:$AI$5)-الإعدادات!$C$6),AU10+AV10*(AT10-(COUNT($E$5:$AI$5)-الإعدادات!$C$6)),AV10*AT10) | AX10: =AQ10*IFERROR(VLOOKUP($B10,'بيانات الموظفين'!$B$7:$K$65,7,FALSE),الإعدادات!$C$8) | AY10: =IF(COUNTA($E10:$AI10)=0,0,IFERROR(VLOOKUP($B10,'بيانات الموظفين'!$B$7:$K$65,6,FALSE),0)) | BA10: =AZ10*AV10 | BC10: =AV10*الإعدادات!$C$9*SUMPRODUCT(SUMIF(الإعدادات!$A$14:$A$19,$E10:$AI10,الإعدادات!$C$14:$C$19)*($E$7:$AI$7=1)) | BD10: =AW10+AX10+AY10+BC10-BA10-BB10
A11: 4 | B11: 4 | C11: مصطفي ربيع محمد حسن | D11: SO | AJ11: =COUNTIF($E11:$AI11,"P") | AK11: =COUNTIF($E11:$AI11,"غ") | AL11: =COUNTIF($E11:$AI11,"إ") | AM11: =COUNTIF($E11:$AI11,"م") | AN11: =COUNTIF($E11:$AI11,"خ") | AO11: =COUNTIF($E11:$AI11,"د") | AP11: =IF(COUNTA($E11:$AI11)=0,0,SUMPRODUCT(($E$5:$AI$5<>"")*($E11:$AI11=""))) | AQ11: =SUMPRODUCT(SUMIF(الإعدادات!$A$14:$A$19,$E11:$AI11,الإعدادات!$C$14:$C$19)) | AR11: =AQ11+AP11 | AT11: =IF(COUNTA($E11:$AI11)=0,IF(AS11="",0,AS11),IF(AS11="",AR11,AS11)) | AU11: =IFERROR(VLOOKUP($B11,'بيانات الموظفين'!$B$7:$K$65,5,FALSE),0) | AV11: =IF(AU11=0,0,AU11/الإعدادات!$C$7) | AW11: =IF(AT11>=(COUNT($E$5:$AI$5)-الإعدادات!$C$6),AU11+AV11*(AT11-(COUNT($E$5:$AI$5)-الإعدادات!$C$6)),AV11*AT11) | AX11: =AQ11*IFERROR(VLOOKUP($B11,'بيانات الموظفين'!$B$7:$K$65,7,FALSE),الإعدادات!$C$8) | AY11: =IF(COUNTA($E11:$AI11)=0,0,IFERROR(VLOOKUP($B11,'بيانات الموظفين'!$B$7:$K$65,6,FALSE),0)) | BA11: =AZ11*AV11 | BC11: =AV11*الإعدادات!$C$9*SUMPRODUCT(SUMIF(الإعدادات!$A$14:$A$19,$E11:$AI11,الإعدادات!$C$14:$C$19)*($E$7:$AI$7=1)) | BD11: =AW11+AX11+AY11+BC11-BA11-BB11
A12: 5 | B12: 5 | C12: محمد محمود خليل غنيم | D12: SO | AJ12: =COUNTIF($E12:$AI12,"P") | AK12: =COUNTIF($E12:$AI12,"غ") | AL12: =COUNTIF($E12:$AI12,"إ") | AM12: =COUNTIF($E12:$AI12,"م") | AN12: =COUNTIF($E12:$AI12,"خ") | AO12: =COUNTIF($E12:$AI12,"د") | AP12: =IF(COUNTA($E12:$AI12)=0,0,SUMPRODUCT(($E$5:$AI$5<>"")*($E12:$AI12=""))) | AQ12: =SUMPRODUCT(SUMIF(الإعدادات!$A$14:$A$19,$E12:$AI12,الإعدادات!$C$14:$C$19)) | AR12: =AQ12+AP12 | AT12: =IF(COUNTA($E12:$AI12)=0,IF(AS12="",0,AS12),IF(AS12="",AR12,AS12)) | AU12: =IFERROR(VLOOKUP($B12,'بيانات الموظفين'!$B$7:$K$65,5,FALSE),0) | AV12: =IF(AU12=0,0,AU12/الإعدادات!$C$7) | AW12: =IF(AT12>=(COUNT($E$5:$AI$5)-الإعدادات!$C$6),AU12+AV12*(AT12-(COUNT($E$5:$AI$5)-الإعدادات!$C$6)),AV12*AT12) | AX12: =AQ12*IFERROR(VLOOKUP($B12,'بيانات الموظفين'!$B$7:$K$65,7,FALSE),الإعدادات!$C$8) | AY12: =IF(COUNTA($E12:$AI12)=0,0,IFERROR(VLOOKUP($B12,'بيانات الموظفين'!$B$7:$K$65,6,FALSE),0)) | BA12: =AZ12*AV12 | BC12: =AV12*الإعدادات!$C$9*SUMPRODUCT(SUMIF(الإعدادات!$A$14:$A$19,$E12:$AI12,الإعدادات!$C$14:$C$19)*($E$7:$AI$7=1)) | BD12: =AW12+AX12+AY12+BC12-BA12-BB12
A13: 6 | B13: 6 | C13: ربيع محمد أحمد محمد | D13: SO | AJ13: =COUNTIF($E13:$AI13,"P") | AK13: =COUNTIF($E13:$AI13,"غ") | AL13: =COUNTIF($E13:$AI13,"إ") | AM13: =COUNTIF($E13:$AI13,"م") | AN13: =COUNTIF($E13:$AI13,"خ") | AO13: =COUNTIF($E13:$AI13,"د") | AP13: =IF(COUNTA($E13:$AI13)=0,0,SUMPRODUCT(($E$5:$AI$5<>"")*($E13:$AI13=""))) | AQ13: =SUMPRODUCT(SUMIF(الإعدادات!$A$14:$A$19,$E13:$AI13,الإعدادات!$C$14:$C$19)) | AR13: =AQ13+AP13 | AT13: =IF(COUNTA($E13:$AI13)=0,IF(AS13="",0,AS13),IF(AS13="",AR13,AS13)) | AU13: =IFERROR(VLOOKUP($B13,'بيانات الموظفين'!$B$7:$K$65,5,FALSE),0) | AV13: =IF(AU13=0,0,AU13/الإعدادات!$C$7) | AW13: =IF(AT13>=(COUNT($E$5:$AI$5)-الإعدادات!$C$6),AU13+AV13*(AT13-(COUNT($E$5:$AI$5)-الإعدادات!$C$6)),AV13*AT13) | AX13: =AQ13*IFERROR(VLOOKUP($B13,'بيانات الموظفين'!$B$7:$K$65,7,FALSE),الإعدادات!$C$8) | AY13: =IF(COUNTA($E13:$AI13)=0,0,IFERROR(VLOOKUP($B13,'بيانات الموظفين'!$B$7:$K$65,6,FALSE),0)) | BA13: =AZ13*AV13 | BC13: =AV13*الإعدادات!$C$9*SUMPRODUCT(SUMIF(الإعدادات!$A$14:$A$19,$E13:$AI13,الإعدادات!$C$14:$C$19)*($E$7:$AI$7=1)) | BD13: =AW13+AX13+AY13+BC13-BA13-BB13
A14: 7 | B14: 7 | C14: حماده محمد محمد عبد الباقي | D14: SO | AJ14: =COUNTIF($E14:$AI14,"P") | AK14: =COUNTIF($E14:$AI14,"غ") | AL14: =COUNTIF($E14:$AI14,"إ") | AM14: =COUNTIF($E14:$AI14,"م") | AN14: =COUNTIF($E14:$AI14,"خ") | AO14: =COUNTIF($E14:$AI14,"د") | AP14: =IF(COUNTA($E14:$AI14)=0,0,SUMPRODUCT(($E$5:$AI$5<>"")*($E14:$AI14=""))) | AQ14: =SUMPRODUCT(SUMIF(الإعدادات!$A$14:$A$19,$E14:$AI14,الإعدادات!$C$14:$C$19)) | AR14: =AQ14+AP14 | AT14: =IF(COUNTA($E14:$AI14)=0,IF(AS14="",0,AS14),IF(AS14="",AR14,AS14)) | AU14: =IFERROR(VLOOKUP($B14,'بيانات الموظفين'!$B$7:$K$65,5,FALSE),0) | AV14: =IF(AU14=0,0,AU14/الإعدادات!$C$7) | AW14: =IF(AT14>=(COUNT($E$5:$AI$5)-الإعدادات!$C$6),AU14+AV14*(AT14-(COUNT($E$5:$AI$5)-الإعدادات!$C$6)),AV14*AT14) | AX14: =AQ14*IFERROR(VLOOKUP($B14,'بيانات الموظفين'!$B$7:$K$65,7,FALSE),الإعدادات!$C$8) | AY14: =IF(COUNTA($E14:$AI14)=0,0,IFERROR(VLOOKUP($B14,'بيانات الموظفين'!$B$7:$K$65,6,FALSE),0)) | BA14: =AZ14*AV14 | BC14: =AV14*الإعدادات!$C$9*SUMPRODUCT(SUMIF(الإعدادات!$A$14:$A$19,$E14:$AI14,الإعدادات!$C$14:$C$19)*($E$7:$AI$7=1)) | BD14: =AW14+AX14+AY14+BC14-BA14-BB14
A15: 8 | B15: 8 | C15: أيمن أمين أمين حنفي | D15: SO | AJ15: =COUNTIF($E15:$AI15,"P") | AK15: =COUNTIF($E15:$AI15,"غ") | AL15: =COUNTIF($E15:$AI15,"إ") | AM15: =COUNTIF($E15:$AI15,"م") | AN15: =COUNTIF($E15:$AI15,"خ") | AO15: =COUNTIF($E15:$AI15,"د") | AP15: =IF(COUNTA($E15:$AI15)=0,0,SUMPRODUCT(($E$5:$AI$5<>"")*($E15:$AI15=""))) | AQ15: =SUMPRODUCT(SUMIF(الإعدادات!$A$14:$A$19,$E15:$AI15,الإعدادات!$C$14:$C$19)) | AR15: =AQ15+AP15 | AT15: =IF(COUNTA($E15:$AI15)=0,IF(AS15="",0,AS15),IF(AS15="",AR15,AS15)) | AU15: =IFERROR(VLOOKUP($B15,'بيانات الموظفين'!$B$7:$K$65,5,FALSE),0) | AV15: =IF(AU15=0,0,AU15/الإعدادات!$C$7) | AW15: =IF(AT15>=(COUNT($E$5:$AI$5)-الإعدادات!$C$6),AU15+AV15*(AT15-(COUNT($E$5:$AI$5)-الإعدادات!$C$6)),AV15*AT15) | AX15: =AQ15*IFERROR(VLOOKUP($B15,'بيانات الموظفين'!$B$7:$K$65,7,FALSE),الإعدادات!$C$8) | AY15: =IF(COUNTA($E15:$AI15)=0,0,IFERROR(VLOOKUP($B15,'بيانات الموظفين'!$B$7:$K$65,6,FALSE),0)) | BA15: =AZ15*AV15 | BC15: =AV15*الإعدادات!$C$9*SUMPRODUCT(SUMIF(الإعدادات!$A$14:$A$19,$E15:$AI15,الإعدادات!$C$14:$C$19)*($E$7:$AI$7=1)) | BD15: =AW15+AX15+AY15+BC15-BA15-BB15
A16: 9 | B16: 9 | C16: احمد فتحي محمد زيدان | D16: SO | AJ16: =COUNTIF($E16:$AI16,"P") | AK16: =COUNTIF($E16:$AI16,"غ") | AL16: =COUNTIF($E16:$AI16,"إ") | AM16: =COUNTIF($E16:$AI16,"م") | AN16: =COUNTIF($E16:$AI16,"خ") | AO16: =COUNTIF($E16:$AI16,"د") | AP16: =IF(COUNTA($E16:$AI16)=0,0,SUMPRODUCT(($E$5:$AI$5<>"")*($E16:$AI16=""))) | AQ16: =SUMPRODUCT(SUMIF(الإعدادات!$A$14:$A$19,$E16:$AI16,الإعدادات!$C$14:$C$19)) | AR16: =AQ16+AP16 | AT16: =IF(COUNTA($E16:$AI16)=0,IF(AS16="",0,AS16),IF(AS16="",AR16,AS16)) | AU16: =IFERROR(VLOOKUP($B16,'بيانات الموظفين'!$B$7:$K$65,5,FALSE),0) | AV16: =IF(AU16=0,0,AU16/الإعدادات!$C$7) | AW16: =IF(AT16>=(COUNT($E$5:$AI$5)-الإعدادات!$C$6),AU16+AV16*(AT16-(COUNT($E$5:$AI$5)-الإعدادات!$C$6)),AV16*AT16) | AX16: =AQ16*IFERROR(VLOOKUP($B16,'بيانات الموظفين'!$B$7:$K$65,7,FALSE),الإعدادات!$C$8) | AY16: =IF(COUNTA($E16:$AI16)=0,0,IFERROR(VLOOKUP($B16,'بيانات الموظفين'!$B$7:$K$65,6,FALSE),0)) | BA16: =AZ16*AV16 | BC16: =AV16*الإعدادات!$C$9*SUMPRODUCT(SUMIF(الإعدادات!$A$14:$A$19,$E16:$AI16,الإعدادات!$C$14:$C$19)*($E$7:$AI$7=1)) | BD16: =AW16+AX16+AY16+BC16-BA16-BB16
A17: 10 | B17: 10 | C17: البدري عبد الكريم محمد حسانين | D17: SO | AJ17: =COUNTIF($E17:$AI17,"P") | AK17: =COUNTIF($E17:$AI17,"غ") | AL17: =COUNTIF($E17:$AI17,"إ") | AM17: =COUNTIF($E17:$AI17,"م") | AN17: =COUNTIF($E17:$AI17,"خ") | AO17: =COUNTIF($E17:$AI17,"د") | AP17: =IF(COUNTA($E17:$AI17)=0,0,SUMPRODUCT(($E$5:$AI$5<>"")*($E17:$AI17=""))) | AQ17: =SUMPRODUCT(SUMIF(الإعدادات!$A$14:$A$19,$E17:$AI17,الإعدادات!$C$14:$C$19)) | AR17: =AQ17+AP17 | AT17: =IF(COUNTA($E17:$AI17)=0,IF(AS17="",0,AS17),IF(AS17="",AR17,AS17)) | AU17: =IFERROR(VLOOKUP($B17,'بيانات الموظفين'!$B$7:$K$65,5,FALSE),0) | AV17: =IF(AU17=0,0,AU17/الإعدادات!$C$7) | AW17: =IF(AT17>=(COUNT($E$5:$AI$5)-الإعدادات!$C$6),AU17+AV17*(AT17-(COUNT($E$5:$AI$5)-الإعدادات!$C$6)),AV17*AT17) | AX17: =AQ17*IFERROR(VLOOKUP($B17,'بيانات الموظفين'!$B$7:$K$65,7,FALSE),الإعدادات!$C$8) | AY17: =IF(COUNTA($E17:$AI17)=0,0,IFERROR(VLOOKUP($B17,'بيانات الموظفين'!$B$7:$K$65,6,FALSE),0)) | BA17: =AZ17*AV17 | BC17: =AV17*الإعدادات!$C$9*SUMPRODUCT(SUMIF(الإعدادات!$A$14:$A$19,$E17:$AI17,الإعدادات!$C$14:$C$19)*($E$7:$AI$7=1)) | BD17: =AW17+AX17+AY17+BC17-BA17-BB17
A18: 11 | B18: 11 | C18: أحمد عبد الرحيم خضري حسين | D18: SO | AJ18: =COUNTIF($E18:$AI18,"P") | AK18: =COUNTIF($E18:$AI18,"غ") | AL18: =COUNTIF($E18:$AI18,"إ") | AM18: =COUNTIF($E18:$AI18,"م") | AN18: =COUNTIF($E18:$AI18,"خ") | AO18: =COUNTIF($E18:$AI18,"د") | AP18: =IF(COUNTA($E18:$AI18)=0,0,SUMPRODUCT(($E$5:$AI$5<>"")*($E18:$AI18=""))) | AQ18: =SUMPRODUCT(SUMIF(الإعدادات!$A$14:$A$19,$E18:$AI18,الإعدادات!$C$14:$C$19)) | AR18: =AQ18+AP18 | AT18: =IF(COUNTA($E18:$AI18)=0,IF(AS18="",0,AS18),IF(AS18="",AR18,AS18)) | AU18: =IFERROR(VLOOKUP($B18,'بيانات الموظفين'!$B$7:$K$65,5,FALSE),0) | AV18: =IF(AU18=0,0,AU18/الإعدادات!$C$7) | AW18: =IF(AT18>=(COUNT($E$5:$AI$5)-الإعدادات!$C$6),AU18+AV18*(AT18-(COUNT($E$5:$AI$5)-الإعدادات!$C$6)),AV18*AT18) | AX18: =AQ18*IFERROR(VLOOKUP($B18,'بيانات الموظفين'!$B$7:$K$65,7,FALSE),الإعدادات!$C$8) | AY18: =IF(COUNTA($E18:$AI18)=0,0,IFERROR(VLOOKUP($B18,'بيانات الموظفين'!$B$7:$K$65,6,FALSE),0)) | BA18: =AZ18*AV18 | BC18: =AV18*الإعدادات!$C$9*SUMPRODUCT(SUMIF(الإعدادات!$A$14:$A$19,$E18:$AI18,الإعدادات!$C$14:$C$19)*($E$7:$AI$7=1)) | BD18: =AW18+AX18+AY18+BC18-BA18-BB18
A19: 12 | B19: 12 | C19: محمد سلطان النطري محمد | D19: SO | AJ19: =COUNTIF($E19:$AI19,"P") | AK19: =COUNTIF($E19:$AI19,"غ") | AL19: =COUNTIF($E19:$AI19,"إ") | AM19: =COUNTIF($E19:$AI19,"م") | AN19: =COUNTIF($E19:$AI19,"خ") | AO19: =COUNTIF($E19:$AI19,"د") | AP19: =IF(COUNTA($E19:$AI19)=0,0,SUMPRODUCT(($E$5:$AI$5<>"")*($E19:$AI19=""))) | AQ19: =SUMPRODUCT(SUMIF(الإعدادات!$A$14:$A$19,$E19:$AI19,الإعدادات!$C$14:$C$19)) | AR19: =AQ19+AP19 | AT19: =IF(COUNTA($E19:$AI19)=0,IF(AS19="",0,AS19),IF(AS19="",AR19,AS19)) | AU19: =IFERROR(VLOOKUP($B19,'بيانات الموظفين'!$B$7:$K$65,5,FALSE),0) | AV19: =IF(AU19=0,0,AU19/الإعدادات!$C$7) | AW19: =IF(AT19>=(COUNT($E$5:$AI$5)-الإعدادات!$C$6),AU19+AV19*(AT19-(COUNT($E$5:$AI$5)-الإعدادات!$C$6)),AV19*AT19) | AX19: =AQ19*IFERROR(VLOOKUP($B19,'بيانات الموظفين'!$B$7:$K$65,7,FALSE),الإعدادات!$C$8) | AY19: =IF(COUNTA($E19:$AI19)=0,0,IFERROR(VLOOKUP($B19,'بيانات الموظفين'!$B$7:$K$65,6,FALSE),0)) | BA19: =AZ19*AV19 | BC19: =AV19*الإعدادات!$C$9*SUMPRODUCT(SUMIF(الإعدادات!$A$14:$A$19,$E19:$AI19,الإعدادات!$C$14:$C$19)*($E$7:$AI$7=1)) | BD19: =AW19+AX19+AY19+BC19-BA19-BB19
... A66: 59 | B66: 59 | C66: حسن محمد حسن حسيني | D66: SO | AJ66: =COUNTIF($E66:$AI66,"P") | AK66: =COUNTIF($E66:$AI66,"غ") | AL66: =COUNTIF($E66:$AI66,"إ") | AM66: =COUNTIF($E66:$AI66,"م") | AN66: =COUNTIF($E66:$AI66,"خ") | AO66: =COUNTIF($E66:$AI66,"د") | AP66: =IF(COUNTA($E66:$AI66)=0,0,SUMPRODUCT(($E$5:$AI$5<>"")*($E66:$AI66=""))) | AQ66: =SUMPRODUCT(SUMIF(الإعدادات!$A$14:$A$19,$E66:$AI66,الإعدادات!$C$14:$C$19)) | AR66: =AQ66+AP66 | AT66: =IF(COUNTA($E66:$AI66)=0,IF(AS66="",0,AS66),IF(AS66="",AR66,AS66)) | AU66: =IFERROR(VLOOKUP($B66,'بيانات الموظفين'!$B$7:$K$65,5,FALSE),0) | AV66: =IF(AU66=0,0,AU66/الإعدادات!$C$7) | AW66: =IF(AT66>=(COUNT($E$5:$AI$5)-الإعدادات!$C$6),AU66+AV66*(AT66-(COUNT($E$5:$AI$5)-الإعدادات!$C$6)),AV66*AT66) | AX66: =AQ66*IFERROR(VLOOKUP($B66,'بيانات الموظفين'!$B$7:$K$65,7,FALSE),الإعدادات!$C$8) | AY66: =IF(COUNTA($E66:$AI66)=0,0,IFERROR(VLOOKUP($B66,'بيانات الموظفين'!$B$7:$K$65,6,FALSE),0)) | BA66: =AZ66*AV66 | BC66: =AV66*الإعدادات!$C$9*SUMPRODUCT(SUMIF(الإعدادات!$A$14:$A$19,$E66:$AI66,الإعدادات!$C$14:$C$19)*($E$7:$AI$7=1)) | BD66: =AW66+AX66+AY66+BC66-BA66-BB66
A67: الإجمالي — 59 موظفًا | AJ67: =SUM(AJ8:AJ66) | AK67: =SUM(AK8:AK66) | AL67: =SUM(AL8:AL66) | AM67: =SUM(AM8:AM66) | AN67: =SUM(AN8:AN66) | AO67: =SUM(AO8:AO66) | AP67: =SUM(AP8:AP66) | AQ67: =SUM(AQ8:AQ66) | ... AU67: =SUM(AU8:AU66) | AW67: =SUM(AW8:AW66) | AX67: =SUM(AX8:AX66) | AY67: =SUM(AY8:AY66) | AZ67: =SUM(AZ8:AZ66) | BA67: =SUM(BA8:BA66) | BB67: =SUM(BB8:BB66) | BC67: =SUM(BC8:BC66) | BD67: =SUM(BD8:BD66)
A69: طريقة الحساب: قيمة اليوم = الراتب الأساسي ÷ 30 • أجر الأيام = قيمة اليوم × الأيام النهائية، وإذا زادت الأيام عن أيام المعيار (أيام الشهر − 4) يُضاف الفرق بأجر اليوم • الوجبات = أيام الحضور × بدل الوجبة اليومي • بدل العطلة = قيمة اليوم × 2 لكل يوم عطلة حضر فيه الموظف • الصافي = أجر الأيام + الوجبات + بدل التأمين + بدل العطلة − قيمة الجزاء − أي خصم آخر • عمود «تعديل يدوي» للموظف الجديد أو منتصف الشهر ويُلغي الحساب التلقائي للأيام. تنبيه: الخانة الفارغة تُعدّ يوم راحة مدفوعًا — لا تترك يوم غياب فارغًا، بل سجّله «غ».
A71: إعداد المحاسب: ________________ | S71: مراجعة: ________________ | AK71: اعتماد المدير: ________________

Sheet 03-مارس
A1: مسير رواتب شهر مارس 2026 — شركة أرمسترونج | فرع 10 رمضان | موقع التجمعات
A2: أيام الشهر: 31 • أيام المعيار: 27 • بدل الوجبة: 30 ج.م/يوم • قيمة اليوم = الأساسي ÷ 30 • معامل العطلة: 2
A3: الرموز: P حاضر • غ غياب • إ إجازة • م مرضية • خ نصف يوم • د دبل شيفت — والخانة الفارغة = راحة (تُحتسب ضمن الشهر ولا تُحتسب حضورًا)
A5: م | B5: الكود | C5: اسم الموظف | D5: الوظيفة | E5: 1 | F5: 2 | G5: 3 | H5: 4 | I5: 5 | J5: 6 | K5: 7 | L5: 8 | M5: 9 | N5: 10 | O5: 11 | P5: 12 | Q5: 13 | R5: 14 | S5: 15 | T5: 16 | U5: 17 | V5: 18 | W5: 19 | X5: 20 | Y5: 21 | Z5: 22 | AA5: 23 | AB5: 24 | AC5: 25 | AD5: 26 | AE5: 27 | AF5: 28 | AG5: 29 | AH5: 30 | AI5: 31 | AJ5: بيانات الحضور | AR5: أيام الاستحقاق | AU5: الأجر | AX5: البدلات | AZ5: الاستقطاعات | BC5: بدل العطلة | BD5: الصافي المستحق
E6: أ | F6: ن | G6: ث | H6: ر | I6: خ | J6: ج | K6: س | L6: أ | M6: ن | N6: ث | O6: ر | P6: خ | Q6: ج | R6: س | S6: أ | T6: ن | U6: ث | V6: ر | W6: خ | X6: ج | Y6: س | Z6: أ | AA6: ن | AB6: ث | AC6: ر | AD6: خ | AE6: ج | AF6: س | AG6: أ | AH6: ن | AI6: ث | AJ6: حاضر | AK6: غياب | AL6: إجازة | AM6: مرضية | AN6: نصف يوم | AO6: دبل | AP6: راحة (فراغ) | AQ6: أيام الحضور | AR6: أيام محتسبة (تلقائي) | AS6: تعديل يدوي | AT6: الأيام النهائية | AU6: الراتب الأساسي | AV6: قيمة اليوم | AW6: أجر الأيام | AX6: الوجبات | AY6: بدل التأمين (+) | AZ6: جزاء (أيام) | BA6: قيمة الجزاء | BB6: خصم آخر (مبلغ)
A7: عطلة رسمية (1 = يوم عطلة مدفوع بالمعامل) | E7: =IF(COUNTIFS(الإعدادات!$B$23:$B$60,3,الإعدادات!$C$23:$C$60,E$5)>0,1,0) | F7: =IF(COUNTIFS(الإعدادات!$B$23:$B$60,3,الإعدادات!$C$23:$C$60,F$5)>0,1,0) | G7: =IF(COUNTIFS(الإعدادات!$B$23:$B$60,3,الإعدادات!$C$23:$C$60,G$5)>0,1,0) | H7: =IF(COUNTIFS(الإعدادات!$B$23:$B$60,3,الإعدادات!$C$23:$C$60,H$5)>0,1,0) | I7: =IF(COUNTIFS(الإعدادات!$B$23:$B$60,3,الإعدادات!$C$23:$C$60,I$5)>0,1,0) | J7: =IF(COUNTIFS(الإعدادات!$B$23:$B$60,3,الإعدادات!$C$23:$C$60,J$5)>0,1,0) | K7: =IF(COUNTIFS(الإعدادات!$B$23:$B$60,3,الإعدادات!$C$23:$C$60,K$5)>0,1,0) | L7: =IF(COUNTIFS(الإعدادات!$B$23:$B$60,3,الإعدادات!$C$23:$C$60,L$5)>0,1,0) | ... AI7: =IF(COUNTIFS(الإعدادات!$B$23:$B$60,3,الإعدادات!$C$23:$C$60,AI$5)>0,1,0)
A8: 1 | B8: 1 | C8: صابر محمود محمد حسن | D8: SO | AJ8: =COUNTIF($E8:$AI8,"P") | AK8: =COUNTIF($E8:$AI8,"غ") | AL8: =COUNTIF($E8:$AI8,"إ") | AM8: =COUNTIF($E8:$AI8,"م") | AN8: =COUNTIF($E8:$AI8,"خ") | AO8: =COUNTIF($E8:$AI8,"د") | AP8: =IF(COUNTA($E8:$AI8)=0,0,SUMPRODUCT(($E$5:$AI$5<>"")*($E8:$AI8=""))) | AQ8: =SUMPRODUCT(SUMIF(الإعدادات!$A$14:$A$19,$E8:$AI8,الإعدادات!$C$14:$C$19)) | AR8: =AQ8+AP8 | AT8: =IF(COUNTA($E8:$AI8)=0,IF(AS8="",0,AS8),IF(AS8="",AR8,AS8)) | AU8: =IFERROR(VLOOKUP($B8,'بيانات الموظفين'!$B$7:$K$65,5,FALSE),0) | AV8: =IF(AU8=0,0,AU8/الإعدادات!$C$7) | AW8: =IF(AT8>=(COUNT($E$5:$AI$5)-الإعدادات!$C$6),AU8+AV8*(AT8-(COUNT($E$5:$AI$5)-الإعدادات!$C$6)),AV8*AT8) | AX8: =AQ8*IFERROR(VLOOKUP($B8,'بيانات الموظفين'!$B$7:$K$65,7,FALSE),الإعدادات!$C$8) | AY8: =IF(COUNTA($E8:$AI8)=0,0,IFERROR(VLOOKUP($B8,'بيانات الموظفين'!$B$7:$K$65,6,FALSE),0)) | BA8: =AZ8*AV8 | BC8: =AV8*الإعدادات!$C$9*SUMPRODUCT(SUMIF(الإعدادات!$A$14:$A$19,$E8:$AI8,الإعدادات!$C$14:$C$19)*($E$7:$AI$7=1)) | BD8: =AW8+AX8+AY8+BC8-BA8-BB8
A9: 2 | B9: 2 | C9: ناجي محمد حسن ابو العزم | D9: SO | AJ9: =COUNTIF($E9:$AI9,"P") | AK9: =COUNTIF($E9:$AI9,"غ") | AL9: =COUNTIF($E9:$AI9,"إ") | AM9: =COUNTIF($E9:$AI9,"م") | AN9: =COUNTIF($E9:$AI9,"خ") | AO9: =COUNTIF($E9:$AI9,"د") | AP9: =IF(COUNTA($E9:$AI9)=0,0,SUMPRODUCT(($E$5:$AI$5<>"")*($E9:$AI9=""))) | AQ9: =SUMPRODUCT(SUMIF(الإعدادات!$A$14:$A$19,$E9:$AI9,الإعدادات!$C$14:$C$19)) | AR9: =AQ9+AP9 | AT9: =IF(COUNTA($E9:$AI9)=0,IF(AS9="",0,AS9),IF(AS9="",AR9,AS9)) | AU9: =IFERROR(VLOOKUP($B9,'بيانات الموظفين'!$B$7:$K$65,5,FALSE),0) | AV9: =IF(AU9=0,0,AU9/الإعدادات!$C$7) | AW9: =IF(AT9>=(COUNT($E$5:$AI$5)-الإعدادات!$C$6),AU9+AV9*(AT9-(COUNT($E$5:$AI$5)-الإعدادات!$C$6)),AV9*AT9) | AX9: =AQ9*IFERROR(VLOOKUP($B9,'بيانات الموظفين'!$B$7:$K$65,7,FALSE),الإعدادات!$C$8) | AY9: =IF(COUNTA($E9:$AI9)=0,0,IFERROR(VLOOKUP($B9,'بيانات الموظفين'!$B$7:$K$65,6,FALSE),0)) | BA9: =AZ9*AV9 | BC9: =AV9*الإعدادات!$C$9*SUMPRODUCT(SUMIF(الإعدادات!$A$14:$A$19,$E9:$AI9,الإعدادات!$C$14:$C$19)*($E$7:$AI$7=1)) | BD9: =AW9+AX9+AY9+BC9-BA9-BB9
A10: 3 | B10: 3 | C10: طه سامي طه تله | D10: SO | AJ10: =COUNTIF($E10:$AI10,"P") | AK10: =COUNTIF($E10:$AI10,"غ") | AL10: =COUNTIF($E10:$AI10,"إ") | AM10: =COUNTIF($E10:$AI10,"م") | AN10: =COUNTIF($E10:$AI10,"خ") | AO10: =COUNTIF($E10:$AI10,"د") | AP10: =IF(COUNTA($E10:$AI10)=0,0,SUMPRODUCT(($E$5:$AI$5<>"")*($E10:$AI10=""))) | AQ10: =SUMPRODUCT(SUMIF(الإعدادات!$A$14:$A$19,$E10:$AI10,الإعدادات!$C$14:$C$19)) | AR10: =AQ10+AP10 | AT10: =IF(COUNTA($E10:$AI10)=0,IF(AS10="",0,AS10),IF(AS10="",AR10,AS10)) | AU10: =IFERROR(VLOOKUP($B10,'بيانات الموظفين'!$B$7:$K$65,5,FALSE),0) | AV10: =IF(AU10=0,0,AU10/الإعدادات!$C$7) | AW10: =IF(AT10>=(COUNT($E$5:$AI$5)-الإعدادات!$C$6),AU10+AV10*(AT10-(COUNT($E$5:$AI$5)-الإعدادات!$C$6)),AV10*AT10) | AX10: =AQ10*IFERROR(VLOOKUP($B10,'بيانات الموظفين'!$B$7:$K$65,7,FALSE),الإعدادات!$C$8) | AY10: =IF(COUNTA($E10:$AI10)=0,0,IFERROR(VLOOKUP($B10,'بيانات الموظفين'!$B$7:$K$65,6,FALSE),0)) | BA10: =AZ10*AV10 | BC10: =AV10*الإعدادات!$C$9*SUMPRODUCT(SUMIF(الإعدادات!$A$14:$A$19,$E10:$AI10,الإعدادات!$C$14:$C$19)*($E$7:$AI$7=1)) | BD10: =AW10+AX10+AY10+BC10-BA10-BB10
A11: 4 | B11: 4 | C11: مصطفي ربيع محمد حسن | D11: SO | AJ11: =COUNTIF($E11:$AI11,"P") | AK11: =COUNTIF($E11:$AI11,"غ") | AL11: =COUNTIF($E11:$AI11,"إ") | AM11: =COUNTIF($E11:$AI11,"م") | AN11: =COUNTIF($E11:$AI11,"خ") | AO11: =COUNTIF($E11:$AI11,"د") | AP11: =IF(COUNTA($E11:$AI11)=0,0,SUMPRODUCT(($E$5:$AI$5<>"")*($E11:$AI11=""))) | AQ11: =SUMPRODUCT(SUMIF(الإعدادات!$A$14:$A$19,$E11:$AI11,الإعدادات!$C$14:$C$19)) | AR11: =AQ11+AP11 | AT11: =IF(COUNTA($E11:$AI11)=0,IF(AS11="",0,AS11),IF(AS11="",AR11,AS11)) | AU11: =IFERROR(VLOOKUP($B11,'بيانات الموظفين'!$B$7:$K$65,5,FALSE),0) | AV11: =IF(AU11=0,0,AU11/الإعدادات!$C$7) | AW11: =IF(AT11>=(COUNT($E$5:$AI$5)-الإعدادات!$C$6),AU11+AV11*(AT11-(COUNT($E$5:$AI$5)-الإعدادات!$C$6)),AV11*AT11) | AX11: =AQ11*IFERROR(VLOOKUP($B11,'بيانات الموظفين'!$B$7:$K$65,7,FALSE),الإعدادات!$C$8) | AY11: =IF(COUNTA($E11:$AI11)=0,0,IFERROR(VLOOKUP($B11,'بيانات الموظفين'!$B$7:$K$65,6,FALSE),0)) | BA11: =AZ11*AV11 | BC11: =AV11*الإعدادات!$C$9*SUMPRODUCT(SUMIF(الإعدادات!$A$14:$A$19,$E11:$AI11,الإعدادات!$C$14:$C$19)*($E$7:$AI$7=1)) | BD11: =AW11+AX11+AY11+BC11-BA11-BB11
A12: 5 | B12: 5 | C12: محمد محمود خليل غنيم | D12: SO | AJ12: =COUNTIF($E12:$AI12,"P") | AK12: =COUNTIF($E12:$AI12,"غ") | AL12: =COUNTIF($E12:$AI12,"إ") | AM12: =COUNTIF($E12:$AI12,"م") | AN12: =COUNTIF($E12:$AI12,"خ") | AO12: =COUNTIF($E12:$AI12,"د") | AP12: =IF(COUNTA($E12:$AI12)=0,0,SUMPRODUCT(($E$5:$AI$5<>"")*($E12:$AI12=""))) | AQ12: =SUMPRODUCT(SUMIF(الإعدادات!$A$14:$A$19,$E12:$AI12,الإعدادات!$C$14:$C$19)) | AR12: =AQ12+AP12 | AT12: =IF(COUNTA($E12:$AI12)=0,IF(AS12="",0,AS12),IF(AS12="",AR12,AS12)) | AU12: =IFERROR(VLOOKUP($B12,'بيانات الموظفين'!$B$7:$K$65,5,FALSE),0) | AV12: =IF(AU12=0,0,AU12/الإعدادات!$C$7) | AW12: =IF(AT12>=(COUNT($E$5:$AI$5)-الإعدادات!$C$6),AU12+AV12*(AT12-(COUNT($E$5:$AI$5)-الإعدادات!$C$6)),AV12*AT12) | AX12: =AQ12*IFERROR(VLOOKUP($B12,'بيانات الموظفين'!$B$7:$K$65,7,FALSE),الإعدادات!$C$8) | AY12: =IF(COUNTA($E12:$AI12)=0,0,IFERROR(VLOOKUP($B12,'بيانات الموظفين'!$B$7:$K$65,6,FALSE),0)) | BA12: =AZ12*AV12 | BC12: =AV12*الإعدادات!$C$9*SUMPRODUCT(SUMIF(الإعدادات!$A$14:$A$19,$E12:$AI12,الإعدادات!$C$14:$C$19)*($E$7:$AI$7=1)) | BD12: =AW12+AX12+AY12+BC12-BA12-BB12
A13: 6 | B13: 6 | C13: ربيع محمد أحمد محمد | D13: SO | AJ13: =COUNTIF($E13:$AI13,"P") | AK13: =COUNTIF($E13:$AI13,"غ") | AL13: =COUNTIF($E13:$AI13,"إ") | AM13: =COUNTIF($E13:$AI13,"م") | AN13: =COUNTIF($E13:$AI13,"خ") | AO13: =COUNTIF($E13:$AI13,"د") | AP13: =IF(COUNTA($E13:$AI13)=0,0,SUMPRODUCT(($E$5:$AI$5<>"")*($E13:$AI13=""))) | AQ13: =SUMPRODUCT(SUMIF(الإعدادات!$A$14:$A$19,$E13:$AI13,الإعدادات!$C$14:$C$19)) | AR13: =AQ13+AP13 | AT13: =IF(COUNTA($E13:$AI13)=0,IF(AS13="",0,AS13),IF(AS13="",AR13,AS13)) | AU13: =IFERROR(VLOOKUP($B13,'بيانات الموظفين'!$B$7:$K$65,5,FALSE),0) | AV13: =IF(AU13=0,0,AU13/الإعدادات!$C$7) | AW13: =IF(AT13>=(COUNT($E$5:$AI$5)-الإعدادات!$C$6),AU13+AV13*(AT13-(COUNT($E$5:$AI$5)-الإعدادات!$C$6)),AV13*AT13) | AX13: =AQ13*IFERROR(VLOOKUP($B13,'بيانات الموظفين'!$B$7:$K$65,7,FALSE),الإعدادات!$C$8) | AY13: =IF(COUNTA($E13:$AI13)=0,0,IFERROR(VLOOKUP($B13,'بيانات الموظفين'!$B$7:$K$65,6,FALSE),0)) | BA13: =AZ13*AV13 | BC13: =AV13*الإعدادات!$C$9*SUMPRODUCT(SUMIF(الإعدادات!$A$14:$A$19,$E13:$AI13,الإعدادات!$C$14:$C$19)*($E$7:$AI$7=1)) | BD13: =AW13+AX13+AY13+BC13-BA13-BB13
A14: 7 | B14: 7 | C14: حماده محمد محمد عبد الباقي | D14: SO | AJ14: =COUNTIF($E14:$AI14,"P") | AK14: =COUNTIF($E14:$AI14,"غ") | AL14: =COUNTIF($E14:$AI14,"إ") | AM14: =COUNTIF($E14:$AI14,"م") | AN14: =COUNTIF($E14:$AI14,"خ") | AO14: =COUNTIF($E14:$AI14,"د") | AP14: =IF(COUNTA($E14:$AI14)=0,0,SUMPRODUCT(($E$5:$AI$5<>"")*($E14:$AI14=""))) | AQ14: =SUMPRODUCT(SUMIF(الإعدادات!$A$14:$A$19,$E14:$AI14,الإعدادات!$C$14:$C$19)) | AR14: =AQ14+AP14 | AT14: =IF(COUNTA($E14:$AI14)=0,IF(AS14="",0,AS14),IF(AS14="",AR14,AS14)) | AU14: =IFERROR(VLOOKUP($B14,'بيانات الموظفين'!$B$7:$K$65,5,FALSE),0) | AV14: =IF(AU14=0,0,AU14/الإعدادات!$C$7) | AW14: =IF(AT14>=(COUNT($E$5:$AI$5)-الإعدادات!$C$6),AU14+AV14*(AT14-(COUNT($E$5:$AI$5)-الإعدادات!$C$6)),AV14*AT14) | AX14: =AQ14*IFERROR(VLOOKUP($B14,'بيانات الموظفين'!$B$7:$K$65,7,FALSE),الإعدادات!$C$8) | AY14: =IF(COUNTA($E14:$AI14)=0,0,IFERROR(VLOOKUP($B14,'بيانات الموظفين'!$B$7:$K$65,6,FALSE),0)) | BA14: =AZ14*AV14 | BC14: =AV14*الإعدادات!$C$9*SUMPRODUCT(SUMIF(الإعدادات!$A$14:$A$19,$E14:$AI14,الإعدادات!$C$14:$C$19)*($E$7:$AI$7=1)) | BD14: =AW14+AX14+AY14+BC14-BA14-BB14
A15: 8 | B15: 8 | C15: أيمن أمين أمين حنفي | D15: SO | AJ15: =COUNTIF($E15:$AI15,"P") | AK15: =COUNTIF($E15:$AI15,"غ") | AL15: =COUNTIF($E15:$AI15,"إ") | AM15: =COUNTIF($E15:$AI15,"م") | AN15: =COUNTIF($E15:$AI15,"خ") | AO15: =COUNTIF($E15:$AI15,"د") | AP15: =IF(COUNTA($E15:$AI15)=0,0,SUMPRODUCT(($E$5:$AI$5<>"")*($E15:$AI15=""))) | AQ15: =SUMPRODUCT(SUMIF(الإعدادات!$A$14:$A$19,$E15:$AI15,الإعدادات!$C$14:$C$19)) | AR15: =AQ15+AP15 | AT15: =IF(COUNTA($E15:$AI15)=0,IF(AS15="",0,AS15),IF(AS15="",AR15,AS15)) | AU15: =IFERROR(VLOOKUP($B15,'بيانات الموظفين'!$B$7:$K$65,5,FALSE),0) | AV15: =IF(AU15=0,0,AU15/الإعدادات!$C$7) | AW15: =IF(AT15>=(COUNT($E$5:$AI$5)-الإعدادات!$C$6),AU15+AV15*(AT15-(COUNT($E$5:$AI$5)-الإعدادات!$C$6)),AV15*AT15) | AX15: =AQ15*IFERROR(VLOOKUP($B15,'بيانات الموظفين'!$B$7:$K$65,7,FALSE),الإعدادات!$C$8) | AY15: =IF(COUNTA($E15:$AI15)=0,0,IFERROR(VLOOKUP($B15,'بيانات الموظفين'!$B$7:$K$65,6,FALSE),0)) | BA15: =AZ15*AV15 | BC15: =AV15*الإعدادات!$C$9*SUMPRODUCT(SUMIF(الإعدادات!$A$14:$A$19,$E15:$AI15,الإعدادات!$C$14:$C$19)*($E$7:$AI$7=1)) | BD15: =AW15+AX15+AY15+BC15-BA15-BB15
A16: 9 | B16: 9 | C16: احمد فتحي محمد زيدان | D16: SO | AJ16: =COUNTIF($E16:$AI16,"P") | AK16: =COUNTIF($E16:$AI16,"غ") | AL16: =COUNTIF($E16:$AI16,"إ") | AM16: =COUNTIF($E16:$AI16,"م") | AN16: =COUNTIF($E16:$AI16,"خ") | AO16: =COUNTIF($E16:$AI16,"د") | AP16: =IF(COUNTA($E16:$AI16)=0,0,SUMPRODUCT(($E$5:$AI$5<>"")*($E16:$AI16=""))) | AQ16: =SUMPRODUCT(SUMIF(الإعدادات!$A$14:$A$19,$E16:$AI16,الإعدادات!$C$14:$C$19)) | AR16: =AQ16+AP16 | AT16: =IF(COUNTA($E16:$AI16)=0,IF(AS16="",0,AS16),IF(AS16="",AR16,AS16)) | AU16: =IFERROR(VLOOKUP($B16,'بيانات الموظفين'!$B$7:$K$65,5,FALSE),0) | AV16: =IF(AU16=0,0,AU16/الإعدادات!$C$7) | AW16: =IF(AT16>=(COUNT($E$5:$AI$5)-الإعدادات!$C$6),AU16+AV16*(AT16-(COUNT($E$5:$AI$5)-الإعدادات!$C$6)),AV16*AT16) | AX16: =AQ16*IFERROR(VLOOKUP($B16,'بيانات الموظفين'!$B$7:$K$65,7,FALSE),الإعدادات!$C$8) | AY16: =IF(COUNTA($E16:$AI16)=0,0,IFERROR(VLOOKUP($B16,'بيانات الموظفين'!$B$7:$K$65,6,FALSE),0)) | BA16: =AZ16*AV16 | BC16: =AV16*الإعدادات!$C$9*SUMPRODUCT(SUMIF(الإعدادات!$A$14:$A$19,$E16:$AI16,الإعدادات!$C$14:$C$19)*($E$7:$AI$7=1)) | BD16: =AW16+AX16+AY16+BC16-BA16-BB16
A17: 10 | B17: 10 | C17: البدري عبد الكريم محمد حسانين | D17: SO | AJ17: =COUNTIF($E17:$AI17,"P") | AK17: =COUNTIF($E17:$AI17,"غ") | AL17: =COUNTIF($E17:$AI17,"إ") | AM17: =COUNTIF($E17:$AI17,"م") | AN17: =COUNTIF($E17:$AI17,"خ") | AO17: =COUNTIF($E17:$AI17,"د") | AP17: =IF(COUNTA($E17:$AI17)=0,0,SUMPRODUCT(($E$5:$AI$5<>"")*($E17:$AI17=""))) | AQ17: =SUMPRODUCT(SUMIF(الإعدادات!$A$14:$A$19,$E17:$AI17,الإعدادات!$C$14:$C$19)) | AR17: =AQ17+AP17 | AT17: =IF(COUNTA($E17:$AI17)=0,IF(AS17="",0,AS17),IF(AS17="",AR17,AS17)) | AU17: =IFERROR(VLOOKUP($B17,'بيانات الموظفين'!$B$7:$K$65,5,FALSE),0) | AV17: =IF(AU17=0,0,AU17/الإعدادات!$C$7) | AW17: =IF(AT17>=(COUNT($E$5:$AI$5)-الإعدادات!$C$6),AU17+AV17*(AT17-(COUNT($E$5:$AI$5)-الإعدادات!$C$6)),AV17*AT17) | AX17: =AQ17*IFERROR(VLOOKUP($B17,'بيانات الموظفين'!$B$7:$K$65,7,FALSE),الإعدادات!$C$8) | AY17: =IF(COUNTA($E17:$AI17)=0,0,IFERROR(VLOOKUP($B17,'بيانات الموظفين'!$B$7:$K$65,6,FALSE),0)) | BA17: =AZ17*AV17 | BC17: =AV17*الإعدادات!$C$9*SUMPRODUCT(SUMIF(الإعدادات!$A$14:$A$19,$E17:$AI17,الإعدادات!$C$14:$C$19)*($E$7:$AI$7=1)) | BD17: =AW17+AX17+AY17+BC17-BA17-BB17
A18: 11 | B18: 11 | C18: أحمد عبد الرحيم خضري حسين | D18: SO | AJ18: =COUNTIF($E18:$AI18,"P") | AK18: =COUNTIF($E18:$AI18,"غ") | AL18: =COUNTIF($E18:$AI18,"إ") | AM18: =COUNTIF($E18:$AI18,"م") | AN18: =COUNTIF($E18:$AI18,"خ") | AO18: =COUNTIF($E18:$AI18,"د") | AP18: =IF(COUNTA($E18:$AI18)=0,0,SUMPRODUCT(($E$5:$AI$5<>"")*($E18:$AI18=""))) | AQ18: =SUMPRODUCT(SUMIF(الإعدادات!$A$14:$A$19,$E18:$AI18,الإعدادات!$C$14:$C$19)) | AR18: =AQ18+AP18 | AT18: =IF(COUNTA($E18:$AI18)=0,IF(AS18="",0,AS18),IF(AS18="",AR18,AS18)) | AU18: =IFERROR(VLOOKUP($B18,'بيانات الموظفين'!$B$7:$K$65,5,FALSE),0) | AV18: =IF(AU18=0,0,AU18/الإعدادات!$C$7) | AW18: =IF(AT18>=(COUNT($E$5:$AI$5)-الإعدادات!$C$6),AU18+AV18*(AT18-(COUNT($E$5:$AI$5)-الإعدادات!$C$6)),AV18*AT18) | AX18: =AQ18*IFERROR(VLOOKUP($B18,'بيانات الموظفين'!$B$7:$K$65,7,FALSE),الإعدادات!$C$8) | AY18: =IF(COUNTA($E18:$AI18)=0,0,IFERROR(VLOOKUP($B18,'بيانات الموظفين'!$B$7:$K$65,6,FALSE),0)) | BA18: =AZ18*AV18 | BC18: =AV18*الإعدادات!$C$9*SUMPRODUCT(SUMIF(الإعدادات!$A$14:$A$19,$E18:$AI18,الإعدادات!$C$14:$C$19)*($E$7:$AI$7=1)) | BD18: =AW18+AX18+AY18+BC18-BA18-BB18
A19: 12 | B19: 12 | C19: محمد سلطان النطري محمد | D19: SO | AJ19: =COUNTIF($E19:$AI19,"P") | AK19: =COUNTIF($E19:$AI19,"غ") | AL19: =COUNTIF($E19:$AI19,"إ") | AM19: =COUNTIF($E19:$AI19,"م") | AN19: =COUNTIF($E19:$AI19,"خ") | AO19: =COUNTIF($E19:$AI19,"د") | AP19: =IF(COUNTA($E19:$AI19)=0,0,SUMPRODUCT(($E$5:$AI$5<>"")*($E19:$AI19=""))) | AQ19: =SUMPRODUCT(SUMIF(الإعدادات!$A$14:$A$19,$E19:$AI19,الإعدادات!$C$14:$C$19)) | AR19: =AQ19+AP19 | AT19: =IF(COUNTA($E19:$AI19)=0,IF(AS19="",0,AS19),IF(AS19="",AR19,AS19)) | AU19: =IFERROR(VLOOKUP($B19,'بيانات الموظفين'!$B$7:$K$65,5,FALSE),0) | AV19: =IF(AU19=0,0,AU19/الإعدادات!$C$7) | AW19: =IF(AT19>=(COUNT($E$5:$AI$5)-الإعدادات!$C$6),AU19+AV19*(AT19-(COUNT($E$5:$AI$5)-الإعدادات!$C$6)),AV19*AT19) | AX19: =AQ19*IFERROR(VLOOKUP($B19,'بيانات الموظفين'!$B$7:$K$65,7,FALSE),الإعدادات!$C$8) | AY19: =IF(COUNTA($E19:$AI19)=0,0,IFERROR(VLOOKUP($B19,'بيانات الموظفين'!$B$7:$K$65,6,FALSE),0)) | BA19: =AZ19*AV19 | BC19: =AV19*الإعدادات!$C$9*SUMPRODUCT(SUMIF(الإعدادات!$A$14:$A$19,$E19:$AI19,الإعدادات!$C$14:$C$19)*($E$7:$AI$7=1)) | BD19: =AW19+AX19+AY19+BC19-BA19-BB19
... A66: 59 | B66: 59 | C66: حسن محمد حسن حسيني | D66: SO | AJ66: =COUNTIF($E66:$AI66,"P") | AK66: =COUNTIF($E66:$AI66,"غ") | AL66: =COUNTIF($E66:$AI66,"إ") | AM66: =COUNTIF($E66:$AI66,"م") | AN66: =COUNTIF($E66:$AI66,"خ") | AO66: =COUNTIF($E66:$AI66,"د") | AP66: =IF(COUNTA($E66:$AI66)=0,0,SUMPRODUCT(($E$5:$AI$5<>"")*($E66:$AI66=""))) | AQ66: =SUMPRODUCT(SUMIF(الإعدادات!$A$14:$A$19,$E66:$AI66,الإعدادات!$C$14:$C$19)) | AR66: =AQ66+AP66 | AT66: =IF(COUNTA($E66:$AI66)=0,IF(AS66="",0,AS66),IF(AS66="",AR66,AS66)) | AU66: =IFERROR(VLOOKUP($B66,'بيانات الموظفين'!$B$7:$K$65,5,FALSE),0) | AV66: =IF(AU66=0,0,AU66/الإعدادات!$C$7) | AW66: =IF(AT66>=(COUNT($E$5:$AI$5)-الإعدادات!$C$6),AU66+AV66*(AT66-(COUNT($E$5:$AI$5)-الإعدادات!$C$6)),AV66*AT66) | AX66: =AQ66*IFERROR(VLOOKUP($B66,'بيانات الموظفين'!$B$7:$K$65,7,FALSE),الإعدادات!$C$8) | AY66: =IF(COUNTA($E66:$AI66)=0,0,IFERROR(VLOOKUP($B66,'بيانات الموظفين'!$B$7:$K$65,6,FALSE),0)) | BA66: =AZ66*AV66 | BC66: =AV66*الإعدادات!$C$9*SUMPRODUCT(SUMIF(الإعدادات!$A$14:$A$19,$E66:$AI66,الإعدادات!$C$14:$C$19)*($E$7:$AI$7=1)) | BD66: =AW66+AX66+AY66+BC66-BA66-BB66
A67: الإجمالي — 59 موظفًا | AJ67: =SUM(AJ8:AJ66) | AK67: =SUM(AK8:AK66) | AL67: =SUM(AL8:AL66) | AM67: =SUM(AM8:AM66) | AN67: =SUM(AN8:AN66) | AO67: =SUM(AO8:AO66) | AP67: =SUM(AP8:AP66) | AQ67: =SUM(AQ8:AQ66) | ... AU67: =SUM(AU8:AU66) | AW67: =SUM(AW8:AW66) | AX67: =SUM(AX8:AX66) | AY67: =SUM(AY8:AY66) | AZ67: =SUM(AZ8:AZ66) | BA67: =SUM(BA8:BA66) | BB67: =SUM(BB8:BB66) | BC67: =SUM(BC8:BC66) | BD67: =SUM(BD8:BD66)
A69: طريقة الحساب: قيمة اليوم = الراتب الأساسي ÷ 30 • أجر الأيام = قيمة اليوم × الأيام النهائية، وإذا زادت الأيام عن أيام المعيار (أيام الشهر − 4) يُضاف الفرق بأجر اليوم • الوجبات = أيام الحضور × بدل الوجبة اليومي • بدل العطلة = قيمة اليوم × 2 لكل يوم عطلة حضر فيه الموظف • الصافي = أجر الأيام + الوجبات + بدل التأمين + بدل العطلة − قيمة الجزاء − أي خصم آخر • عمود «تعديل يدوي» للموظف الجديد أو منتصف الشهر ويُلغي الحساب التلقائي للأيام. تنبيه: الخانة الفارغة تُعدّ يوم راحة مدفوعًا — لا تترك يوم غياب فارغًا، بل سجّله «غ».
A71: إعداد المحاسب: ________________ | S71: مراجعة: ________________ | AK71: اعتماد المدير: ________________

Sheet 04-أبريل
A1: مسير رواتب شهر أبريل 2026 — شركة أرمسترونج | فرع 10 رمضان | موقع التجمعات
A2: أيام الشهر: 30 • أيام المعيار: 26 • بدل الوجبة: 30 ج.م/يوم • قيمة اليوم = الأساسي ÷ 30 • معامل العطلة: 2
A3: الرموز: P حاضر • غ غياب • إ إجازة • م مرضية • خ نصف يوم • د دبل شيفت — والخانة الفارغة = راحة (تُحتسب ضمن الشهر ولا تُحتسب حضورًا)
A5: م | B5: الكود | C5: اسم الموظف | D5: الوظيفة | E5: 1 | F5: 2 | G5: 3 | H5: 4 | I5: 5 | J5: 6 | K5: 7 | L5: 8 | M5: 9 | N5: 10 | O5: 11 | P5: 12 | Q5: 13 | R5: 14 | S5: 15 | T5: 16 | U5: 17 | V5: 18 | W5: 19 | X5: 20 | Y5: 21 | Z5: 22 | AA5: 23 | AB5: 24 | AC5: 25 | AD5: 26 | AE5: 27 | AF5: 28 | AG5: 29 | AH5: 30 | AJ5: بيانات الحضور | AR5: أيام الاستحقاق | AU5: الأجر | AX5: البدلات | AZ5: الاستقطاعات | BC5: بدل العطلة | BD5: الصافي المستحق
E6: ر | F6: خ | G6: ج | H6: س | I6: أ | J6: ن | K6: ث | L6: ر | M6: خ | N6: ج | O6: س | P6: أ | Q6: ن | R6: ث | S6: ر | T6: خ | U6: ج | V6: س | W6: أ | X6: ن | Y6: ث | Z6: ر | AA6: خ | AB6: ج | AC6: س | AD6: أ | AE6: ن | AF6: ث | AG6: ر | AH6: خ | AJ6: حاضر | AK6: غياب | AL6: إجازة | AM6: مرضية | AN6: نصف يوم | AO6: دبل | AP6: راحة (فراغ) | AQ6: أيام الحضور | AR6: أيام محتسبة (تلقائي) | AS6: تعديل يدوي | AT6: الأيام النهائية | AU6: الراتب الأساسي | AV6: قيمة اليوم | AW6: أجر الأيام | AX6: الوجبات | AY6: بدل التأمين (+) | AZ6: جزاء (أيام) | BA6: قيمة الجزاء | BB6: خصم آخر (مبلغ)
A7: عطلة رسمية (1 = يوم عطلة مدفوع بالمعامل) | E7: =IF(COUNTIFS(الإعدادات!$B$23:$B$60,4,الإعدادات!$C$23:$C$60,E$5)>0,1,0) | F7: =IF(COUNTIFS(الإعدادات!$B$23:$B$60,4,الإعدادات!$C$23:$C$60,F$5)>0,1,0) | G7: =IF(COUNTIFS(الإعدادات!$B$23:$B$60,4,الإعدادات!$C$23:$C$60,G$5)>0,1,0) | H7: =IF(COUNTIFS(الإعدادات!$B$23:$B$60,4,الإعدادات!$C$23:$C$60,H$5)>0,1,0) | I7: =IF(COUNTIFS(الإعدادات!$B$23:$B$60,4,الإعدادات!$C$23:$C$60,I$5)>0,1,0) | J7: =IF(COUNTIFS(الإعدادات!$B$23:$B$60,4,الإعدادات!$C$23:$C$60,J$5)>0,1,0) | K7: =IF(COUNTIFS(الإعدادات!$B$23:$B$60,4,الإعدادات!$C$23:$C$60,K$5)>0,1,0) | L7: =IF(COUNTIFS(الإعدادات!$B$23:$B$60,4,الإعدادات!$C$23:$C$60,L$5)>0,1,0) | ... AH7: =IF(COUNTIFS(الإعدادات!$B$23:$B$60,4,الإعدادات!$C$23:$C$60,AH$5)>0,1,0)
A8: 1 | B8: 1 | C8: صابر محمود محمد حسن | D8: SO | AJ8: =COUNTIF($E8:$AI8,"P") | AK8: =COUNTIF($E8:$AI8,"غ") | AL8: =COUNTIF($E8:$AI8,"إ") | AM8: =COUNTIF($E8:$AI8,"م") | AN8: =COUNTIF($E8:$AI8,"خ") | AO8: =COUNTIF($E8:$AI8,"د") | AP8: =IF(COUNTA($E8:$AI8)=0,0,SUMPRODUCT(($E$5:$AI$5<>"")*($E8:$AI8=""))) | AQ8: =SUMPRODUCT(SUMIF(الإعدادات!$A$14:$A$19,$E8:$AI8,الإعدادات!$C$14:$C$19)) | AR8: =AQ8+AP8 | AT8: =IF(COUNTA($E8:$AI8)=0,IF(AS8="",0,AS8),IF(AS8="",AR8,AS8)) | AU8: =IFERROR(VLOOKUP($B8,'بيانات الموظفين'!$B$7:$K$65,5,FALSE),0) | AV8: =IF(AU8=0,0,AU8/الإعدادات!$C$7) | AW8: =IF(AT8>=(COUNT($E$5:$AI$5)-الإعدادات!$C$6),AU8+AV8*(AT8-(COUNT($E$5:$AI$5)-الإعدادات!$C$6)),AV8*AT8) | AX8: =AQ8*IFERROR(VLOOKUP($B8,'بيانات الموظفين'!$B$7:$K$65,7,FALSE),الإعدادات!$C$8) | AY8: =IF(COUNTA($E8:$AI8)=0,0,IFERROR(VLOOKUP($B8,'بيانات الموظفين'!$B$7:$K$65,6,FALSE),0)) | BA8: =AZ8*AV8 | BC8: =AV8*الإعدادات!$C$9*SUMPRODUCT(SUMIF(الإعدادات!$A$14:$A$19,$E8:$AI8,الإعدادات!$C$14:$C$19)*($E$7:$AI$7=1)) | BD8: =AW8+AX8+AY8+BC8-BA8-BB8
A9: 2 | B9: 2 | C9: ناجي محمد حسن ابو العزم | D9: SO | AJ9: =COUNTIF($E9:$AI9,"P") | AK9: =COUNTIF($E9:$AI9,"غ") | AL9: =COUNTIF($E9:$AI9,"إ") | AM9: =COUNTIF($E9:$AI9,"م") | AN9: =COUNTIF($E9:$AI9,"خ") | AO9: =COUNTIF($E9:$AI9,"د") | AP9: =IF(COUNTA($E9:$AI9)=0,0,SUMPRODUCT(($E$5:$AI$5<>"")*($E9:$AI9=""))) | AQ9: =SUMPRODUCT(SUMIF(الإعدادات!$A$14:$A$19,$E9:$AI9,الإعدادات!$C$14:$C$19)) | AR9: =AQ9+AP9 | AT9: =IF(COUNTA($E9:$AI9)=0,IF(AS9="",0,AS9),IF(AS9="",AR9,AS9)) | AU9: =IFERROR(VLOOKUP($B9,'بيانات الموظفين'!$B$7:$K$65,5,FALSE),0) | AV9: =IF(AU9=0,0,AU9/الإعدادات!$C$7) | AW9: =IF(AT9>=(COUNT($E$5:$AI$5)-الإعدادات!$C$6),AU9+AV9*(AT9-(COUNT($E$5:$AI$5)-الإعدادات!$C$6)),AV9*AT9) | AX9: =AQ9*IFERROR(VLOOKUP($B9,'بيانات الموظفين'!$B$7:$K$65,7,FALSE),الإعدادات!$C$8) | AY9: =IF(COUNTA($E9:$AI9)=0,0,IFERROR(VLOOKUP($B9,'بيانات الموظفين'!$B$7:$K$65,6,FALSE),0)) | BA9: =AZ9*AV9 | BC9: =AV9*الإعدادات!$C$9*SUMPRODUCT(SUMIF(الإعدادات!$A$14:$A$19,$E9:$AI9,الإعدادات!$C$14:$C$19)*($E$7:$AI$7=1)) | BD9: =AW9+AX9+AY9+BC9-BA9-BB9
A10: 3 | B10: 3 | C10: طه سامي طه تله | D10: SO | AJ10: =COUNTIF($E10:$AI10,"P") | AK10: =COUNTIF($E10:$AI10,"غ") | AL10: =COUNTIF($E10:$AI10,"إ") | AM10: =COUNTIF($E10:$AI10,"م") | AN10: =COUNTIF($E10:$AI10,"خ") | AO10: =COUNTIF($E10:$AI10,"د") | AP10: =IF(COUNTA($E10:$AI10)=0,0,SUMPRODUCT(($E$5:$AI$5<>"")*($E10:$AI10=""))) | AQ10: =SUMPRODUCT(SUMIF(الإعدادات!$A$14:$A$19,$E10:$AI10,الإعدادات!$C$14:$C$19)) | AR10: =AQ10+AP10 | AT10: =IF(COUNTA($E10:$AI10)=0,IF(AS10="",0,AS10),IF(AS10="",AR10,AS10)) | AU10: =IFERROR(VLOOKUP($B10,'بيانات الموظفين'!$B$7:$K$65,5,FALSE),0) | AV10: =IF(AU10=0,0,AU10/الإعدادات!$C$7) | AW10: =IF(AT10>=(COUNT($E$5:$AI$5)-الإعدادات!$C$6),AU10+AV10*(AT10-(COUNT($E$5:$AI$5)-الإعدادات!$C$6)),AV10*AT10) | AX10: =AQ10*IFERROR(VLOOKUP($B10,'بيانات الموظفين'!$B$7:$K$65,7,FALSE),الإعدادات!$C$8) | AY10: =IF(COUNTA($E10:$AI10)=0,0,IFERROR(VLOOKUP($B10,'بيانات الموظفين'!$B$7:$K$65,6,FALSE),0)) | BA10: =AZ10*AV10 | BC10: =AV10*الإعدادات!$C$9*SUMPRODUCT(SUMIF(الإعدادات!$A$14:$A$19,$E10:$AI10,الإعدادات!$C$14:$C$19)*($E$7:$AI$7=1)) | BD10: =AW10+AX10+AY10+BC10-BA10-BB10
A11: 4 | B11: 4 | C11: مصطفي ربيع محمد حسن | D11: SO | AJ11: =COUNTIF($E11:$AI11,"P") | AK11: =COUNTIF($E11:$AI11,"غ") | AL11: =COUNTIF($E11:$AI11,"إ") | AM11: =COUNTIF($E11:$AI11,"م") | AN11: =COUNTIF($E11:$AI11,"خ") | AO11: =COUNTIF($E11:$AI11,"د") | AP11: =IF(COUNTA($E11:$AI11)=0,0,SUMPRODUCT(($E$5:$AI$5<>"")*($E11:$AI11=""))) | AQ11: =SUMPRODUCT(SUMIF(الإعدادات!$A$14:$A$19,$E11:$AI11,الإعدادات!$C$14:$C$19)) | AR11: =AQ11+AP11 | AT11: =IF(COUNTA($E11:$AI11)=0,IF(AS11="",0,AS11),IF(AS11="",AR11,AS11)) | AU11: =IFERROR(VLOOKUP($B11,'بيانات الموظفين'!$B$7:$K$65,5,FALSE),0) | AV11: =IF(AU11=0,0,AU11/الإعدادات!$C$7) | AW11: =IF(AT11>=(COUNT($E$5:$AI$5)-الإعدادات!$C$6),AU11+AV11*(AT11-(COUNT($E$5:$AI$5)-الإعدادات!$C$6)),AV11*AT11) | AX11: =AQ11*IFERROR(VLOOKUP($B11,'بيانات الموظفين'!$B$7:$K$65,7,FALSE),الإعدادات!$C$8) | AY11: =IF(COUNTA($E11:$AI11)=0,0,IFERROR(VLOOKUP($B11,'بيانات الموظفين'!$B$7:$K$65,6,FALSE),0)) | BA11: =AZ11*AV11 | BC11: =AV11*الإعدادات!$C$9*SUMPRODUCT(SUMIF(الإعدادات!$A$14:$A$19,$E11:$AI11,الإعدادات!$C$14:$C$19)*($E$7:$AI$7=1)) | BD11: =AW11+AX11+AY11+BC11-BA11-BB11
A12: 5 | B12: 5 | C12: محمد محمود خليل غنيم | D12: SO | AJ12: =COUNTIF($E12:$AI12,"P") | AK12: =COUNTIF($E12:$AI12,"غ") | AL12: =COUNTIF($E12:$AI12,"إ") | AM12: =COUNTIF($E12:$AI12,"م") | AN12: =COUNTIF($E12:$AI12,"خ") | AO12: =COUNTIF($E12:$AI12,"د") | AP12: =IF(COUNTA($E12:$AI12)=0,0,SUMPRODUCT(($E$5:$AI$5<>"")*($E12:$AI12=""))) | AQ12: =SUMPRODUCT(SUMIF(الإعدادات!$A$14:$A$19,$E12:$AI12,الإعدادات!$C$14:$C$19)) | AR12: =AQ12+AP12 | AT12: =IF(COUNTA($E12:$AI12)=0,IF(AS12="",0,AS12),IF(AS12="",AR12,AS12)) | AU12: =IFERROR(VLOOKUP($B12,'بيانات الموظفين'!$B$7:$K$65,5,FALSE),0) | AV12: =IF(AU12=0,0,AU12/الإعدادات!$C$7) | AW12: =IF(AT12>=(COUNT($E$5:$AI$5)-الإعدادات!$C$6),AU12+AV12*(AT12-(COUNT($E$5:$AI$5)-الإعدادات!$C$6)),AV12*AT12) | AX12: =AQ12*IFERROR(VLOOKUP($B12,'بيانات الموظفين'!$B$7:$K$65,7,FALSE),الإعدادات!$C$8) | AY12: =IF(COUNTA($E12:$AI12)=0,0,IFERROR(VLOOKUP($B12,'بيانات الموظفين'!$B$7:$K$65,6,FALSE),0)) | BA12: =AZ12*AV12 | BC12: =AV12*الإعدادات!$C$9*SUMPRODUCT(SUMIF(الإعدادات!$A$14:$A$19,$E12:$AI12,الإعدادات!$C$14:$C$19)*($E$7:$AI$7=1)) | BD12: =AW12+AX12+AY12+BC12-BA12-BB12
A13: 6 | B13: 6 | C13: ربيع محمد أحمد محمد | D13: SO | AJ13: =COUNTIF($E13:$AI13,"P") | AK13: =COUNTIF($E13:$AI13,"غ") | AL13: =COUNTIF($E13:$AI13,"إ") | AM13: =COUNTIF($E13:$AI13,"م") | AN13: =COUNTIF($E13:$AI13,"خ") | AO13: =COUNTIF($E13:$AI13,"د") | AP13: =IF(COUNTA($E13:$AI13)=0,0,SUMPRODUCT(($E$5:$AI$5<>"")*($E13:$AI13=""))) | AQ13: =SUMPRODUCT(SUMIF(الإعدادات!$A$14:$A$19,$E13:$AI13,الإعدادات!$C$14:$C$19)) | AR13: =AQ13+AP13 | AT13: =IF(COUNTA($E13:$AI13)=0,IF(AS13="",0,AS13),IF(AS13="",AR13,AS13)) | AU13: =IFERROR(VLOOKUP($B13,'بيانات الموظفين'!$B$7:$K$65,5,FALSE),0) | AV13: =IF(AU13=0,0,AU13/الإعدادات!$C$7) | AW13: =IF(AT13>=(COUNT($E$5:$AI$5)-الإعدادات!$C$6),AU13+AV13*(AT13-(COUNT($E$5:$AI$5)-الإعدادات!$C$6)),AV13*AT13) | AX13: =AQ13*IFERROR(VLOOKUP($B13,'بيانات الموظفين'!$B$7:$K$65,7,FALSE),الإعدادات!$C$8) | AY13: =IF(COUNTA($E13:$AI13)=0,0,IFERROR(VLOOKUP($B13,'بيانات الموظفين'!$B$7:$K$65,6,FALSE),0)) | BA13: =AZ13*AV13 | BC13: =AV13*الإعدادات!$C$9*SUMPRODUCT(SUMIF(الإعدادات!$A$14:$A$19,$E13:$AI13,الإعدادات!$C$14:$C$19)*($E$7:$AI$7=1)) | BD13: =AW13+AX13+AY13+BC13-BA13-BB13
A14: 7 | B14: 7 | C14: حماده محمد محمد عبد الباقي | D14: SO | AJ14: =COUNTIF($E14:$AI14,"P") | AK14: =COUNTIF($E14:$AI14,"غ") | AL14: =COUNTIF($E14:$AI14,"إ") | AM14: =COUNTIF($E14:$AI14,"م") | AN14: =COUNTIF($E14:$AI14,"خ") | AO14: =COUNTIF($E14:$AI14,"د") | AP14: =IF(COUNTA($E14:$AI14)=0,0,SUMPRODUCT(($E$5:$AI$5<>"")*($E14:$AI14=""))) | AQ14: =SUMPRODUCT(SUMIF(الإعدادات!$A$14:$A$19,$E14:$AI14,الإعدادات!$C$14:$C$19)) | AR14: =AQ14+AP14 | AT14: =IF(COUNTA($E14:$AI14)=0,IF(AS14="",0,AS14),IF(AS14="",AR14,AS14)) | AU14: =IFERROR(VLOOKUP($B14,'بيانات الموظفين'!$B$7:$K$65,5,FALSE),0) | AV14: =IF(AU14=0,0,AU14/الإعدادات!$C$7) | AW14: =IF(AT14>=(COUNT($E$5:$AI$5)-الإعدادات!$C$6),AU14+AV14*(AT14-(COUNT($E$5:$AI$5)-الإعدادات!$C$6)),AV14*AT14) | AX14: =AQ14*IFERROR(VLOOKUP($B14,'بيانات الموظفين'!$B$7:$K$65,7,FALSE),الإعدادات!$C$8) | AY14: =IF(COUNTA($E14:$AI14)=0,0,IFERROR(VLOOKUP($B14,'بيانات الموظفين'!$B$7:$K$65,6,FALSE),0)) | BA14: =AZ14*AV14 | BC14: =AV14*الإعدادات!$C$9*SUMPRODUCT(SUMIF(الإعدادات!$A$14:$A$19,$E14:$AI14,الإعدادات!$C$14:$C$19)*($E$7:$AI$7=1)) | BD14: =AW14+AX14+AY14+BC14-BA14-BB14
A15: 8 | B15: 8 | C15: أيمن أمين أمين حنفي | D15: SO | AJ15: =COUNTIF($E15:$AI15,"P") | AK15: =COUNTIF($E15:$AI15,"غ") | AL15: =COUNTIF($E15:$AI15,"إ") | AM15: =COUNTIF($E15:$AI15,"م") | AN15: =COUNTIF($E15:$AI15,"خ") | AO15: =COUNTIF($E15:$AI15,"د") | AP15: =IF(COUNTA($E15:$AI15)=0,0,SUMPRODUCT(($E$5:$AI$5<>"")*($E15:$AI15=""))) | AQ15: =SUMPRODUCT(SUMIF(الإعدادات!$A$14:$A$19,$E15:$AI15,الإعدادات!$C$14:$C$19)) | AR15: =AQ15+AP15 | AT15: =IF(COUNTA($E15:$AI15)=0,IF(AS15="",0,AS15),IF(AS15="",AR15,AS15)) | AU15: =IFERROR(VLOOKUP($B15,'بيانات الموظفين'!$B$7:$K$65,5,FALSE),0) | AV15: =IF(AU15=0,0,AU15/الإعدادات!$C$7) | AW15: =IF(AT15>=(COUNT($E$5:$AI$5)-الإعدادات!$C$6),AU15+AV15*(AT15-(COUNT($E$5:$AI$5)-الإعدادات!$C$6)),AV15*AT15) | AX15: =AQ15*IFERROR(VLOOKUP($B15,'بيانات الموظفين'!$B$7:$K$65,7,FALSE),الإعدادات!$C$8) | AY15: =IF(COUNTA($E15:$AI15)=0,0,IFERROR(VLOOKUP($B15,'بيانات الموظفين'!$B$7:$K$65,6,FALSE),0)) | BA15: =AZ15*AV15 | BC15: =AV15*الإعدادات!$C$9*SUMPRODUCT(SUMIF(الإعدادات!$A$14:$A$19,$E15:$AI15,الإعدادات!$C$14:$C$19)*($E$7:$AI$7=1)) | BD15: =AW15+AX15+AY15+BC15-BA15-BB15
A16: 9 | B16: 9 | C16: احمد فتحي محمد زيدان | D16: SO | AJ16: =COUNTIF($E16:$AI16,"P") | AK16: =COUNTIF($E16:$AI16,"غ") | AL16: =COUNTIF($E16:$AI16,"إ") | AM16: =COUNTIF($E16:$AI16,"م") | AN16: =COUNTIF($E16:$AI16,"خ") | AO16: =COUNTIF($E16:$AI16,"د") | AP16: =IF(COUNTA($E16:$AI16)=0,0,SUMPRODUCT(($E$5:$AI$5<>"")*($E16:$AI16=""))) | AQ16: =SUMPRODUCT(SUMIF(الإعدادات!$A$14:$A$19,$E16:$AI16,الإعدادات!$C$14:$C$19)) | AR16: =AQ16+AP16 | AT16: =IF(COUNTA($E16:$AI16)=0,IF(AS16="",0,AS16),IF(AS16="",AR16,AS16)) | AU16: =IFERROR(VLOOKUP($B16,'بيانات الموظفين'!$B$7:$K$65,5,FALSE),0) | AV16: =IF(AU16=0,0,AU16/الإعدادات!$C$7) | AW16: =IF(AT16>=(COUNT($E$5:$AI$5)-الإعدادات!$C$6),AU16+AV16*(AT16-(COUNT($E$5:$AI$5)-الإعدادات!$C$6)),AV16*AT16) | AX16: =AQ16*IFERROR(VLOOKUP($B16,'بيانات الموظفين'!$B$7:$K$65,7,FALSE),الإعدادات!$C$8) | AY16: =IF(COUNTA($E16:$AI16)=0,0,IFERROR(VLOOKUP($B16,'بيانات الموظفين'!$B$7:$K$65,6,FALSE),0)) | BA16: =AZ16*AV16 | BC16: =AV16*الإعدادات!$C$9*SUMPRODUCT(SUMIF(الإعدادات!$A$14:$A$19,$E16:$AI16,الإعدادات!$C$14:$C$19)*($E$7:$AI$7=1)) | BD16: =AW16+AX16+AY16+BC16-BA16-BB16
A17: 10 | B17: 10 | C17: البدري عبد الكريم محمد حسانين | D17: SO | AJ17: =COUNTIF($E17:$AI17,"P") | AK17: =COUNTIF($E17:$AI17,"غ") | AL17: =COUNTIF($E17:$AI17,"إ") | AM17: =COUNTIF($E17:$AI17,"م") | AN17: =COUNTIF($E17:$AI17,"خ") | AO17: =COUNTIF($E17:$AI17,"د") | AP17: =IF(COUNTA($E17:$AI17)=0,0,SUMPRODUCT(($E$5:$AI$5<>"")*($E17:$AI17=""))) | AQ17: =SUMPRODUCT(SUMIF(الإعدادات!$A$14:$A$19,$E17:$AI17,الإعدادات!$C$14:$C$19)) | AR17: =AQ17+AP17 | AT17: =IF(COUNTA($E17:$AI17)=0,IF(AS17="",0,AS17),IF(AS17="",AR17,AS17)) | AU17: =IFERROR(VLOOKUP($B17,'بيانات الموظفين'!$B$7:$K$65,5,FALSE),0) | AV17: =IF(AU17=0,0,AU17/الإعدادات!$C$7) | AW17: =IF(AT17>=(COUNT($E$5:$AI$5)-الإعدادات!$C$6),AU17+AV17*(AT17-(COUNT($E$5:$AI$5)-الإعدادات!$C$6)),AV17*AT17) | AX17: =AQ17*IFERROR(VLOOKUP($B17,'بيانات الموظفين'!$B$7:$K$65,7,FALSE),الإعدادات!$C$8) | AY17: =IF(COUNTA($E17:$AI17)=0,0,IFERROR(VLOOKUP($B17,'بيانات الموظفين'!$B$7:$K$65,6,FALSE),0)) | BA17: =AZ17*AV17 | BC17: =AV17*الإعدادات!$C$9*SUMPRODUCT(SUMIF(الإعدادات!$A$14:$A$19,$E17:$AI17,الإعدادات!$C$14:$C$19)*($E$7:$AI$7=1)) | BD17: =AW17+AX17+AY17+BC17-BA17-BB17
A18: 11 | B18: 11 | C18: أحمد عبد الرحيم خضري حسين | D18: SO | AJ18: =COUNTIF($E18:$AI18,"P") | AK18: =COUNTIF($E18:$AI18,"غ") | AL18: =COUNTIF($E18:$AI18,"إ") | AM18: =COUNTIF($E18:$AI18,"م") | AN18: =COUNTIF($E18:$AI18,"خ") | AO18: =COUNTIF($E18:$AI18,"د") | AP18: =IF(COUNTA($E18:$AI18)=0,0,SUMPRODUCT(($E$5:$AI$5<>"")*($E18:$AI18=""))) | AQ18: =SUMPRODUCT(SUMIF(الإعدادات!$A$14:$A$19,$E18:$AI18,الإعدادات!$C$14:$C$19)) | AR18: =AQ18+AP18 | AT18: =IF(COUNTA($E18:$AI18)=0,IF(AS18="",0,AS18),IF(AS18="",AR18,AS18)) | AU18: =IFERROR(VLOOKUP($B18,'بيانات الموظفين'!$B$7:$K$65,5,FALSE),0) | AV18: =IF(AU18=0,0,AU18/الإعدادات!$C$7) | AW18: =IF(AT18>=(COUNT($E$5:$AI$5)-الإعدادات!$C$6),AU18+AV18*(AT18-(COUNT($E$5:$AI$5)-الإعدادات!$C$6)),AV18*AT18) | AX18: =AQ18*IFERROR(VLOOKUP($B18,'بيانات الموظفين'!$B$7:$K$65,7,FALSE),الإعدادات!$C$8) | AY18: =IF(COUNTA($E18:$AI18)=0,0,IFERROR(VLOOKUP($B18,'بيانات الموظفين'!$B$7:$K$65,6,FALSE),0)) | BA18: =AZ18*AV18 | BC18: =AV18*الإعدادات!$C$9*SUMPRODUCT(SUMIF(الإعدادات!$A$14:$A$19,$E18:$AI18,الإعدادات!$C$14:$C$19)*($E$7:$AI$7=1)) | BD18: =AW18+AX18+AY18+BC18-BA18-BB18
A19: 12 | B19: 12 | C19: محمد سلطان النطري محمد | D19: SO | AJ19: =COUNTIF($E19:$AI19,"P") | AK19: =COUNTIF($E19:$AI19,"غ") | AL19: =COUNTIF($E19:$AI19,"إ") | AM19: =COUNTIF($E19:$AI19,"م") | AN19: =COUNTIF($E19:$AI19,"خ") | AO19: =COUNTIF($E19:$AI19,"د") | AP19: =IF(COUNTA($E19:$AI19)=0,0,SUMPRODUCT(($E$5:$AI$5<>"")*($E19:$AI19=""))) | AQ19: =SUMPRODUCT(SUMIF(الإعدادات!$A$14:$A$19,$E19:$AI19,الإعدادات!$C$14:$C$19)) | AR19: =AQ19+AP19 | AT19: =IF(COUNTA($E19:$AI19)=0,IF(AS19="",0,AS19),IF(AS19="",AR19,AS19)) | AU19: =IFERROR(VLOOKUP($B19,'بيانات الموظفين'!$B$7:$K$65,5,FALSE),0) | AV19: =IF(AU19=0,0,AU19/الإعدادات!$C$7) | AW19: =IF(AT19>=(COUNT($E$5:$AI$5)-الإعدادات!$C$6),AU19+AV19*(AT19-(COUNT($E$5:$AI$5)-الإعدادات!$C$6)),AV19*AT19) | AX19: =AQ19*IFERROR(VLOOKUP($B19,'بيانات الموظفين'!$B$7:$K$65,7,FALSE),الإعدادات!$C$8) | AY19: =IF(COUNTA($E19:$AI19)=0,0,IFERROR(VLOOKUP($B19,'بيانات الموظفين'!$B$7:$K$65,6,FALSE),0)) | BA19: =AZ19*AV19 | BC19: =AV19*الإعدادات!$C$9*SUMPRODUCT(SUMIF(الإعدادات!$A$14:$A$19,$E19:$AI19,الإعدادات!$C$14:$C$19)*($E$7:$AI$7=1)) | BD19: =AW19+AX19+AY19+BC19-BA19-BB19
... A66: 59 | B66: 59 | C66: حسن محمد حسن حسيني | D66: SO | AJ66: =COUNTIF($E66:$AI66,"P") | AK66: =COUNTIF($E66:$AI66,"غ") | AL66: =COUNTIF($E66:$AI66,"إ") | AM66: =COUNTIF($E66:$AI66,"م") | AN66: =COUNTIF($E66:$AI66,"خ") | AO66: =COUNTIF($E66:$AI66,"د") | AP66: =IF(COUNTA($E66:$AI66)=0,0,SUMPRODUCT(($E$5:$AI$5<>"")*($E66:$AI66=""))) | AQ66: =SUMPRODUCT(SUMIF(الإعدادات!$A$14:$A$19,$E66:$AI66,الإعدادات!$C$14:$C$19)) | AR66: =AQ66+AP66 | AT66: =IF(COUNTA($E66:$AI66)=0,IF(AS66="",0,AS66),IF(AS66="",AR66,AS66)) | AU66: =IFERROR(VLOOKUP($B66,'بيانات الموظفين'!$B$7:$K$65,5,FALSE),0) | AV66: =IF(AU66=0,0,AU66/الإعدادات!$C$7) | AW66: =IF(AT66>=(COUNT($E$5:$AI$5)-الإعدادات!$C$6),AU66+AV66*(AT66-(COUNT($E$5:$AI$5)-الإعدادات!$C$6)),AV66*AT66) | AX66: =AQ66*IFERROR(VLOOKUP($B66,'بيانات الموظفين'!$B$7:$K$65,7,FALSE),الإعدادات!$C$8) | AY66: =IF(COUNTA($E66:$AI66)=0,0,IFERROR(VLOOKUP($B66,'بيانات الموظفين'!$B$7:$K$65,6,FALSE),0)) | BA66: =AZ66*AV66 | BC66: =AV66*الإعدادات!$C$9*SUMPRODUCT(SUMIF(الإعدادات!$A$14:$A$19,$E66:$AI66,الإعدادات!$C$14:$C$19)*($E$7:$AI$7=1)) | BD66: =AW66+AX66+AY66+BC66-BA66-BB66
A67: الإجمالي — 59 موظفًا | AJ67: =SUM(AJ8:AJ66) | AK67: =SUM(AK8:AK66) | AL67: =SUM(AL8:AL66) | AM67: =SUM(AM8:AM66) | AN67: =SUM(AN8:AN66) | AO67: =SUM(AO8:AO66) | AP67: =SUM(AP8:AP66) | AQ67: =SUM(AQ8:AQ66) | ... AU67: =SUM(AU8:AU66) | AW67: =SUM(AW8:AW66) | AX67: =SUM(AX8:AX66) | AY67: =SUM(AY8:AY66) | AZ67: =SUM(AZ8:AZ66) | BA67: =SUM(BA8:BA66) | BB67: =SUM(BB8:BB66) | BC67: =SUM(BC8:BC66) | BD67: =SUM(BD8:BD66)
A69: طريقة الحساب: قيمة اليوم = الراتب الأساسي ÷ 30 • أجر الأيام = قيمة اليوم × الأيام النهائية، وإذا زادت الأيام عن أيام المعيار (أيام الشهر − 4) يُضاف الفرق بأجر اليوم • الوجبات = أيام الحضور × بدل الوجبة اليومي • بدل العطلة = قيمة اليوم × 2 لكل يوم عطلة حضر فيه الموظف • الصافي = أجر الأيام + الوجبات + بدل التأمين + بدل العطلة − قيمة الجزاء − أي خصم آخر • عمود «تعديل يدوي» للموظف الجديد أو منتصف الشهر ويُلغي الحساب التلقائي للأيام. تنبيه: الخانة الفارغة تُعدّ يوم راحة مدفوعًا — لا تترك يوم غياب فارغًا، بل سجّله «غ».
A71: إعداد المحاسب: ________________ | S71: مراجعة: ________________ | AK71: اعتماد المدير: ________________

Sheet 05-مايو
A1: مسير رواتب شهر مايو 2026 — شركة أرمسترونج | فرع 10 رمضان | موقع التجمعات
A2: أيام الشهر: 31 • أيام المعيار: 27 • بدل الوجبة: 30 ج.م/يوم • قيمة اليوم = الأساسي ÷ 30 • معامل العطلة: 2
A3: الرموز: P حاضر • غ غياب • إ إجازة • م مرضية • خ نصف يوم • د دبل شيفت — والخانة الفارغة = راحة (تُحتسب ضمن الشهر ولا تُحتسب حضورًا)
A5: م | B5: الكود | C5: اسم الموظف | D5: الوظيفة | E5: 1 | F5: 2 | G5: 3 | H5: 4 | I5: 5 | J5: 6 | K5: 7 | L5: 8 | M5: 9 | N5: 10 | O5: 11 | P5: 12 | Q5: 13 | R5: 14 | S5: 15 | T5: 16 | U5: 17 | V5: 18 | W5: 19 | X5: 20 | Y5: 21 | Z5: 22 | AA5: 23 | AB5: 24 | AC5: 25 | AD5: 26 | AE5: 27 | AF5: 28 | AG5: 29 | AH5: 30 | AI5: 31 | AJ5: بيانات الحضور | AR5: أيام الاستحقاق | AU5: الأجر | AX5: البدلات | AZ5: الاستقطاعات | BC5: بدل العطلة | BD5: الصافي المستحق
E6: ج | F6: س | G6: أ | H6: ن | I6: ث | J6: ر | K6: خ | L6: ج | M6: س | N6: أ | O6: ن | P6: ث | Q6: ر | R6: خ | S6: ج | T6: س | U6: أ | V6: ن | W6: ث | X6: ر | Y6: خ | Z6: ج | AA6: س | AB6: أ | AC6: ن | AD6: ث | AE6: ر | AF6: خ | AG6: ج | AH6: س | AI6: أ | AJ6: حاضر | AK6: غياب | AL6: إجازة | AM6: مرضية | AN6: نصف يوم | AO6: دبل | AP6: راحة (فراغ) | AQ6: أيام الحضور | AR6: أيام محتسبة (تلقائي) | AS6: تعديل يدوي | AT6: الأيام النهائية | AU6: الراتب الأساسي | AV6: قيمة اليوم | AW6: أجر الأيام | AX6: الوجبات | AY6: بدل التأمين (+) | AZ6: جزاء (أيام) | BA6: قيمة الجزاء | BB6: خصم آخر (مبلغ)
A7: عطلة رسمية (1 = يوم عطلة مدفوع بالمعامل) | E7: =IF(COUNTIFS(الإعدادات!$B$23:$B$60,5,الإعدادات!$C$23:$C$60,E$5)>0,1,0) | F7: =IF(COUNTIFS(الإعدادات!$B$23:$B$60,5,الإعدادات!$C$23:$C$60,F$5)>0,1,0) | G7: =IF(COUNTIFS(الإعدادات!$B$23:$B$60,5,الإعدادات!$C$23:$C$60,G$5)>0,1,0) | H7: =IF(COUNTIFS(الإعدادات!$B$23:$B$60,5,الإعدادات!$C$23:$C$60,H$5)>0,1,0) | I7: =IF(COUNTIFS(الإعدادات!$B$23:$B$60,5,الإعدادات!$C$23:$C$60,I$5)>0,1,0) | J7: =IF(COUNTIFS(الإعدادات!$B$23:$B$60,5,الإعدادات!$C$23:$C$60,J$5)>0,1,0) | K7: =IF(COUNTIFS(الإعدادات!$B$23:$B$60,5,الإعدادات!$C$23:$C$60,K$5)>0,1,0) | L7: =IF(COUNTIFS(الإعدادات!$B$23:$B$60,5,الإعدادات!$C$23:$C$60,L$5)>0,1,0) | ... AI7: =IF(COUNTIFS(الإعدادات!$B$23:$B$60,5,الإعدادات!$C$23:$C$60,AI$5)>0,1,0)
A8: 1 | B8: 1 | C8: صابر محمود محمد حسن | D8: SO | AJ8: =COUNTIF($E8:$AI8,"P") | AK8: =COUNTIF($E8:$AI8,"غ") | AL8: =COUNTIF($E8:$AI8,"إ") | AM8: =COUNTIF($E8:$AI8,"م") | AN8: =COUNTIF($E8:$AI8,"خ") | AO8: =COUNTIF($E8:$AI8,"د") | AP8: =IF(COUNTA($E8:$AI8)=0,0,SUMPRODUCT(($E$5:$AI$5<>"")*($E8:$AI8=""))) | AQ8: =SUMPRODUCT(SUMIF(الإعدادات!$A$14:$A$19,$E8:$AI8,الإعدادات!$C$14:$C$19)) | AR8: =AQ8+AP8 | AT8: =IF(COUNTA($E8:$AI8)=0,IF(AS8="",0,AS8),IF(AS8="",AR8,AS8)) | AU8: =IFERROR(VLOOKUP($B8,'بيانات الموظفين'!$B$7:$K$65,5,FALSE),0) | AV8: =IF(AU8=0,0,AU8/الإعدادات!$C$7) | AW8: =IF(AT8>=(COUNT($E$5:$AI$5)-الإعدادات!$C$6),AU8+AV8*(AT8-(COUNT($E$5:$AI$5)-الإعدادات!$C$6)),AV8*AT8) | AX8: =AQ8*IFERROR(VLOOKUP($B8,'بيانات الموظفين'!$B$7:$K$65,7,FALSE),الإعدادات!$C$8) | AY8: =IF(COUNTA($E8:$AI8)=0,0,IFERROR(VLOOKUP($B8,'بيانات الموظفين'!$B$7:$K$65,6,FALSE),0)) | BA8: =AZ8*AV8 | BC8: =AV8*الإعدادات!$C$9*SUMPRODUCT(SUMIF(الإعدادات!$A$14:$A$19,$E8:$AI8,الإعدادات!$C$14:$C$19)*($E$7:$AI$7=1)) | BD8: =AW8+AX8+AY8+BC8-BA8-BB8
A9: 2 | B9: 2 | C9: ناجي محمد حسن ابو العزم | D9: SO | AJ9: =COUNTIF($E9:$AI9,"P") | AK9: =COUNTIF($E9:$AI9,"غ") | AL9: =COUNTIF($E9:$AI9,"إ") | AM9: =COUNTIF($E9:$AI9,"م") | AN9: =COUNTIF($E9:$AI9,"خ") | AO9: =COUNTIF($E9:$AI9,"د") | AP9: =IF(COUNTA($E9:$AI9)=0,0,SUMPRODUCT(($E$5:$AI$5<>"")*($E9:$AI9=""))) | AQ9: =SUMPRODUCT(SUMIF(الإعدادات!$A$14:$A$19,$E9:$AI9,الإعدادات!$C$14:$C$19)) | AR9: =AQ9+AP9 | AT9: =IF(COUNTA($E9:$AI9)=0,IF(AS9="",0,AS9),IF(AS9="",AR9,AS9)) | AU9: =IFERROR(VLOOKUP($B9,'بيانات الموظفين'!$B$7:$K$65,5,FALSE),0) | AV9: =IF(AU9=0,0,AU9/الإعدادات!$C$7) | AW9: =IF(AT9>=(COUNT($E$5:$AI$5)-الإعدادات!$C$6),AU9+AV9*(AT9-(COUNT($E$5:$AI$5)-الإعدادات!$C$6)),AV9*AT9) | AX9: =AQ9*IFERROR(VLOOKUP($B9,'بيانات الموظفين'!$B$7:$K$65,7,FALSE),الإعدادات!$C$8) | AY9: =IF(COUNTA($E9:$AI9)=0,0,IFERROR(VLOOKUP($B9,'بيانات الموظفين'!$B$7:$K$65,6,FALSE),0)) | BA9: =AZ9*AV9 | BC9: =AV9*الإعدادات!$C$9*SUMPRODUCT(SUMIF(الإعدادات!$A$14:$A$19,$E9:$AI9,الإعدادات!$C$14:$C$19)*($E$7:$AI$7=1)) | BD9: =AW9+AX9+AY9+BC9-BA9-BB9
A10: 3 | B10: 3 | C10: طه سامي طه تله | D10: SO | AJ10: =COUNTIF($E10:$AI10,"P") | AK10: =COUNTIF($E10:$AI10,"غ") | AL10: =COUNTIF($E10:$AI10,"إ") | AM10: =COUNTIF($E10:$AI10,"م") | AN10: =COUNTIF($E10:$AI10,"خ") | AO10: =COUNTIF($E10:$AI10,"د") | AP10: =IF(COUNTA($E10:$AI10)=0,0,SUMPRODUCT(($E$5:$AI$5<>"")*($E10:$AI10=""))) | AQ10: =SUMPRODUCT(SUMIF(الإعدادات!$A$14:$A$19,$E10:$AI10,الإعدادات!$C$14:$C$19)) | AR10: =AQ10+AP10 | AT10: =IF(COUNTA($E10:$AI10)=0,IF(AS10="",0,AS10),IF(AS10="",AR10,AS10)) | AU10: =IFERROR(VLOOKUP($B10,'بيانات الموظفين'!$B$7:$K$65,5,FALSE),0) | AV10: =IF(AU10=0,0,AU10/الإعدادات!$C$7) | AW10: =IF(AT10>=(COUNT($E$5:$AI$5)-الإعدادات!$C$6),AU10+AV10*(AT10-(COUNT($E$5:$AI$5)-الإعدادات!$C$6)),AV10*AT10) | AX10: =AQ10*IFERROR(VLOOKUP($B10,'بيانات الموظفين'!$B$7:$K$65,7,FALSE),الإعدادات!$C$8) | AY10: =IF(COUNTA($E10:$AI10)=0,0,IFERROR(VLOOKUP($B10,'بيانات الموظفين'!$B$7:$K$65,6,FALSE),0)) | BA10: =AZ10*AV10 | BC10: =AV10*الإعدادات!$C$9*SUMPRODUCT(SUMIF(الإعدادات!$A$14:$A$19,$E10:$AI10,الإعدادات!$C$14:$C$19)*($E$7:$AI$7=1)) | BD10: =AW10+AX10+AY10+BC10-BA10-BB10
A11: 4 | B11: 4 | C11: مصطفي ربيع محمد حسن | D11: SO | AJ11: =COUNTIF($E11:$AI11,"P") | AK11: =COUNTIF($E11:$AI11,"غ") | AL11: =COUNTIF($E11:$AI11,"إ") | AM11: =COUNTIF($E11:$AI11,"م") | AN11: =COUNTIF($E11:$AI11,"خ") | AO11: =COUNTIF($E11:$AI11,"د") | AP11: =IF(COUNTA($E11:$AI11)=0,0,SUMPRODUCT(($E$5:$AI$5<>"")*($E11:$AI11=""))) | AQ11: =SUMPRODUCT(SUMIF(الإعدادات!$A$14:$A$19,$E11:$AI11,الإعدادات!$C$14:$C$19)) | AR11: =AQ11+AP11 | AT11: =IF(COUNTA($E11:$AI11)=0,IF(AS11="",0,AS11),IF(AS11="",AR11,AS11)) | AU11: =IFERROR(VLOOKUP($B11,'بيانات الموظفين'!$B$7:$K$65,5,FALSE),0) | AV11: =IF(AU11=0,0,AU11/الإعدادات!$C$7) | AW11: =IF(AT11>=(COUNT($E$5:$AI$5)-الإعدادات!$C$6),AU11+AV11*(AT11-(COUNT($E$5:$AI$5)-الإعدادات!$C$6)),AV11*AT11) | AX11: =AQ11*IFERROR(VLOOKUP($B11,'بيانات الموظفين'!$B$7:$K$65,7,FALSE),الإعدادات!$C$8) | AY11: =IF(COUNTA($E11:$AI11)=0,0,IFERROR(VLOOKUP($B11,'بيانات الموظفين'!$B$7:$K$65,6,FALSE),0)) | BA11: =AZ11*AV11 | BC11: =AV11*الإعدادات!$C$9*SUMPRODUCT(SUMIF(الإعدادات!$A$14:$A$19,$E11:$AI11,الإعدادات!$C$14:$C$19)*($E$7:$AI$7=1)) | BD11: =AW11+AX11+AY11+BC11-BA11-BB11
A12: 5 | B12: 5 | C12: محمد محمود خليل غنيم | D12: SO | AJ12: =COUNTIF($E12:$AI12,"P") | AK12: =COUNTIF($E12:$AI12,"غ") | AL12: =COUNTIF($E12:$AI12,"إ") | AM12: =COUNTIF($E12:$AI12,"م") | AN12: =COUNTIF($E12:$AI12,"خ") | AO12: =COUNTIF($E12:$AI12,"د") | AP12: =IF(COUNTA($E12:$AI12)=0,0,SUMPRODUCT(($E$5:$AI$5<>"")*($E12:$AI12=""))) | AQ12: =SUMPRODUCT(SUMIF(الإعدادات!$A$14:$A$19,$E12:$AI12,الإعدادات!$C$14:$C$19)) | AR12: =AQ12+AP12 | AT12: =IF(COUNTA($E12:$AI12)=0,IF(AS12="",0,AS12),IF(AS12="",AR12,AS12)) | AU12: =IFERROR(VLOOKUP($B12,'بيانات الموظفين'!$B$7:$K$65,5,FALSE),0) | AV12: =IF(AU12=0,0,AU12/الإعدادات!$C$7) | AW12: =IF(AT12>=(COUNT($E$5:$AI$5)-الإعدادات!$C$6),AU12+AV12*(AT12-(COUNT($E$5:$AI$5)-الإعدادات!$C$6)),AV12*AT12) | AX12: =AQ12*IFERROR(VLOOKUP($B12,'بيانات الموظفين'!$B$7:$K$65,7,FALSE),الإعدادات!$C$8) | AY12: =IF(COUNTA($E12:$AI12)=0,0,IFERROR(VLOOKUP($B12,'بيانات الموظفين'!$B$7:$K$65,6,FALSE),0)) | BA12: =AZ12*AV12 | BC12: =AV12*الإعدادات!$C$9*SUMPRODUCT(SUMIF(الإعدادات!$A$14:$A$19,$E12:$AI12,الإعدادات!$C$14:$C$19)*($E$7:$AI$7=1)) | BD12: =AW12+AX12+AY12+BC12-BA12-BB12
A13: 6 | B13: 6 | C13: ربيع محمد أحمد محمد | D13: SO | AJ13: =COUNTIF($E13:$AI13,"P") | AK13: =COUNTIF($E13:$AI13,"غ") | AL13: =COUNTIF($E13:$AI13,"إ") | AM13: =COUNTIF($E13:$AI13,"م") | AN13: =COUNTIF($E13:$AI13,"خ") | AO13: =COUNTIF($E13:$AI13,"د") | AP13: =IF(COUNTA($E13:$AI13)=0,0,SUMPRODUCT(($E$5:$AI$5<>"")*($E13:$AI13=""))) | AQ13: =SUMPRODUCT(SUMIF(الإعدادات!$A$14:$A$19,$E13:$AI13,الإعدادات!$C$14:$C$19)) | AR13: =AQ13+AP13 | AT13: =IF(COUNTA($E13:$AI13)=0,IF(AS13="",0,AS13),IF(AS13="",AR13,AS13)) | AU13: =IFERROR(VLOOKUP($B13,'بيانات الموظفين'!$B$7:$K$65,5,FALSE),0) | AV13: =IF(AU13=0,0,AU13/الإعدادات!$C$7) | AW13: =IF(AT13>=(COUNT($E$5:$AI$5)-الإعدادات!$C$6),AU13+AV13*(AT13-(COUNT($E$5:$AI$5)-الإعدادات!$C$6)),AV13*AT13) | AX13: =AQ13*IFERROR(VLOOKUP($B13,'بيانات الموظفين'!$B$7:$K$65,7,FALSE),الإعدادات!$C$8) | AY13: =IF(COUNTA($E13:$AI13)=0,0,IFERROR(VLOOKUP($B13,'بيانات الموظفين'!$B$7:$K$65,6,FALSE),0)) | BA13: =AZ13*AV13 | BC13: =AV13*الإعدادات!$C$9*SUMPRODUCT(SUMIF(الإعدادات!$A$14:$A$19,$E13:$AI13,الإعدادات!$C$14:$C$19)*($E$7:$AI$7=1)) | BD13: =AW13+AX13+AY13+BC13-BA13-BB13
A14: 7 | B14: 7 | C14: حماده محمد محمد عبد الباقي | D14: SO | AJ14: =COUNTIF($E14:$AI14,"P") | AK14: =COUNTIF($E14:$AI14,"غ") | AL14: =COUNTIF($E14:$AI14,"إ") | AM14: =COUNTIF($E14:$AI14,"م") | AN14: =COUNTIF($E14:$AI14,"خ") | AO14: =COUNTIF($E14:$AI14,"د") | AP14: =IF(COUNTA($E14:$AI14)=0,0,SUMPRODUCT(($E$5:$AI$5<>"")*($E14:$AI14=""))) | AQ14: =SUMPRODUCT(SUMIF(الإعدادات!$A$14:$A$19,$E14:$AI14,الإعدادات!$C$14:$C$19)) | AR14: =AQ14+AP14 | AT14: =IF(COUNTA($E14:$AI14)=0,IF(AS14="",0,AS14),IF(AS14="",AR14,AS14)) | AU14: =IFERROR(VLOOKUP($B14,'بيانات الموظفين'!$B$7:$K$65,5,FALSE),0) | AV14: =IF(AU14=0,0,AU14/الإعدادات!$C$7) | AW14: =IF(AT14>=(COUNT($E$5:$AI$5)-الإعدادات!$C$6),AU14+AV14*(AT14-(COUNT($E$5:$AI$5)-الإعدادات!$C$6)),AV14*AT14) | AX14: =AQ14*IFERROR(VLOOKUP($B14,'بيانات الموظفين'!$B$7:$K$65,7,FALSE),الإعدادات!$C$8) | AY14: =IF(COUNTA($E14:$AI14)=0,0,IFERROR(VLOOKUP($B14,'بيانات الموظفين'!$B$7:$K$65,6,FALSE),0)) | BA14: =AZ14*AV14 | BC14: =AV14*الإعدادات!$C$9*SUMPRODUCT(SUMIF(الإعدادات!$A$14:$A$19,$E14:$AI14,الإعدادات!$C$14:$C$19)*($E$7:$AI$7=1)) | BD14: =AW14+AX14+AY14+BC14-BA14-BB14
A15: 8 | B15: 8 | C15: أيمن أمين أمين حنفي | D15: SO | AJ15: =COUNTIF($E15:$AI15,"P") | AK15: =COUNTIF($E15:$AI15,"غ") | AL15: =COUNTIF($E15:$AI15,"إ") | AM15: =COUNTIF($E15:$AI15,"م") | AN15: =COUNTIF($E15:$AI15,"خ") | AO15: =COUNTIF($E15:$AI15,"د") | AP15: =IF(COUNTA($E15:$AI15)=0,0,SUMPRODUCT(($E$5:$AI$5<>"")*($E15:$AI15=""))) | AQ15: =SUMPRODUCT(SUMIF(الإعدادات!$A$14:$A$19,$E15:$AI15,الإعدادات!$C$14:$C$19)) | AR15: =AQ15+AP15 | AT15: =IF(COUNTA($E15:$AI15)=0,IF(AS15="",0,AS15),IF(AS15="",AR15,AS15)) | AU15: =IFERROR(VLOOKUP($B15,'بيانات الموظفين'!$B$7:$K$65,5,FALSE),0) | AV15: =IF(AU15=0,0,AU15/الإعدادات!$C$7) | AW15: =IF(AT15>=(COUNT($E$5:$AI$5)-الإعدادات!$C$6),AU15+AV15*(AT15-(COUNT($E$5:$AI$5)-الإعدادات!$C$6)),AV15*AT15) | AX15: =AQ15*IFERROR(VLOOKUP($B15,'بيانات الموظفين'!$B$7:$K$65,7,FALSE),الإعدادات!$C$8) | AY15: =IF(COUNTA($E15:$AI15)=0,0,IFERROR(VLOOKUP($B15,'بيانات الموظفين'!$B$7:$K$65,6,FALSE),0)) | BA15: =AZ15*AV15 | BC15: =AV15*الإعدادات!$C$9*SUMPRODUCT(SUMIF(الإعدادات!$A$14:$A$19,$E15:$AI15,الإعدادات!$C$14:$C$19)*($E$7:$AI$7=1)) | BD15: =AW15+AX15+AY15+BC15-BA15-BB15
A16: 9 | B16: 9 | C16: احمد فتحي محمد زيدان | D16: SO | AJ16: =COUNTIF($E16:$AI16,"P") | AK16: =COUNTIF($E16:$AI16,"غ") | AL16: =COUNTIF($E16:$AI16,"إ") | AM16: =COUNTIF($E16:$AI16,"م") | AN16: =COUNTIF($E16:$AI16,"خ") | AO16: =COUNTIF($E16:$AI16,"د") | AP16: =IF(COUNTA($E16:$AI16)=0,0,SUMPRODUCT(($E$5:$AI$5<>"")*($E16:$AI16=""))) | AQ16: =SUMPRODUCT(SUMIF(الإعدادات!$A$14:$A$19,$E16:$AI16,الإعدادات!$C$14:$C$19)) | AR16: =AQ16+AP16 | AT16: =IF(COUNTA($E16:$AI16)=0,IF(AS16="",0,AS16),IF(AS16="",AR16,AS16)) | AU16: =IFERROR(VLOOKUP($B16,'بيانات الموظفين'!$B$7:$K$65,5,FALSE),0) | AV16: =IF(AU16=0,0,AU16/الإعدادات!$C$7) | AW16: =IF(AT16>=(COUNT($E$5:$AI$5)-الإعدادات!$C$6),AU16+AV16*(AT16-(COUNT($E$5:$AI$5)-الإعدادات!$C$6)),AV16*AT16) | AX16: =AQ16*IFERROR(VLOOKUP($B16,'بيانات الموظفين'!$B$7:$K$65,7,FALSE),الإعدادات!$C$8) | AY16: =IF(COUNTA($E16:$AI16)=0,0,IFERROR(VLOOKUP($B16,'بيانات الموظفين'!$B$7:$K$65,6,FALSE),0)) | BA16: =AZ16*AV16 | BC16: =AV16*الإعدادات!$C$9*SUMPRODUCT(SUMIF(الإعدادات!$A$14:$A$19,$E16:$AI16,الإعدادات!$C$14:$C$19)*($E$7:$AI$7=1)) | BD16: =AW16+AX16+AY16+BC16-BA16-BB16
A17: 10 | B17: 10 | C17: البدري عبد الكريم محمد حسانين | D17: SO | AJ17: =COUNTIF($E17:$AI17,"P") | AK17: =COUNTIF($E17:$AI17,"غ") | AL17: =COUNTIF($E17:$AI17,"إ") | AM17: =COUNTIF($E17:$AI17,"م") | AN17: =COUNTIF($E17:$AI17,"خ") | AO17: =COUNTIF($E17:$AI17,"د") | AP17: =IF(COUNTA($E17:$AI17)=0,0,SUMPRODUCT(($E$5:$AI$5<>"")*($E17:$AI17=""))) | AQ17: =SUMPRODUCT(SUMIF(الإعدادات!$A$14:$A$19,$E17:$AI17,الإعدادات!$C$14:$C$19)) | AR17: =AQ17+AP17 | AT17: =IF(COUNTA($E17:$AI17)=0,IF(AS17="",0,AS17),IF(AS17="",AR17,AS17)) | AU17: =IFERROR(VLOOKUP($B17,'بيانات الموظفين'!$B$7:$K$65,5,FALSE),0) | AV17: =IF(AU17=0,0,AU17/الإعدادات!$C$7) | AW17: =IF(AT17>=(COUNT($E$5:$AI$5)-الإعدادات!$C$6),AU17+AV17*(AT17-(COUNT($E$5:$AI$5)-الإعدادات!$C$6)),AV17*AT17) | AX17: =AQ17*IFERROR(VLOOKUP($B17,'بيانات الموظفين'!$B$7:$K$65,7,FALSE),الإعدادات!$C$8) | AY17: =IF(COUNTA($E17:$AI17)=0,0,IFERROR(VLOOKUP($B17,'بيانات الموظفين'!$B$7:$K$65,6,FALSE),0)) | BA17: =AZ17*AV17 | BC17: =AV17*الإعدادات!$C$9*SUMPRODUCT(SUMIF(الإعدادات!$A$14:$A$19,$E17:$AI17,الإعدادات!$C$14:$C$19)*($E$7:$AI$7=1)) | BD17: =AW17+AX17+AY17+BC17-BA17-BB17
A18: 11 | B18: 11 | C18: أحمد عبد الرحيم خضري حسين | D18: SO | AJ18: =COUNTIF($E18:$AI18,"P") | AK18: =COUNTIF($E18:$AI18,"غ") | AL18: =COUNTIF($E18:$AI18,"إ") | AM18: =COUNTIF($E18:$AI18,"م") | AN18: =COUNTIF($E18:$AI18,"خ") | AO18: =COUNTIF($E18:$AI18,"د") | AP18: =IF(COUNTA($E18:$AI18)=0,0,SUMPRODUCT(($E$5:$AI$5<>"")*($E18:$AI18=""))) | AQ18: =SUMPRODUCT(SUMIF(الإعدادات!$A$14:$A$19,$E18:$AI18,الإعدادات!$C$14:$C$19)) | AR18: =AQ18+AP18 | AT18: =IF(COUNTA($E18:$AI18)=0,IF(AS18="",0,AS18),IF(AS18="",AR18,AS18)) | AU18: =IFERROR(VLOOKUP($B18,'بيانات الموظفين'!$B$7:$K$65,5,FALSE),0) | AV18: =IF(AU18=0,0,AU18/الإعدادات!$C$7) | AW18: =IF(AT18>=(COUNT($E$5:$AI$5)-الإعدادات!$C$6),AU18+AV18*(AT18-(COUNT($E$5:$AI$5)-الإعدادات!$C$6)),AV18*AT18) | AX18: =AQ18*IFERROR(VLOOKUP($B18,'بيانات الموظفين'!$B$7:$K$65,7,FALSE),الإعدادات!$C$8) | AY18: =IF(COUNTA($E18:$AI18)=0,0,IFERROR(VLOOKUP($B18,'بيانات الموظفين'!$B$7:$K$65,6,FALSE),0)) | BA18: =AZ18*AV18 | BC18: =AV18*الإعدادات!$C$9*SUMPRODUCT(SUMIF(الإعدادات!$A$14:$A$19,$E18:$AI18,الإعدادات!$C$14:$C$19)*($E$7:$AI$7=1)) | BD18: =AW18+AX18+AY18+BC18-BA18-BB18
A19: 12 | B19: 12 | C19: محمد سلطان النطري محمد | D19: SO | AJ19: =COUNTIF($E19:$AI19,"P") | AK19: =COUNTIF($E19:$AI19,"غ") | AL19: =COUNTIF($E19:$AI19,"إ") | AM19: =COUNTIF($E19:$AI19,"م") | AN19: =COUNTIF($E19:$AI19,"خ") | AO19: =COUNTIF($E19:$AI19,"د") | AP19: =IF(COUNTA($E19:$AI19)=0,0,SUMPRODUCT(($E$5:$AI$5<>"")*($E19:$AI19=""))) | AQ19: =SUMPRODUCT(SUMIF(الإعدادات!$A$14:$A$19,$E19:$AI19,الإعدادات!$C$14:$C$19)) | AR19: =AQ19+AP19 | AT19: =IF(COUNTA($E19:$AI19)=0,IF(AS19="",0,AS19),IF(AS19="",AR19,AS19)) | AU19: =IFERROR(VLOOKUP($B19,'بيانات الموظفين'!$B$7:$K$65,5,FALSE),0) | AV19: =IF(AU19=0,0,AU19/الإعدادات!$C$7) | AW19: =IF(AT19>=(COUNT($E$5:$AI$5)-الإعدادات!$C$6),AU19+AV19*(AT19-(COUNT($E$5:$AI$5)-الإعدادات!$C$6)),AV19*AT19) | AX19: =AQ19*IFERROR(VLOOKUP($B19,'بيانات الموظفين'!$B$7:$K$65,7,FALSE),الإعدادات!$C$8) | AY19: =IF(COUNTA($E19:$AI19)=0,0,IFERROR(VLOOKUP($B19,'بيانات الموظفين'!$B$7:$K$65,6,FALSE),0)) | BA19: =AZ19*AV19 | BC19: =AV19*الإعدادات!$C$9*SUMPRODUCT(SUMIF(الإعدادات!$A$14:$A$19,$E19:$AI19,الإعدادات!$C$14:$C$19)*($E$7:$AI$7=1)) | BD19: =AW19+AX19+AY19+BC19-BA19-BB19
... A66: 59 | B66: 59 | C66: حسن محمد حسن حسيني | D66: SO | AJ66: =COUNTIF($E66:$AI66,"P") | AK66: =COUNTIF($E66:$AI66,"غ") | AL66: =COUNTIF($E66:$AI66,"إ") | AM66: =COUNTIF($E66:$AI66,"م") | AN66: =COUNTIF($E66:$AI66,"خ") | AO66: =COUNTIF($E66:$AI66,"د") | AP66: =IF(COUNTA($E66:$AI66)=0,0,SUMPRODUCT(($E$5:$AI$5<>"")*($E66:$AI66=""))) | AQ66: =SUMPRODUCT(SUMIF(الإعدادات!$A$14:$A$19,$E66:$AI66,الإعدادات!$C$14:$C$19)) | AR66: =AQ66+AP66 | AT66: =IF(COUNTA($E66:$AI66)=0,IF(AS66="",0,AS66),IF(AS66="",AR66,AS66)) | AU66: =IFERROR(VLOOKUP($B66,'بيانات الموظفين'!$B$7:$K$65,5,FALSE),0) | AV66: =IF(AU66=0,0,AU66/الإعدادات!$C$7) | AW66: =IF(AT66>=(COUNT($E$5:$AI$5)-الإعدادات!$C$6),AU66+AV66*(AT66-(COUNT($E$5:$AI$5)-الإعدادات!$C$6)),AV66*AT66) | AX66: =AQ66*IFERROR(VLOOKUP($B66,'بيانات الموظفين'!$B$7:$K$65,7,FALSE),الإعدادات!$C$8) | AY66: =IF(COUNTA($E66:$AI66)=0,0,IFERROR(VLOOKUP($B66,'بيانات الموظفين'!$B$7:$K$65,6,FALSE),0)) | BA66: =AZ66*AV66 | BC66: =AV66*الإعدادات!$C$9*SUMPRODUCT(SUMIF(الإعدادات!$A$14:$A$19,$E66:$AI66,الإعدادات!$C$14:$C$19)*($E$7:$AI$7=1)) | BD66: =AW66+AX66+AY66+BC66-BA66-BB66
A67: الإجمالي — 59 موظفًا | AJ67: =SUM(AJ8:AJ66) | AK67: =SUM(AK8:AK66) | AL67: =SUM(AL8:AL66) | AM67: =SUM(AM8:AM66) | AN67: =SUM(AN8:AN66) | AO67: =SUM(AO8:AO66) | AP67: =SUM(AP8:AP66) | AQ67: =SUM(AQ8:AQ66) | ... AU67: =SUM(AU8:AU66) | AW67: =SUM(AW8:AW66) | AX67: =SUM(AX8:AX66) | AY67: =SUM(AY8:AY66) | AZ67: =SUM(AZ8:AZ66) | BA67: =SUM(BA8:BA66) | BB67: =SUM(BB8:BB66) | BC67: =SUM(BC8:BC66) | BD67: =SUM(BD8:BD66)
A69: طريقة الحساب: قيمة اليوم = الراتب الأساسي ÷ 30 • أجر الأيام = قيمة اليوم × الأيام النهائية، وإذا زادت الأيام عن أيام المعيار (أيام الشهر − 4) يُضاف الفرق بأجر اليوم • الوجبات = أيام الحضور × بدل الوجبة اليومي • بدل العطلة = قيمة اليوم × 2 لكل يوم عطلة حضر فيه الموظف • الصافي = أجر الأيام + الوجبات + بدل التأمين + بدل العطلة − قيمة الجزاء − أي خصم آخر • عمود «تعديل يدوي» للموظف الجديد أو منتصف الشهر ويُلغي الحساب التلقائي للأيام. تنبيه: الخانة الفارغة تُعدّ يوم راحة مدفوعًا — لا تترك يوم غياب فارغًا، بل سجّله «غ».
A71: إعداد المحاسب: ________________ | S71: مراجعة: ________________ | AK71: اعتماد المدير: ________________

Sheet 06-يونيو
A1: مسير رواتب شهر يونيو 2026 — شركة أرمسترونج | فرع 10 رمضان | موقع التجمعات
A2: أيام الشهر: 30 • أيام المعيار: 26 • بدل الوجبة: 30 ج.م/يوم • قيمة اليوم = الأساسي ÷ 30 • معامل العطلة: 2
A3: الرموز: P حاضر • غ غياب • إ إجازة • م مرضية • خ نصف يوم • د دبل شيفت — والخانة الفارغة = راحة (تُحتسب ضمن الشهر ولا تُحتسب حضورًا)
A5: م | B5: الكود | C5: اسم الموظف | D5: الوظيفة | E5: 1 | F5: 2 | G5: 3 | H5: 4 | I5: 5 | J5: 6 | K5: 7 | L5: 8 | M5: 9 | N5: 10 | O5: 11 | P5: 12 | Q5: 13 | R5: 14 | S5: 15 | T5: 16 | U5: 17 | V5: 18 | W5: 19 | X5: 20 | Y5: 21 | Z5: 22 | AA5: 23 | AB5: 24 | AC5: 25 | AD5: 26 | AE5: 27 | AF5: 28 | AG5: 29 | AH5: 30 | AJ5: بيانات الحضور | AR5: أيام الاستحقاق | AU5: الأجر | AX5: البدلات | AZ5: الاستقطاعات | BC5: بدل العطلة | BD5: الصافي المستحق
E6: ن | F6: ث | G6: ر | H6: خ | I6: ج | J6: س | K6: أ | L6: ن | M6: ث | N6: ر | O6: خ | P6: ج | Q6: س | R6: أ | S6: ن | T6: ث | U6: ر | V6: خ | W6: ج | X6: س | Y6: أ | Z6: ن | AA6: ث | AB6: ر | AC6: خ | AD6: ج | AE6: س | AF6: أ | AG6: ن | AH6: ث | AJ6: حاضر | AK6: غياب | AL6: إجازة | AM6: مرضية | AN6: نصف يوم | AO6: دبل | AP6: راحة (فراغ) | AQ6: أيام الحضور | AR6: أيام محتسبة (تلقائي) | AS6: تعديل يدوي | AT6: الأيام النهائية | AU6: الراتب الأساسي | AV6: قيمة اليوم | AW6: أجر الأيام | AX6: الوجبات | AY6: بدل التأمين (+) | AZ6: جزاء (أيام) | BA6: قيمة الجزاء | BB6: خصم آخر (مبلغ)
A7: عطلة رسمية (1 = يوم عطلة مدفوع بالمعامل) | E7: =IF(COUNTIFS(الإعدادات!$B$23:$B$60,6,الإعدادات!$C$23:$C$60,E$5)>0,1,0) | F7: =IF(COUNTIFS(الإعدادات!$B$23:$B$60,6,الإعدادات!$C$23:$C$60,F$5)>0,1,0) | G7: =IF(COUNTIFS(الإعدادات!$B$23:$B$60,6,الإعدادات!$C$23:$C$60,G$5)>0,1,0) | H7: =IF(COUNTIFS(الإعدادات!$B$23:$B$60,6,الإعدادات!$C$23:$C$60,H$5)>0,1,0) | I7: =IF(COUNTIFS(الإعدادات!$B$23:$B$60,6,الإعدادات!$C$23:$C$60,I$5)>0,1,0) | J7: =IF(COUNTIFS(الإعدادات!$B$23:$B$60,6,الإعدادات!$C$23:$C$60,J$5)>0,1,0) | K7: =IF(COUNTIFS(الإعدادات!$B$23:$B$60,6,الإعدادات!$C$23:$C$60,K$5)>0,1,0) | L7: =IF(COUNTIFS(الإعدادات!$B$23:$B$60,6,الإعدادات!$C$23:$C$60,L$5)>0,1,0) | ... AH7: =IF(COUNTIFS(الإعدادات!$B$23:$B$60,6,الإعدادات!$C$23:$C$60,AH$5)>0,1,0)
A8: 1 | B8: 1 | C8: صابر محمود محمد حسن | D8: SO | AJ8: =COUNTIF($E8:$AI8,"P") | AK8: =COUNTIF($E8:$AI8,"غ") | AL8: =COUNTIF($E8:$AI8,"إ") | AM8: =COUNTIF($E8:$AI8,"م") | AN8: =COUNTIF($E8:$AI8,"خ") | AO8: =COUNTIF($E8:$AI8,"د") | AP8: =IF(COUNTA($E8:$AI8)=0,0,SUMPRODUCT(($E$5:$AI$5<>"")*($E8:$AI8=""))) | AQ8: =SUMPRODUCT(SUMIF(الإعدادات!$A$14:$A$19,$E8:$AI8,الإعدادات!$C$14:$C$19)) | AR8: =AQ8+AP8 | AT8: =IF(COUNTA($E8:$AI8)=0,IF(AS8="",0,AS8),IF(AS8="",AR8,AS8)) | AU8: =IFERROR(VLOOKUP($B8,'بيانات الموظفين'!$B$7:$K$65,5,FALSE),0) | AV8: =IF(AU8=0,0,AU8/الإعدادات!$C$7) | AW8: =IF(AT8>=(COUNT($E$5:$AI$5)-الإعدادات!$C$6),AU8+AV8*(AT8-(COUNT($E$5:$AI$5)-الإعدادات!$C$6)),AV8*AT8) | AX8: =AQ8*IFERROR(VLOOKUP($B8,'بيانات الموظفين'!$B$7:$K$65,7,FALSE),الإعدادات!$C$8) | AY8: =IF(COUNTA($E8:$AI8)=0,0,IFERROR(VLOOKUP($B8,'بيانات الموظفين'!$B$7:$K$65,6,FALSE),0)) | BA8: =AZ8*AV8 | BC8: =AV8*الإعدادات!$C$9*SUMPRODUCT(SUMIF(الإعدادات!$A$14:$A$19,$E8:$AI8,الإعدادات!$C$14:$C$19)*($E$7:$AI$7=1)) | BD8: =AW8+AX8+AY8+BC8-BA8-BB8
A9: 2 | B9: 2 | C9: ناجي محمد حسن ابو العزم | D9: SO | AJ9: =COUNTIF($E9:$AI9,"P") | AK9: =COUNTIF($E9:$AI9,"غ") | AL9: =COUNTIF($E9:$AI9,"إ") | AM9: =COUNTIF($E9:$AI9,"م") | AN9: =COUNTIF($E9:$AI9,"خ") | AO9: =COUNTIF($E9:$AI9,"د") | AP9: =IF(COUNTA($E9:$AI9)=0,0,SUMPRODUCT(($E$5:$AI$5<>"")*($E9:$AI9=""))) | AQ9: =SUMPRODUCT(SUMIF(الإعدادات!$A$14:$A$19,$E9:$AI9,الإعدادات!$C$14:$C$19)) | AR9: =AQ9+AP9 | AT9: =IF(COUNTA($E9:$AI9)=0,IF(AS9="",0,AS9),IF(AS9="",AR9,AS9)) | AU9: =IFERROR(VLOOKUP($B9,'بيانات الموظفين'!$B$7:$K$65,5,FALSE),0) | AV9: =IF(AU9=0,0,AU9/الإعدادات!$C$7) | AW9: =IF(AT9>=(COUNT($E$5:$AI$5)-الإعدادات!$C$6),AU9+AV9*(AT9-(COUNT($E$5:$AI$5)-الإعدادات!$C$6)),AV9*AT9) | AX9: =AQ9*IFERROR(VLOOKUP($B9,'بيانات الموظفين'!$B$7:$K$65,7,FALSE),الإعدادات!$C$8) | AY9: =IF(COUNTA($E9:$AI9)=0,0,IFERROR(VLOOKUP($B9,'بيانات الموظفين'!$B$7:$K$65,6,FALSE),0)) | BA9: =AZ9*AV9 | BC9: =AV9*الإعدادات!$C$9*SUMPRODUCT(SUMIF(الإعدادات!$A$14:$A$19,$E9:$AI9,الإعدادات!$C$14:$C$19)*($E$7:$AI$7=1)) | BD9: =AW9+AX9+AY9+BC9-BA9-BB9
A10: 3 | B10: 3 | C10: طه سامي طه تله | D10: SO | AJ10: =COUNTIF($E10:$AI10,"P") | AK10: =COUNTIF($E10:$AI10,"غ") | AL10: =COUNTIF($E10:$AI10,"إ") | AM10: =COUNTIF($E10:$AI10,"م") | AN10: =COUNTIF($E10:$AI10,"خ") | AO10: =COUNTIF($E10:$AI10,"د") | AP10: =IF(COUNTA($E10:$AI10)=0,0,SUMPRODUCT(($E$5:$AI$5<>"")*($E10:$AI10=""))) | AQ10: =SUMPRODUCT(SUMIF(الإعدادات!$A$14:$A$19,$E10:$AI10,الإعدادات!$C$14:$C$19)) | AR10: =AQ10+AP10 | AT10: =IF(COUNTA($E10:$AI10)=0,IF(AS10="",0,AS10),IF(AS10="",AR10,AS10)) | AU10: =IFERROR(VLOOKUP($B10,'بيانات الموظفين'!$B$7:$K$65,5,FALSE),0) | AV10: =IF(AU10=0,0,AU10/الإعدادات!$C$7) | AW10: =IF(AT10>=(COUNT($E$5:$AI$5)-الإعدادات!$C$6),AU10+AV10*(AT10-(COUNT($E$5:$AI$5)-الإعدادات!$C$6)),AV10*AT10) | AX10: =AQ10*IFERROR(VLOOKUP($B10,'بيانات الموظفين'!$B$7:$K$65,7,FALSE),الإعدادات!$C$8) | AY10: =IF(COUNTA($E10:$AI10)=0,0,IFERROR(VLOOKUP($B10,'بيانات الموظفين'!$B$7:$K$65,6,FALSE),0)) | BA10: =AZ10*AV10 | BC10: =AV10*الإعدادات!$C$9*SUMPRODUCT(SUMIF(الإعدادات!$A$14:$A$19,$E10:$AI10,الإعدادات!$C$14:$C$19)*($E$7:$AI$7=1)) | BD10: =AW10+AX10+AY10+BC10-BA10-BB10
A11: 4 | B11: 4 | C11: مصطفي ربيع محمد حسن | D11: SO | AJ11: =COUNTIF($E11:$AI11,"P") | AK11: =COUNTIF($E11:$AI11,"غ") | AL11: =COUNTIF($E11:$AI11,"إ") | AM11: =COUNTIF($E11:$AI11,"م") | AN11: =COUNTIF($E11:$AI11,"خ") | AO11: =COUNTIF($E11:$AI11,"د") | AP11: =IF(COUNTA($E11:$AI11)=0,0,SUMPRODUCT(($E$5:$AI$5<>"")*($E11:$AI11=""))) | AQ11: =SUMPRODUCT(SUMIF(الإعدادات!$A$14:$A$19,$E11:$AI11,الإعدادات!$C$14:$C$19)) | AR11: =AQ11+AP11 | AT11: =IF(COUNTA($E11:$AI11)=0,IF(AS11="",0,AS11),IF(AS11="",AR11,AS11)) | AU11: =IFERROR(VLOOKUP($B11,'بيانات الموظفين'!$B$7:$K$65,5,FALSE),0) | AV11: =IF(AU11=0,0,AU11/الإعدادات!$C$7) | AW11: =IF(AT11>=(COUNT($E$5:$AI$5)-الإعدادات!$C$6),AU11+AV11*(AT11-(COUNT($E$5:$AI$5)-الإعدادات!$C$6)),AV11*AT11) | AX11: =AQ11*IFERROR(VLOOKUP($B11,'بيانات الموظفين'!$B$7:$K$65,7,FALSE),الإعدادات!$C$8) | AY11: =IF(COUNTA($E11:$AI11)=0,0,IFERROR(VLOOKUP($B11,'بيانات الموظفين'!$B$7:$K$65,6,FALSE),0)) | BA11: =AZ11*AV11 | BC11: =AV11*الإعدادات!$C$9*SUMPRODUCT(SUMIF(الإعدادات!$A$14:$A$19,$E11:$AI11,الإعدادات!$C$14:$C$19)*($E$7:$AI$7=1)) | BD11: =AW11+AX11+AY11+BC11-BA11-BB11
A12: 5 | B12: 5 | C12: محمد محمود خليل غنيم | D12: SO | AJ12: =COUNTIF($E12:$AI12,"P") | AK12: =COUNTIF($E12:$AI12,"غ") | AL12: =COUNTIF($E12:$AI12,"إ") | AM12: =COUNTIF($E12:$AI12,"م") | AN12: =COUNTIF($E12:$AI12,"خ") | AO12: =COUNTIF($E12:$AI12,"د") | AP12: =IF(COUNTA($E12:$AI12)=0,0,SUMPRODUCT(($E$5:$AI$5<>"")*($E12:$AI12=""))) | AQ12: =SUMPRODUCT(SUMIF(الإعدادات!$A$14:$A$19,$E12:$AI12,الإعدادات!$C$14:$C$19)) | AR12: =AQ12+AP12 | AT12: =IF(COUNTA($E12:$AI12)=0,IF(AS12="",0,AS12),IF(AS12="",AR12,AS12)) | AU12: =IFERROR(VLOOKUP($B12,'بيانات الموظفين'!$B$7:$K$65,5,FALSE),0) | AV12: =IF(AU12=0,0,AU12/الإعدادات!$C$7) | AW12: =IF(AT12>=(COUNT($E$5:$AI$5)-الإعدادات!$C$6),AU12+AV12*(AT12-(COUNT($E$5:$AI$5)-الإعدادات!$C$6)),AV12*AT12) | AX12: =AQ12*IFERROR(VLOOKUP($B12,'بيانات الموظفين'!$B$7:$K$65,7,FALSE),الإعدادات!$C$8) | AY12: =IF(COUNTA($E12:$AI12)=0,0,IFERROR(VLOOKUP($B12,'بيانات الموظفين'!$B$7:$K$65,6,FALSE),0)) | BA12: =AZ12*AV12 | BC12: =AV12*الإعدادات!$C$9*SUMPRODUCT(SUMIF(الإعدادات!$A$14:$A$19,$E12:$AI12,الإعدادات!$C$14:$C$19)*($E$7:$AI$7=1)) | BD12: =AW12+AX12+AY12+BC12-BA12-BB12
A13: 6 | B13: 6 | C13: ربيع محمد أحمد محمد | D13: SO | AJ13: =COUNTIF($E13:$AI13,"P") | AK13: =COUNTIF($E13:$AI13,"غ") | AL13: =COUNTIF($E13:$AI13,"إ") | AM13: =COUNTIF($E13:$AI13,"م") | AN13: =COUNTIF($E13:$AI13,"خ") | AO13: =COUNTIF($E13:$AI13,"د") | AP13: =IF(COUNTA($E13:$AI13)=0,0,SUMPRODUCT(($E$5:$AI$5<>"")*($E13:$AI13=""))) | AQ13: =SUMPRODUCT(SUMIF(الإعدادات!$A$14:$A$19,$E13:$AI13,الإعدادات!$C$14:$C$19)) | AR13: =AQ13+AP13 | AT13: =IF(COUNTA($E13:$AI13)=0,IF(AS13="",0,AS13),IF(AS13="",AR13,AS13)) | AU13: =IFERROR(VLOOKUP($B13,'بيانات الموظفين'!$B$7:$K$65,5,FALSE),0) | AV13: =IF(AU13=0,0,AU13/الإعدادات!$C$7) | AW13: =IF(AT13>=(COUNT($E$5:$AI$5)-الإعدادات!$C$6),AU13+AV13*(AT13-(COUNT($E$5:$AI$5)-الإعدادات!$C$6)),AV13*AT13) | AX13: =AQ13*IFERROR(VLOOKUP($B13,'بيانات الموظفين'!$B$7:$K$65,7,FALSE),الإعدادات!$C$8) | AY13: =IF(COUNTA($E13:$AI13)=0,0,IFERROR(VLOOKUP($B13,'بيانات الموظفين'!$B$7:$K$65,6,FALSE),0)) | BA13: =AZ13*AV13 | BC13: =AV13*الإعدادات!$C$9*SUMPRODUCT(SUMIF(الإعدادات!$A$14:$A$19,$E13:$AI13,الإعدادات!$C$14:$C$19)*($E$7:$AI$7=1)) | BD13: =AW13+AX13+AY13+BC13-BA13-BB13
A14: 7 | B14: 7 | C14: حماده محمد محمد عبد الباقي | D14: SO | AJ14: =COUNTIF($E14:$AI14,"P") | AK14: =COUNTIF($E14:$AI14,"غ") | AL14: =COUNTIF($E14:$AI14,"إ") | AM14: =COUNTIF($E14:$AI14,"م") | AN14: =COUNTIF($E14:$AI14,"خ") | AO14: =COUNTIF($E14:$AI14,"د") | AP14: =IF(COUNTA($E14:$AI14)=0,0,SUMPRODUCT(($E$5:$AI$5<>"")*($E14:$AI14=""))) | AQ14: =SUMPRODUCT(SUMIF(الإعدادات!$A$14:$A$19,$E14:$AI14,الإعدادات!$C$14:$C$19)) | AR14: =AQ14+AP14 | AT14: =IF(COUNTA($E14:$AI14)=0,IF(AS14="",0,AS14),IF(AS14="",AR14,AS14)) | AU14: =IFERROR(VLOOKUP($B14,'بيانات الموظفين'!$B$7:$K$65,5,FALSE),0) | AV14: =IF(AU14=0,0,AU14/الإعدادات!$C$7) | AW14: =IF(AT14>=(COUNT($E$5:$AI$5)-الإعدادات!$C$6),AU14+AV14*(AT14-(COUNT($E$5:$AI$5)-الإعدادات!$C$6)),AV14*AT14) | AX14: =AQ14*IFERROR(VLOOKUP($B14,'بيانات الموظفين'!$B$7:$K$65,7,FALSE),الإعدادات!$C$8) | AY14: =IF(COUNTA($E14:$AI14)=0,0,IFERROR(VLOOKUP($B14,'بيانات الموظفين'!$B$7:$K$65,6,FALSE),0)) | BA14: =AZ14*AV14 | BC14: =AV14*الإعدادات!$C$9*SUMPRODUCT(SUMIF(الإعدادات!$A$14:$A$19,$E14:$AI14,الإعدادات!$C$14:$C$19)*($E$7:$AI$7=1)) | BD14: =AW14+AX14+AY14+BC14-BA14-BB14
A15: 8 | B15: 8 | C15: أيمن أمين أمين حنفي | D15: SO | AJ15: =COUNTIF($E15:$AI15,"P") | AK15: =COUNTIF($E15:$AI15,"غ") | AL15: =COUNTIF($E15:$AI15,"إ") | AM15: =COUNTIF($E15:$AI15,"م") | AN15: =COUNTIF($E15:$AI15,"خ") | AO15: =COUNTIF($E15:$AI15,"د") | AP15: =IF(COUNTA($E15:$AI15)=0,0,SUMPRODUCT(($E$5:$AI$5<>"")*($E15:$AI15=""))) | AQ15: =SUMPRODUCT(SUMIF(الإعدادات!$A$14:$A$19,$E15:$AI15,الإعدادات!$C$14:$C$19)) | AR15: =AQ15+AP15 | AT15: =IF(COUNTA($E15:$AI15)=0,IF(AS15="",0,AS15),IF(AS15="",AR15,AS15)) | AU15: =IFERROR(VLOOKUP($B15,'بيانات الموظفين'!$B$7:$K$65,5,FALSE),0) | AV15: =IF(AU15=0,0,AU15/الإعدادات!$C$7) | AW15: =IF(AT15>=(COUNT($E$5:$AI$5)-الإعدادات!$C$6),AU15+AV15*(AT15-(COUNT($E$5:$AI$5)-الإعدادات!$C$6)),AV15*AT15) | AX15: =AQ15*IFERROR(VLOOKUP($B15,'بيانات الموظفين'!$B$7:$K$65,7,FALSE),الإعدادات!$C$8) | AY15: =IF(COUNTA($E15:$AI15)=0,0,IFERROR(VLOOKUP($B15,'بيانات الموظفين'!$B$7:$K$65,6,FALSE),0)) | BA15: =AZ15*AV15 | BC15: =AV15*الإعدادات!$C$9*SUMPRODUCT(SUMIF(الإعدادات!$A$14:$A$19,$E15:$AI15,الإعدادات!$C$14:$C$19)*($E$7:$AI$7=1)) | BD15: =AW15+AX15+AY15+BC15-BA15-BB15
A16: 9 | B16: 9 | C16: احمد فتحي محمد زيدان | D16: SO | AJ16: =COUNTIF($E16:$AI16,"P") | AK16: =COUNTIF($E16:$AI16,"غ") | AL16: =COUNTIF($E16:$AI16,"إ") | AM16: =COUNTIF($E16:$AI16,"م") | AN16: =COUNTIF($E16:$AI16,"خ") | AO16: =COUNTIF($E16:$AI16,"د") | AP16: =IF(COUNTA($E16:$AI16)=0,0,SUMPRODUCT(($E$5:$AI$5<>"")*($E16:$AI16=""))) | AQ16: =SUMPRODUCT(SUMIF(الإعدادات!$A$14:$A$19,$E16:$AI16,الإعدادات!$C$14:$C$19)) | AR16: =AQ16+AP16 | AT16: =IF(COUNTA($E16:$AI16)=0,IF(AS16="",0,AS16),IF(AS16="",AR16,AS16)) | AU16: =IFERROR(VLOOKUP($B16,'بيانات الموظفين'!$B$7:$K$65,5,FALSE),0) | AV16: =IF(AU16=0,0,AU16/الإعدادات!$C$7) | AW16: =IF(AT16>=(COUNT($E$5:$AI$5)-الإعدادات!$C$6),AU16+AV16*(AT16-(COUNT($E$5:$AI$5)-الإعدادات!$C$6)),AV16*AT16) | AX16: =AQ16*IFERROR(VLOOKUP($B16,'بيانات الموظفين'!$B$7:$K$65,7,FALSE),الإعدادات!$C$8) | AY16: =IF(COUNTA($E16:$AI16)=0,0,IFERROR(VLOOKUP($B16,'بيانات الموظفين'!$B$7:$K$65,6,FALSE),0)) | BA16: =AZ16*AV16 | BC16: =AV16*الإعدادات!$C$9*SUMPRODUCT(SUMIF(الإعدادات!$A$14:$A$19,$E16:$AI16,الإعدادات!$C$14:$C$19)*($E$7:$AI$7=1)) | BD16: =AW16+AX16+AY16+BC16-BA16-BB16
A17: 10 | B17: 10 | C17: البدري عبد الكريم محمد حسانين | D17: SO | AJ17: =COUNTIF($E17:$AI17,"P") | AK17: =COUNTIF($E17:$AI17,"غ") | AL17: =COUNTIF($E17:$AI17,"إ") | AM17: =COUNTIF($E17:$AI17,"م") | AN17: =COUNTIF($E17:$AI17,"خ") | AO17: =COUNTIF($E17:$AI17,"د") | AP17: =IF(COUNTA($E17:$AI17)=0,0,SUMPRODUCT(($E$5:$AI$5<>"")*($E17:$AI17=""))) | AQ17: =SUMPRODUCT(SUMIF(الإعدادات!$A$14:$A$19,$E17:$AI17,الإعدادات!$C$14:$C$19)) | AR17: =AQ17+AP17 | AT17: =IF(COUNTA($E17:$AI17)=0,IF(AS17="",0,AS17),IF(AS17="",AR17,AS17)) | AU17: =IFERROR(VLOOKUP($B17,'بيانات الموظفين'!$B$7:$K$65,5,FALSE),0) | AV17: =IF(AU17=0,0,AU17/الإعدادات!$C$7) | AW17: =IF(AT17>=(COUNT($E$5:$AI$5)-الإعدادات!$C$6),AU17+AV17*(AT17-(COUNT($E$5:$AI$5)-الإعدادات!$C$6)),AV17*AT17) | AX17: =AQ17*IFERROR(VLOOKUP($B17,'بيانات الموظفين'!$B$7:$K$65,7,FALSE),الإعدادات!$C$8) | AY17: =IF(COUNTA($E17:$AI17)=0,0,IFERROR(VLOOKUP($B17,'بيانات الموظفين'!$B$7:$K$65,6,FALSE),0)) | BA17: =AZ17*AV17 | BC17: =AV17*الإعدادات!$C$9*SUMPRODUCT(SUMIF(الإعدادات!$A$14:$A$19,$E17:$AI17,الإعدادات!$C$14:$C$19)*($E$7:$AI$7=1)) | BD17: =AW17+AX17+AY17+BC17-BA17-BB17
A18: 11 | B18: 11 | C18: أحمد عبد الرحيم خضري حسين | D18: SO | AJ18: =COUNTIF($E18:$AI18,"P") | AK18: =COUNTIF($E18:$AI18,"غ") | AL18: =COUNTIF($E18:$AI18,"إ") | AM18: =COUNTIF($E18:$AI18,"م") | AN18: =COUNTIF($E18:$AI18,"خ") | AO18: =COUNTIF($E18:$AI18,"د") | AP18: =IF(COUNTA($E18:$AI18)=0,0,SUMPRODUCT(($E$5:$AI$5<>"")*($E18:$AI18=""))) | AQ18: =SUMPRODUCT(SUMIF(الإعدادات!$A$14:$A$19,$E18:$AI18,الإعدادات!$C$14:$C$19)) | AR18: =AQ18+AP18 | AT18: =IF(COUNTA($E18:$AI18)=0,IF(AS18="",0,AS18),IF(AS18="",AR18,AS18)) | AU18: =IFERROR(VLOOKUP($B18,'بيانات الموظفين'!$B$7:$K$65,5,FALSE),0) | AV18: =IF(AU18=0,0,AU18/الإعدادات!$C$7) | AW18: =IF(AT18>=(COUNT($E$5:$AI$5)-الإعدادات!$C$6),AU18+AV18*(AT18-(COUNT($E$5:$AI$5)-الإعدادات!$C$6)),AV18*AT18) | AX18: =AQ18*IFERROR(VLOOKUP($B18,'بيانات الموظفين'!$B$7:$K$65,7,FALSE),الإعدادات!$C$8) | AY18: =IF(COUNTA($E18:$AI18)=0,0,IFERROR(VLOOKUP($B18,'بيانات الموظفين'!$B$7:$K$65,6,FALSE),0)) | BA18: =AZ18*AV18 | BC18: =AV18*الإعدادات!$C$9*SUMPRODUCT(SUMIF(الإعدادات!$A$14:$A$19,$E18:$AI18,الإعدادات!$C$14:$C$19)*($E$7:$AI$7=1)) | BD18: =AW18+AX18+AY18+BC18-BA18-BB18
A19: 12 | B19: 12 | C19: محمد سلطان النطري محمد | D19: SO | AJ19: =COUNTIF($E19:$AI19,"P") | AK19: =COUNTIF($E19:$AI19,"غ") | AL19: =COUNTIF($E19:$AI19,"إ") | AM19: =COUNTIF($E19:$AI19,"م") | AN19: =COUNTIF($E19:$AI19,"خ") | AO19: =COUNTIF($E19:$AI19,"د") | AP19: =IF(COUNTA($E19:$AI19)=0,0,SUMPRODUCT(($E$5:$AI$5<>"")*($E19:$AI19=""))) | AQ19: =SUMPRODUCT(SUMIF(الإعدادات!$A$14:$A$19,$E19:$AI19,الإعدادات!$C$14:$C$19)) | AR19: =AQ19+AP19 | AT19: =IF(COUNTA($E19:$AI19)=0,IF(AS19="",0,AS19),IF(AS19="",AR19,AS19)) | AU19: =IFERROR(VLOOKUP($B19,'بيانات الموظفين'!$B$7:$K$65,5,FALSE),0) | AV19: =IF(AU19=0,0,AU19/الإعدادات!$C$7) | AW19: =IF(AT19>=(COUNT($E$5:$AI$5)-الإعدادات!$C$6),AU19+AV19*(AT19-(COUNT($E$5:$AI$5)-الإعدادات!$C$6)),AV19*AT19) | AX19: =AQ19*IFERROR(VLOOKUP($B19,'بيانات الموظفين'!$B$7:$K$65,7,FALSE),الإعدادات!$C$8) | AY19: =IF(COUNTA($E19:$AI19)=0,0,IFERROR(VLOOKUP($B19,'بيانات الموظفين'!$B$7:$K$65,6,FALSE),0)) | BA19: =AZ19*AV19 | BC19: =AV19*الإعدادات!$C$9*SUMPRODUCT(SUMIF(الإعدادات!$A$14:$A$19,$E19:$AI19,الإعدادات!$C$14:$C$19)*($E$7:$AI$7=1)) | BD19: =AW19+AX19+AY19+BC19-BA19-BB19
... A66: 59 | B66: 59 | C66: حسن محمد حسن حسيني | D66: SO | AJ66: =COUNTIF($E66:$AI66,"P") | AK66: =COUNTIF($E66:$AI66,"غ") | AL66: =COUNTIF($E66:$AI66,"إ") | AM66: =COUNTIF($E66:$AI66,"م") | AN66: =COUNTIF($E66:$AI66,"خ") | AO66: =COUNTIF($E66:$AI66,"د") | AP66: =IF(COUNTA($E66:$AI66)=0,0,SUMPRODUCT(($E$5:$AI$5<>"")*($E66:$AI66=""))) | AQ66: =SUMPRODUCT(SUMIF(الإعدادات!$A$14:$A$19,$E66:$AI66,الإعدادات!$C$14:$C$19)) | AR66: =AQ66+AP66 | AT66: =IF(COUNTA($E66:$AI66)=0,IF(AS66="",0,AS66),IF(AS66="",AR66,AS66)) | AU66: =IFERROR(VLOOKUP($B66,'بيانات الموظفين'!$B$7:$K$65,5,FALSE),0) | AV66: =IF(AU66=0,0,AU66/الإعدادات!$C$7) | AW66: =IF(AT66>=(COUNT($E$5:$AI$5)-الإعدادات!$C$6),AU66+AV66*(AT66-(COUNT($E$5:$AI$5)-الإعدادات!$C$6)),AV66*AT66) | AX66: =AQ66*IFERROR(VLOOKUP($B66,'بيانات الموظفين'!$B$7:$K$65,7,FALSE),الإعدادات!$C$8) | AY66: =IF(COUNTA($E66:$AI66)=0,0,IFERROR(VLOOKUP($B66,'بيانات الموظفين'!$B$7:$K$65,6,FALSE),0)) | BA66: =AZ66*AV66 | BC66: =AV66*الإعدادات!$C$9*SUMPRODUCT(SUMIF(الإعدادات!$A$14:$A$19,$E66:$AI66,الإعدادات!$C$14:$C$19)*($E$7:$AI$7=1)) | BD66: =AW66+AX66+AY66+BC66-BA66-BB66
A67: الإجمالي — 59 موظفًا | AJ67: =SUM(AJ8:AJ66) | AK67: =SUM(AK8:AK66) | AL67: =SUM(AL8:AL66) | AM67: =SUM(AM8:AM66) | AN67: =SUM(AN8:AN66) | AO67: =SUM(AO8:AO66) | AP67: =SUM(AP8:AP66) | AQ67: =SUM(AQ8:AQ66) | ... AU67: =SUM(AU8:AU66) | AW67: =SUM(AW8:AW66) | AX67: =SUM(AX8:AX66) | AY67: =SUM(AY8:AY66) | AZ67: =SUM(AZ8:AZ66) | BA67: =SUM(BA8:BA66) | BB67: =SUM(BB8:BB66) | BC67: =SUM(BC8:BC66) | BD67: =SUM(BD8:BD66)
A69: طريقة الحساب: قيمة اليوم = الراتب الأساسي ÷ 30 • أجر الأيام = قيمة اليوم × الأيام النهائية، وإذا زادت الأيام عن أيام المعيار (أيام الشهر − 4) يُضاف الفرق بأجر اليوم • الوجبات = أيام الحضور × بدل الوجبة اليومي • بدل العطلة = قيمة اليوم × 2 لكل يوم عطلة حضر فيه الموظف • الصافي = أجر الأيام + الوجبات + بدل التأمين + بدل العطلة − قيمة الجزاء − أي خصم آخر • عمود «تعديل يدوي» للموظف الجديد أو منتصف الشهر ويُلغي الحساب التلقائي للأيام. تنبيه: الخانة الفارغة تُعدّ يوم راحة مدفوعًا — لا تترك يوم غياب فارغًا، بل سجّله «غ».
A71: إعداد المحاسب: ________________ | S71: مراجعة: ________________ | AK71: اعتماد المدير: ________________

Sheet 07-يوليو
A1: مسير رواتب شهر يوليو 2026 — شركة أرمسترونج | فرع 10 رمضان | موقع التجمعات
A2: أيام الشهر: 31 • أيام المعيار: 27 • بدل الوجبة: 30 ج.م/يوم • قيمة اليوم = الأساسي ÷ 30 • معامل العطلة: 2
A3: الرموز: P حاضر • غ غياب • إ إجازة • م مرضية • خ نصف يوم • د دبل شيفت — والخانة الفارغة = راحة (تُحتسب ضمن الشهر ولا تُحتسب حضورًا)
A5: م | B5: الكود | C5: اسم الموظف | D5: الوظيفة | E5: 1 | F5: 2 | G5: 3 | H5: 4 | I5: 5 | J5: 6 | K5: 7 | L5: 8 | M5: 9 | N5: 10 | O5: 11 | P5: 12 | Q5: 13 | R5: 14 | S5: 15 | T5: 16 | U5: 17 | V5: 18 | W5: 19 | X5: 20 | Y5: 21 | Z5: 22 | AA5: 23 | AB5: 24 | AC5: 25 | AD5: 26 | AE5: 27 | AF5: 28 | AG5: 29 | AH5: 30 | AI5: 31 | AJ5: بيانات الحضور | AR5: أيام الاستحقاق | AU5: الأجر | AX5: البدلات | AZ5: الاستقطاعات | BC5: بدل العطلة | BD5: الصافي المستحق
E6: ر | F6: خ | G6: ج | H6: س | I6: أ | J6: ن | K6: ث | L6: ر | M6: خ | N6: ج | O6: س | P6: أ | Q6: ن | R6: ث | S6: ر | T6: خ | U6: ج | V6: س | W6: أ | X6: ن | Y6: ث | Z6: ر | AA6: خ | AB6: ج | AC6: س | AD6: أ | AE6: ن | AF6: ث | AG6: ر | AH6: خ | AI6: ج | AJ6: حاضر | AK6: غياب | AL6: إجازة | AM6: مرضية | AN6: نصف يوم | AO6: دبل | AP6: راحة (فراغ) | AQ6: أيام الحضور | AR6: أيام محتسبة (تلقائي) | AS6: تعديل يدوي | AT6: الأيام النهائية | AU6: الراتب الأساسي | AV6: قيمة اليوم | AW6: أجر الأيام | AX6: الوجبات | AY6: بدل التأمين (+) | AZ6: جزاء (أيام) | BA6: قيمة الجزاء | BB6: خصم آخر (مبلغ)
A7: عطلة رسمية (1 = يوم عطلة مدفوع بالمعامل) | E7: =IF(COUNTIFS(الإعدادات!$B$23:$B$60,7,الإعدادات!$C$23:$C$60,E$5)>0,1,0) | F7: =IF(COUNTIFS(الإعدادات!$B$23:$B$60,7,الإعدادات!$C$23:$C$60,F$5)>0,1,0) | G7: =IF(COUNTIFS(الإعدادات!$B$23:$B$60,7,الإعدادات!$C$23:$C$60,G$5)>0,1,0) | H7: =IF(COUNTIFS(الإعدادات!$B$23:$B$60,7,الإعدادات!$C$23:$C$60,H$5)>0,1,0) | I7: =IF(COUNTIFS(الإعدادات!$B$23:$B$60,7,الإعدادات!$C$23:$C$60,I$5)>0,1,0) | J7: =IF(COUNTIFS(الإعدادات!$B$23:$B$60,7,الإعدادات!$C$23:$C$60,J$5)>0,1,0) | K7: =IF(COUNTIFS(الإعدادات!$B$23:$B$60,7,الإعدادات!$C$23:$C$60,K$5)>0,1,0) | L7: =IF(COUNTIFS(الإعدادات!$B$23:$B$60,7,الإعدادات!$C$23:$C$60,L$5)>0,1,0) | ... AI7: =IF(COUNTIFS(الإعدادات!$B$23:$B$60,7,الإعدادات!$C$23:$C$60,AI$5)>0,1,0)
A8: 1 | B8: 1 | C8: صابر محمود محمد حسن | D8: SO | G8: P | H8: P | I8: P | J8: غ | K8: P | L8: P | M8: P | N8: P | O8: P | P8: P | Q8: P | R8: P | S8: P | T8: P | U8: P | V8: P | W8: P | X8: P | Y8: P | AA8: P | AB8: P | AC8: P | AD8: P | AE8: P | AF8: P | AG8: P | AH8: P | AI8: P | AJ8: =COUNTIF($E8:$AI8,"P") | AK8: =COUNTIF($E8:$AI8,"غ") | AL8: =COUNTIF($E8:$AI8,"إ") | AM8: =COUNTIF($E8:$AI8,"م") | AN8: =COUNTIF($E8:$AI8,"خ") | AO8: =COUNTIF($E8:$AI8,"د") | AP8: =IF(COUNTA($E8:$AI8)=0,0,SUMPRODUCT(($E$5:$AI$5<>"")*($E8:$AI8=""))) | AQ8: =SUMPRODUCT(SUMIF(الإعدادات!$A$14:$A$19,$E8:$AI8,الإعدادات!$C$14:$C$19)) | AR8: =AQ8+AP8 | AT8: =IF(COUNTA($E8:$AI8)=0,IF(AS8="",0,AS8),IF(AS8="",AR8,AS8)) | AU8: =IFERROR(VLOOKUP($B8,'بيانات الموظفين'!$B$7:$K$65,5,FALSE),0) | AV8: =IF(AU8=0,0,AU8/الإعدادات!$C$7) | AW8: =IF(AT8>=(COUNT($E$5:$AI$5)-الإعدادات!$C$6),AU8+AV8*(AT8-(COUNT($E$5:$AI$5)-الإعدادات!$C$6)),AV8*AT8) | AX8: =AQ8*IFERROR(VLOOKUP($B8,'بيانات الموظفين'!$B$7:$K$65,7,FALSE),الإعدادات!$C$8) | AY8: =IF(COUNTA($E8:$AI8)=0,0,IFERROR(VLOOKUP($B8,'بيانات الموظفين'!$B$7:$K$65,6,FALSE),0)) | AZ8: 0.5 | BA8: =AZ8*AV8 | BC8: =AV8*الإعدادات!$C$9*SUMPRODUCT(SUMIF(الإعدادات!$A$14:$A$19,$E8:$AI8,الإعدادات!$C$14:$C$19)*($E$7:$AI$7=1)) | BD8: =AW8+AX8+AY8+BC8-BA8-BB8
A9: 2 | B9: 2 | C9: ناجي محمد حسن ابو العزم | D9: SO | E9: P | F9: P | G9: P | H9: P | M9: P | N9: P | O9: P | P9: P | Q9: P | R9: P | S9: P | T9: P | U9: P | V9: P | W9: P | X9: P | Y9: P | Z9: P | AA9: P | AB9: P | AC9: P | AD9: P | AE9: P | AF9: P | AG9: P | AH9: P | AI9: P | AJ9: =COUNTIF($E9:$AI9,"P") | AK9: =COUNTIF($E9:$AI9,"غ") | AL9: =COUNTIF($E9:$AI9,"إ") | AM9: =COUNTIF($E9:$AI9,"م") | AN9: =COUNTIF($E9:$AI9,"خ") | AO9: =COUNTIF($E9:$AI9,"د") | AP9: =IF(COUNTA($E9:$AI9)=0,0,SUMPRODUCT(($E$5:$AI$5<>"")*($E9:$AI9=""))) | AQ9: =SUMPRODUCT(SUMIF(الإعدادات!$A$14:$A$19,$E9:$AI9,الإعدادات!$C$14:$C$19)) | AR9: =AQ9+AP9 | AT9: =IF(COUNTA($E9:$AI9)=0,IF(AS9="",0,AS9),IF(AS9="",AR9,AS9)) | AU9: =IFERROR(VLOOKUP($B9,'بيانات الموظفين'!$B$7:$K$65,5,FALSE),0) | AV9: =IF(AU9=0,0,AU9/الإعدادات!$C$7) | AW9: =IF(AT9>=(COUNT($E$5:$AI$5)-الإعدادات!$C$6),AU9+AV9*(AT9-(COUNT($E$5:$AI$5)-الإعدادات!$C$6)),AV9*AT9) | AX9: =AQ9*IFERROR(VLOOKUP($B9,'بيانات الموظفين'!$B$7:$K$65,7,FALSE),الإعدادات!$C$8) | AY9: =IF(COUNTA($E9:$AI9)=0,0,IFERROR(VLOOKUP($B9,'بيانات الموظفين'!$B$7:$K$65,6,FALSE),0)) | BA9: =AZ9*AV9 | BC9: =AV9*الإعدادات!$C$9*SUMPRODUCT(SUMIF(الإعدادات!$A$14:$A$19,$E9:$AI9,الإعدادات!$C$14:$C$19)*($E$7:$AI$7=1)) | BD9: =AW9+AX9+AY9+BC9-BA9-BB9
A10: 3 | B10: 3 | C10: طه سامي طه تله | D10: SO | E10: P | F10: P | G10: P | H10: P | I10: P | J10: P | K10: P | L10: P | M10: P | N10: P | O10: P | P10: P | Q10: P | R10: P | S10: P | T10: P | U10: P | V10: P | W10: P | X10: P | Y10: P | AJ10: =COUNTIF($E10:$AI10,"P") | AK10: =COUNTIF($E10:$AI10,"غ") | AL10: =COUNTIF($E10:$AI10,"إ") | AM10: =COUNTIF($E10:$AI10,"م") | AN10: =COUNTIF($E10:$AI10,"خ") | AO10: =COUNTIF($E10:$AI10,"د") | AP10: =IF(COUNTA($E10:$AI10)=0,0,SUMPRODUCT(($E$5:$AI$5<>"")*($E10:$AI10=""))) | AQ10: =SUMPRODUCT(SUMIF(الإعدادات!$A$14:$A$19,$E10:$AI10,الإعدادات!$C$14:$C$19)) | AR10: =AQ10+AP10 | AT10: =IF(COUNTA($E10:$AI10)=0,IF(AS10="",0,AS10),IF(AS10="",AR10,AS10)) | AU10: =IFERROR(VLOOKUP($B10,'بيانات الموظفين'!$B$7:$K$65,5,FALSE),0) | AV10: =IF(AU10=0,0,AU10/الإعدادات!$C$7) | AW10: =IF(AT10>=(COUNT($E$5:$AI$5)-الإعدادات!$C$6),AU10+AV10*(AT10-(COUNT($E$5:$AI$5)-الإعدادات!$C$6)),AV10*AT10) | AX10: =AQ10*IFERROR(VLOOKUP($B10,'بيانات الموظفين'!$B$7:$K$65,7,FALSE),الإعدادات!$C$8) | AY10: =IF(COUNTA($E10:$AI10)=0,0,IFERROR(VLOOKUP($B10,'بيانات الموظفين'!$B$7:$K$65,6,FALSE),0)) | BA10: =AZ10*AV10 | BC10: =AV10*الإعدادات!$C$9*SUMPRODUCT(SUMIF(الإعدادات!$A$14:$A$19,$E10:$AI10,الإعدادات!$C$14:$C$19)*($E$7:$AI$7=1)) | BD10: =AW10+AX10+AY10+BC10-BA10-BB10
A11: 4 | B11: 4 | C11: مصطفي ربيع محمد حسن | D11: SO | E11: P | F11: P | G11: P | H11: P | I11: P | J11: غ | K11: P | L11: P | M11: P | N11: P | O11: P | P11: P | Q11: P | R11: P | S11: P | T11: P | U11: P | V11: P | W11: P | X11: P | Y11: P | Z11: P | AA11: P | AB11: P | AC11: P | AD11: P | AE11: P | AF11: P | AG11: P | AH11: P | AI11: P | AJ11: =COUNTIF($E11:$AI11,"P") | AK11: =COUNTIF($E11:$AI11,"غ") | AL11: =COUNTIF($E11:$AI11,"إ") | AM11: =COUNTIF($E11:$AI11,"م") | AN11: =COUNTIF($E11:$AI11,"خ") | AO11: =COUNTIF($E11:$AI11,"د") | AP11: =IF(COUNTA($E11:$AI11)=0,0,SUMPRODUCT(($E$5:$AI$5<>"")*($E11:$AI11=""))) | AQ11: =SUMPRODUCT(SUMIF(الإعدادات!$A$14:$A$19,$E11:$AI11,الإعدادات!$C$14:$C$19)) | AR11: =AQ11+AP11 | AT11: =IF(COUNTA($E11:$AI11)=0,IF(AS11="",0,AS11),IF(AS11="",AR11,AS11)) | AU11: =IFERROR(VLOOKUP($B11,'بيانات الموظفين'!$B$7:$K$65,5,FALSE),0) | AV11: =IF(AU11=0,0,AU11/الإعدادات!$C$7) | AW11: =IF(AT11>=(COUNT($E$5:$AI$5)-الإعدادات!$C$6),AU11+AV11*(AT11-(COUNT($E$5:$AI$5)-الإعدادات!$C$6)),AV11*AT11) | AX11: =AQ11*IFERROR(VLOOKUP($B11,'بيانات الموظفين'!$B$7:$K$65,7,FALSE),الإعدادات!$C$8) | AY11: =IF(COUNTA($E11:$AI11)=0,0,IFERROR(VLOOKUP($B11,'بيانات الموظفين'!$B$7:$K$65,6,FALSE),0)) | AZ11: 0.5 | BA11: =AZ11*AV11 | BC11: =AV11*الإعدادات!$C$9*SUMPRODUCT(SUMIF(الإعدادات!$A$14:$A$19,$E11:$AI11,الإعدادات!$C$14:$C$19)*($E$7:$AI$7=1)) | BD11: =AW11+AX11+AY11+BC11-BA11-BB11
A12: 5 | B12: 5 | C12: محمد محمود خليل غنيم | D12: SO | E12: P | F12: P | G12: P | H12: P | S12: P | T12: P | U12: P | V12: P | W12: P | X12: P | Y12: P | Z12: P | AA12: P | AB12: P | AC12: P | AD12: P | AE12: P | AF12: P | AG12: P | AH12: P | AI12: P | AJ12: =COUNTIF($E12:$AI12,"P") | AK12: =COUNTIF($E12:$AI12,"غ") | AL12: =COUNTIF($E12:$AI12,"إ") | AM12: =COUNTIF($E12:$AI12,"م") | AN12: =COUNTIF($E12:$AI12,"خ") | AO12: =COUNTIF($E12:$AI12,"د") | AP12: =IF(COUNTA($E12:$AI12)=0,0,SUMPRODUCT(($E$5:$AI$5<>"")*($E12:$AI12=""))) | AQ12: =SUMPRODUCT(SUMIF(الإعدادات!$A$14:$A$19,$E12:$AI12,الإعدادات!$C$14:$C$19)) | AR12: =AQ12+AP12 | AT12: =IF(COUNTA($E12:$AI12)=0,IF(AS12="",0,AS12),IF(AS12="",AR12,AS12)) | AU12: =IFERROR(VLOOKUP($B12,'بيانات الموظفين'!$B$7:$K$65,5,FALSE),0) | AV12: =IF(AU12=0,0,AU12/الإعدادات!$C$7) | AW12: =IF(AT12>=(COUNT($E$5:$AI$5)-الإعدادات!$C$6),AU12+AV12*(AT12-(COUNT($E$5:$AI$5)-الإعدادات!$C$6)),AV12*AT12) | AX12: =AQ12*IFERROR(VLOOKUP($B12,'بيانات الموظفين'!$B$7:$K$65,7,FALSE),الإعدادات!$C$8) | AY12: =IF(COUNTA($E12:$AI12)=0,0,IFERROR(VLOOKUP($B12,'بيانات الموظفين'!$B$7:$K$65,6,FALSE),0)) | BA12: =AZ12*AV12 | BC12: =AV12*الإعدادات!$C$9*SUMPRODUCT(SUMIF(الإعدادات!$A$14:$A$19,$E12:$AI12,الإعدادات!$C$14:$C$19)*($E$7:$AI$7=1)) | BD12: =AW12+AX12+AY12+BC12-BA12-BB12
A13: 6 | B13: 6 | C13: ربيع محمد أحمد محمد | D13: SO | E13: P | F13: P | G13: P | H13: P | I13: P | J13: غ | K13: P | L13: P | M13: P | N13: P | O13: P | P13: P | Q13: P | R13: P | S13: P | T13: P | U13: P | V13: P | W13: P | X13: P | Y13: P | Z13: P | AA13: P | AB13: P | AC13: P | AD13: P | AE13: P | AF13: P | AG13: P | AH13: P | AI13: P | AJ13: =COUNTIF($E13:$AI13,"P") | AK13: =COUNTIF($E13:$AI13,"غ") | AL13: =COUNTIF($E13:$AI13,"إ") | AM13: =COUNTIF($E13:$AI13,"م") | AN13: =COUNTIF($E13:$AI13,"خ") | AO13: =COUNTIF($E13:$AI13,"د") | AP13: =IF(COUNTA($E13:$AI13)=0,0,SUMPRODUCT(($E$5:$AI$5<>"")*($E13:$AI13=""))) | AQ13: =SUMPRODUCT(SUMIF(الإعدادات!$A$14:$A$19,$E13:$AI13,الإعدادات!$C$14:$C$19)) | AR13: =AQ13+AP13 | AT13: =IF(COUNTA($E13:$AI13)=0,IF(AS13="",0,AS13),IF(AS13="",AR13,AS13)) | AU13: =IFERROR(VLOOKUP($B13,'بيانات الموظفين'!$B$7:$K$65,5,FALSE),0) | AV13: =IF(AU13=0,0,AU13/الإعدادات!$C$7) | AW13: =IF(AT13>=(COUNT($E$5:$AI$5)-الإعدادات!$C$6),AU13+AV13*(AT13-(COUNT($E$5:$AI$5)-الإعدادات!$C$6)),AV13*AT13) | AX13: =AQ13*IFERROR(VLOOKUP($B13,'بيانات الموظفين'!$B$7:$K$65,7,FALSE),الإعدادات!$C$8) | AY13: =IF(COUNTA($E13:$AI13)=0,0,IFERROR(VLOOKUP($B13,'بيانات الموظفين'!$B$7:$K$65,6,FALSE),0)) | AZ13: 0.5 | BA13: =AZ13*AV13 | BC13: =AV13*الإعدادات!$C$9*SUMPRODUCT(SUMIF(الإعدادات!$A$14:$A$19,$E13:$AI13,الإعدادات!$C$14:$C$19)*($E$7:$AI$7=1)) | BD13: =AW13+AX13+AY13+BC13-BA13-BB13
A14: 7 | B14: 7 | C14: حماده محمد محمد عبد الباقي | D14: SO | E14: P | F14: P | G14: P | H14: P | I14: P | J14: P | K14: P | L14: P | M14: P | N14: P | O14: P | P14: P | Q14: P | R14: P | S14: P | T14: P | U14: P | V14: P | W14: P | X14: P | Y14: P | Z14: P | AA14: P | AB14: P | AC14: P | AD14: P | AE14: P | AF14: P | AG14: P | AH14: P | AI14: P | AJ14: =COUNTIF($E14:$AI14,"P") | AK14: =COUNTIF($E14:$AI14,"غ") | AL14: =COUNTIF($E14:$AI14,"إ") | AM14: =COUNTIF($E14:$AI14,"م") | AN14: =COUNTIF($E14:$AI14,"خ") | AO14: =COUNTIF($E14:$AI14,"د") | AP14: =IF(COUNTA($E14:$AI14)=0,0,SUMPRODUCT(($E$5:$AI$5<>"")*($E14:$AI14=""))) | AQ14: =SUMPRODUCT(SUMIF(الإعدادات!$A$14:$A$19,$E14:$AI14,الإعدادات!$C$14:$C$19)) | AR14: =AQ14+AP14 | AT14: =IF(COUNTA($E14:$AI14)=0,IF(AS14="",0,AS14),IF(AS14="",AR14,AS14)) | AU14: =IFERROR(VLOOKUP($B14,'بيانات الموظفين'!$B$7:$K$65,5,FALSE),0) | AV14: =IF(AU14=0,0,AU14/الإعدادات!$C$7) | AW14: =IF(AT14>=(COUNT($E$5:$AI$5)-الإعدادات!$C$6),AU14+AV14*(AT14-(COUNT($E$5:$AI$5)-الإعدادات!$C$6)),AV14*AT14) | AX14: =AQ14*IFERROR(VLOOKUP($B14,'بيانات الموظفين'!$B$7:$K$65,7,FALSE),الإعدادات!$C$8) | AY14: =IF(COUNTA($E14:$AI14)=0,0,IFERROR(VLOOKUP($B14,'بيانات الموظفين'!$B$7:$K$65,6,FALSE),0)) | AZ14: 2 | BA14: =AZ14*AV14 | BC14: =AV14*الإعدادات!$C$9*SUMPRODUCT(SUMIF(الإعدادات!$A$14:$A$19,$E14:$AI14,الإعدادات!$C$14:$C$19)*($E$7:$AI$7=1)) | BD14: =AW14+AX14+AY14+BC14-BA14-BB14
A15: 8 | B15: 8 | C15: أيمن أمين أمين حنفي | D15: SO | E15: P | F15: P | G15: P | H15: P | I15: P | J15: P | K15: P | L15: P | M15: P | N15: P | O15: P | P15: P | Q15: P | R15: P | S15: P | T15: P | U15: P | V15: P | W15: P | X15: P | Y15: P | Z15: P | AA15: P | AB15: P | AC15: P | AD15: P | AE15: P | AF15: P | AG15: P | AH15: P | AI15: P | AJ15: =COUNTIF($E15:$AI15,"P") | AK15: =COUNTIF($E15:$AI15,"غ") | AL15: =COUNTIF($E15:$AI15,"إ") | AM15: =COUNTIF($E15:$AI15,"م") | AN15: =COUNTIF($E15:$AI15,"خ") | AO15: =COUNTIF($E15:$AI15,"د") | AP15: =IF(COUNTA($E15:$AI15)=0,0,SUMPRODUCT(($E$5:$AI$5<>"")*($E15:$AI15=""))) | AQ15: =SUMPRODUCT(SUMIF(الإعدادات!$A$14:$A$19,$E15:$AI15,الإعدادات!$C$14:$C$19)) | AR15: =AQ15+AP15 | AT15: =IF(COUNTA($E15:$AI15)=0,IF(AS15="",0,AS15),IF(AS15="",AR15,AS15)) | AU15: =IFERROR(VLOOKUP($B15,'بيانات الموظفين'!$B$7:$K$65,5,FALSE),0) | AV15: =IF(AU15=0,0,AU15/الإعدادات!$C$7) | AW15: =IF(AT15>=(COUNT($E$5:$AI$5)-الإعدادات!$C$6),AU15+AV15*(AT15-(COUNT($E$5:$AI$5)-الإعدادات!$C$6)),AV15*AT15) | AX15: =AQ15*IFERROR(VLOOKUP($B15,'بيانات الموظفين'!$B$7:$K$65,7,FALSE),الإعدادات!$C$8) | AY15: =IF(COUNTA($E15:$AI15)=0,0,IFERROR(VLOOKUP($B15,'بيانات الموظفين'!$B$7:$K$65,6,FALSE),0)) | BA15: =AZ15*AV15 | BC15: =AV15*الإعدادات!$C$9*SUMPRODUCT(SUMIF(الإعدادات!$A$14:$A$19,$E15:$AI15,الإعدادات!$C$14:$C$19)*($E$7:$AI$7=1)) | BD15: =AW15+AX15+AY15+BC15-BA15-BB15
A16: 9 | B16: 9 | C16: احمد فتحي محمد زيدان | D16: SO | E16: P | F16: د | G16: P | H16: P | I16: P | J16: P | K16: P | L16: P | M16: P | N16: P | O16: P | P16: P | Q16: P | R16: P | S16: P | T16: P | U16: P | V16: P | W16: P | AC16: P | AD16: P | AE16: P | AF16: P | AG16: P | AH16: د | AI16: P | AJ16: =COUNTIF($E16:$AI16,"P") | AK16: =COUNTIF($E16:$AI16,"غ") | AL16: =COUNTIF($E16:$AI16,"إ") | AM16: =COUNTIF($E16:$AI16,"م") | AN16: =COUNTIF($E16:$AI16,"خ") | AO16: =COUNTIF($E16:$AI16,"د") | AP16: =IF(COUNTA($E16:$AI16)=0,0,SUMPRODUCT(($E$5:$AI$5<>"")*($E16:$AI16=""))) | AQ16: =SUMPRODUCT(SUMIF(الإعدادات!$A$14:$A$19,$E16:$AI16,الإعدادات!$C$14:$C$19)) | AR16: =AQ16+AP16 | AT16: =IF(COUNTA($E16:$AI16)=0,IF(AS16="",0,AS16),IF(AS16="",AR16,AS16)) | AU16: =IFERROR(VLOOKUP($B16,'بيانات الموظفين'!$B$7:$K$65,5,FALSE),0) | AV16: =IF(AU16=0,0,AU16/الإعدادات!$C$7) | AW16: =IF(AT16>=(COUNT($E$5:$AI$5)-الإعدادات!$C$6),AU16+AV16*(AT16-(COUNT($E$5:$AI$5)-الإعدادات!$C$6)),AV16*AT16) | AX16: =AQ16*IFERROR(VLOOKUP($B16,'بيانات الموظفين'!$B$7:$K$65,7,FALSE),الإعدادات!$C$8) | AY16: =IF(COUNTA($E16:$AI16)=0,0,IFERROR(VLOOKUP($B16,'بيانات الموظفين'!$B$7:$K$65,6,FALSE),0)) | BA16: =AZ16*AV16 | BC16: =AV16*الإعدادات!$C$9*SUMPRODUCT(SUMIF(الإعدادات!$A$14:$A$19,$E16:$AI16,الإعدادات!$C$14:$C$19)*($E$7:$AI$7=1)) | BD16: =AW16+AX16+AY16+BC16-BA16-BB16
A17: 10 | B17: 10 | C17: البدري عبد الكريم محمد حسانين | D17: SO | E17: P | F17: P | G17: P | H17: P | I17: P | J17: غ | K17: P | L17: P | M17: P | N17: P | O17: P | P17: P | Q17: P | R17: P | S17: P | T17: P | U17: P | V17: P | W17: P | X17: P | Y17: P | Z17: P | AA17: P | AB17: P | AC17: P | AD17: P | AE17: P | AF17: P | AG17: P | AH17: P | AI17: P | AJ17: =COUNTIF($E17:$AI17,"P") | AK17: =COUNTIF($E17:$AI17,"غ") | AL17: =COUNTIF($E17:$AI17,"إ") | AM17: =COUNTIF($E17:$AI17,"م") | AN17: =COUNTIF($E17:$AI17,"خ") | AO17: =COUNTIF($E17:$AI17,"د") | AP17: =IF(COUNTA($E17:$AI17)=0,0,SUMPRODUCT(($E$5:$AI$5<>"")*($E17:$AI17=""))) | AQ17: =SUMPRODUCT(SUMIF(الإعدادات!$A$14:$A$19,$E17:$AI17,الإعدادات!$C$14:$C$19)) | AR17: =AQ17+AP17 | AT17: =IF(COUNTA($E17:$AI17)=0,IF(AS17="",0,AS17),IF(AS17="",AR17,AS17)) | AU17: =IFERROR(VLOOKUP($B17,'بيانات الموظفين'!$B$7:$K$65,5,FALSE),0) | AV17: =IF(AU17=0,0,AU17/الإعدادات!$C$7) | AW17: =IF(AT17>=(COUNT($E$5:$AI$5)-الإعدادات!$C$6),AU17+AV17*(AT17-(COUNT($E$5:$AI$5)-الإعدادات!$C$6)),AV17*AT17) | AX17: =AQ17*IFERROR(VLOOKUP($B17,'بيانات الموظفين'!$B$7:$K$65,7,FALSE),الإعدادات!$C$8) | AY17: =IF(COUNTA($E17:$AI17)=0,0,IFERROR(VLOOKUP($B17,'بيانات الموظفين'!$B$7:$K$65,6,FALSE),0)) | AZ17: 0.5 | BA17: =AZ17*AV17 | BC17: =AV17*الإعدادات!$C$9*SUMPRODUCT(SUMIF(الإعدادات!$A$14:$A$19,$E17:$AI17,الإعدادات!$C$14:$C$19)*($E$7:$AI$7=1)) | BD17: =AW17+AX17+AY17+BC17-BA17-BB17
A18: 11 | B18: 11 | C18: أحمد عبد الرحيم خضري حسين | D18: SO | E18: P | F18: P | G18: P | H18: P | I18: P | J18: P | K18: P | L18: P | M18: P | N18: P | O18: P | P18: P | Q18: P | R18: P | S18: P | T18: P | U18: P | V18: P | W18: P | X18: P | Y18: P | Z18: P | AA18: P | AB18: P | AC18: P | AD18: P | AE18: P | AF18: P | AG18: P | AH18: P | AI18: P | AJ18: =COUNTIF($E18:$AI18,"P") | AK18: =COUNTIF($E18:$AI18,"غ") | AL18: =COUNTIF($E18:$AI18,"إ") | AM18: =COUNTIF($E18:$AI18,"م") | AN18: =COUNTIF($E18:$AI18,"خ") | AO18: =COUNTIF($E18:$AI18,"د") | AP18: =IF(COUNTA($E18:$AI18)=0,0,SUMPRODUCT(($E$5:$AI$5<>"")*($E18:$AI18=""))) | AQ18: =SUMPRODUCT(SUMIF(الإعدادات!$A$14:$A$19,$E18:$AI18,الإعدادات!$C$14:$C$19)) | AR18: =AQ18+AP18 | AT18: =IF(COUNTA($E18:$AI18)=0,IF(AS18="",0,AS18),IF(AS18="",AR18,AS18)) | AU18: =IFERROR(VLOOKUP($B18,'بيانات الموظفين'!$B$7:$K$65,5,FALSE),0) | AV18: =IF(AU18=0,0,AU18/الإعدادات!$C$7) | AW18: =IF(AT18>=(COUNT($E$5:$AI$5)-الإعدادات!$C$6),AU18+AV18*(AT18-(COUNT($E$5:$AI$5)-الإعدادات!$C$6)),AV18*AT18) | AX18: =AQ18*IFERROR(VLOOKUP($B18,'بيانات الموظفين'!$B$7:$K$65,7,FALSE),الإعدادات!$C$8) | AY18: =IF(COUNTA($E18:$AI18)=0,0,IFERROR(VLOOKUP($B18,'بيانات الموظفين'!$B$7:$K$65,6,FALSE),0)) | BA18: =AZ18*AV18 | BC18: =AV18*الإعدادات!$C$9*SUMPRODUCT(SUMIF(الإعدادات!$A$14:$A$19,$E18:$AI18,الإعدادات!$C$14:$C$19)*($E$7:$AI$7=1)) | BD18: =AW18+AX18+AY18+BC18-BA18-BB18
A19: 12 | B19: 12 | C19: محمد سلطان النطري محمد | D19: SO | E19: P | F19: P | G19: P | H19: P | I19: P | J19: P | K19: P | L19: P | M19: P | N19: P | O19: P | P19: P | Q19: P | R19: P | S19: P | T19: P | U19: P | V19: P | W19: P | X19: P | Y19: P | Z19: P | AA19: P | AB19: P | AC19: P | AD19: P | AE19: P | AF19: P | AG19: P | AH19: P | AI19: P | AJ19: =COUNTIF($E19:$AI19,"P") | AK19: =COUNTIF($E19:$AI19,"غ") | AL19: =COUNTIF($E19:$AI19,"إ") | AM19: =COUNTIF($E19:$AI19,"م") | AN19: =COUNTIF($E19:$AI19,"خ") | AO19: =COUNTIF($E19:$AI19,"د") | AP19: =IF(COUNTA($E19:$AI19)=0,0,SUMPRODUCT(($E$5:$AI$5<>"")*($E19:$AI19=""))) | AQ19: =SUMPRODUCT(SUMIF(الإعدادات!$A$14:$A$19,$E19:$AI19,الإعدادات!$C$14:$C$19)) | AR19: =AQ19+AP19 | AT19: =IF(COUNTA($E19:$AI19)=0,IF(AS19="",0,AS19),IF(AS19="",AR19,AS19)) | AU19: =IFERROR(VLOOKUP($B19,'بيانات الموظفين'!$B$7:$K$65,5,FALSE),0) | AV19: =IF(AU19=0,0,AU19/الإعدادات!$C$7) | AW19: =IF(AT19>=(COUNT($E$5:$AI$5)-الإعدادات!$C$6),AU19+AV19*(AT19-(COUNT($E$5:$AI$5)-الإعدادات!$C$6)),AV19*AT19) | AX19: =AQ19*IFERROR(VLOOKUP($B19,'بيانات الموظفين'!$B$7:$K$65,7,FALSE),الإعدادات!$C$8) | AY19: =IF(COUNTA($E19:$AI19)=0,0,IFERROR(VLOOKUP($B19,'بيانات الموظفين'!$B$7:$K$65,6,FALSE),0)) | BA19: =AZ19*AV19 | BC19: =AV19*الإعدادات!$C$9*SUMPRODUCT(SUMIF(الإعدادات!$A$14:$A$19,$E19:$AI19,الإعدادات!$C$14:$C$19)*($E$7:$AI$7=1)) | BD19: =AW19+AX19+AY19+BC19-BA19-BB19
A20: 13 | B20: 13 | C20: مصطفي محمد مصطفي نوبي | D20: SO | E20: P | F20: P | G20: P | H20: P | I20: P | J20: P | K20: P | L20: P | M20: P | N20: P | O20: P | P20: P | Q20: P | R20: P | S20: P | T20: P | U20: P | V20: P | W20: P | X20: P | Y20: P | Z20: P | AA20: P | AB20: P | AC20: P | AD20: P | AE20: P | AF20: P | AG20: P | AH20: P | AI20: P | AJ20: =COUNTIF($E20:$AI20,"P") | AK20: =COUNTIF($E20:$AI20,"غ") | AL20: =COUNTIF($E20:$AI20,"إ") | AM20: =COUNTIF($E20:$AI20,"م") | AN20: =COUNTIF($E20:$AI20,"خ") | AO20: =COUNTIF($E20:$AI20,"د") | AP20: =IF(COUNTA($E20:$AI20)=0,0,SUMPRODUCT(($E$5:$AI$5<>"")*($E20:$AI20=""))) | AQ20: =SUMPRODUCT(SUMIF(الإعدادات!$A$14:$A$19,$E20:$AI20,الإعدادات!$C$14:$C$19)) | AR20: =AQ20+AP20 | AT20: =IF(COUNTA($E20:$AI20)=0,IF(AS20="",0,AS20),IF(AS20="",AR20,AS20)) | AU20: =IFERROR(VLOOKUP($B20,'بيانات الموظفين'!$B$7:$K$65,5,FALSE),0) | AV20: =IF(AU20=0,0,AU20/الإعدادات!$C$7) | AW20: =IF(AT20>=(COUNT($E$5:$AI$5)-الإعدادات!$C$6),AU20+AV20*(AT20-(COUNT($E$5:$AI$5)-الإعدادات!$C$6)),AV20*AT20) | AX20: =AQ20*IFERROR(VLOOKUP($B20,'بيانات الموظفين'!$B$7:$K$65,7,FALSE),الإعدادات!$C$8) | AY20: =IF(COUNTA($E20:$AI20)=0,0,IFERROR(VLOOKUP($B20,'بيانات الموظفين'!$B$7:$K$65,6,FALSE),0)) | BA20: =AZ20*AV20 | BC20: =AV20*الإعدادات!$C$9*SUMPRODUCT(SUMIF(الإعدادات!$A$14:$A$19,$E20:$AI20,الإعدادات!$C$14:$C$19)*($E$7:$AI$7=1)) | BD20: =AW20+AX20+AY20+BC20-BA20-BB20
A21: 14 | B21: 14 | C21: محمد بهي الدين برعي مصطفي | D21: SO | E21: P | F21: P | G21: P | H21: P | I21: P | J21: غ | K21: P | L21: P | M21: P | N21: P | O21: P | P21: P | Q21: P | R21: P | S21: P | T21: P | U21: P | V21: P | W21: P | X21: P | Y21: P | Z21: P | AA21: P | AB21: P | AC21: P | AD21: P | AE21: P | AF21: P | AG21: P | AH21: P | AI21: P | AJ21: =COUNTIF($E21:$AI21,"P") | AK21: =COUNTIF($E21:$AI21,"غ") | AL21: =COUNTIF($E21:$AI21,"إ") | AM21: =COUNTIF($E21:$AI21,"م") | AN21: =COUNTIF($E21:$AI21,"خ") | AO21: =COUNTIF($E21:$AI21,"د") | AP21: =IF(COUNTA($E21:$AI21)=0,0,SUMPRODUCT(($E$5:$AI$5<>"")*($E21:$AI21=""))) | AQ21: =SUMPRODUCT(SUMIF(الإعدادات!$A$14:$A$19,$E21:$AI21,الإعدادات!$C$14:$C$19)) | AR21: =AQ21+AP21 | AT21: =IF(COUNTA($E21:$AI21)=0,IF(AS21="",0,AS21),IF(AS21="",AR21,AS21)) | AU21: =IFERROR(VLOOKUP($B21,'بيانات الموظفين'!$B$7:$K$65,5,FALSE),0) | AV21: =IF(AU21=0,0,AU21/الإعدادات!$C$7) | AW21: =IF(AT21>=(COUNT($E$5:$AI$5)-الإعدادات!$C$6),AU21+AV21*(AT21-(COUNT($E$5:$AI$5)-الإعدادات!$C$6)),AV21*AT21) | AX21: =AQ21*IFERROR(VLOOKUP($B21,'بيانات الموظفين'!$B$7:$K$65,7,FALSE),الإعدادات!$C$8) | AY21: =IF(COUNTA($E21:$AI21)=0,0,IFERROR(VLOOKUP($B21,'بيانات الموظفين'!$B$7:$K$65,6,FALSE),0)) | AZ21: 0.5 | BA21: =AZ21*AV21 | BC21: =AV21*الإعدادات!$C$9*SUMPRODUCT(SUMIF(الإعدادات!$A$14:$A$19,$E21:$AI21,الإعدادات!$C$14:$C$19)*($E$7:$AI$7=1)) | BD21: =AW21+AX21+AY21+BC21-BA21-BB21
A22: 15 | B22: 15 | C22: سامح عبد العزيز أحمد صقر | D22: SUP | F22: P | G22: P | H22: P | I22: P | J22: P | K22: P | M22: P | N22: P | O22: P | P22: P | Q22: P | R22: P | T22: P | U22: P | V22: P | W22: P | X22: P | Y22: P | AA22: P | AB22: P | AC22: P | AD22: P | AE22: P | AF22: P | AH22: P | AI22: P | AJ22: =COUNTIF($E22:$AI22,"P") | AK22: =COUNTIF($E22:$AI22,"غ") | AL22: =COUNTIF($E22:$AI22,"إ") | AM22: =COUNTIF($E22:$AI22,"م") | AN22: =COUNTIF($E22:$AI22,"خ") | AO22: =COUNTIF($E22:$AI22,"د") | AP22: =IF(COUNTA($E22:$AI22)=0,0,SUMPRODUCT(($E$5:$AI$5<>"")*($E22:$AI22=""))) | AQ22: =SUMPRODUCT(SUMIF(الإعدادات!$A$14:$A$19,$E22:$AI22,الإعدادات!$C$14:$C$19)) | AR22: =AQ22+AP22 | AS22: 27 | AT22: =IF(COUNTA($E22:$AI22)=0,IF(AS22="",0,AS22),IF(AS22="",AR22,AS22)) | AU22: =IFERROR(VLOOKUP($B22,'بيانات الموظفين'!$B$7:$K$65,5,FALSE),0) | AV22: =IF(AU22=0,0,AU22/الإعدادات!$C$7) | AW22: =IF(AT22>=(COUNT($E$5:$AI$5)-الإعدادات!$C$6),AU22+AV22*(AT22-(COUNT($E$5:$AI$5)-الإعدادات!$C$6)),AV22*AT22) | AX22: =AQ22*IFERROR(VLOOKUP($B22,'بيانات الموظفين'!$B$7:$K$65,7,FALSE),الإعدادات!$C$8) | AY22: =IF(COUNTA($E22:$AI22)=0,0,IFERROR(VLOOKUP($B22,'بيانات الموظفين'!$B$7:$K$65,6,FALSE),0)) | BA22: =AZ22*AV22 | BC22: =AV22*الإعدادات!$C$9*SUMPRODUCT(SUMIF(الإعدادات!$A$14:$A$19,$E22:$AI22,الإعدادات!$C$14:$C$19)*($E$7:$AI$7=1)) | BD22: =AW22+AX22+AY22+BC22-BA22-BB22
A23: 16 | B23: 16 | C23: ماجد محمد علي عويضه | D23: SO | E23: P | F23: P | G23: P | H23: P | I23: P | J23: P | K23: P | L23: P | M23: P | N23: P | O23: P | P23: P | Q23: P | R23: P | S23: P | T23: P | U23: P | V23: P | W23: P | X23: P | Y23: P | Z23: P | AA23: P | AB23: P | AC23: P | AD23: P | AE23: P | AF23: P | AG23: P | AH23: P | AI23: P | AJ23: =COUNTIF($E23:$AI23,"P") | AK23: =COUNTIF($E23:$AI23,"غ") | AL23: =COUNTIF($E23:$AI23,"إ") | AM23: =COUNTIF($E23:$AI23,"م") | AN23: =COUNTIF($E23:$AI23,"خ") | AO23: =COUNTIF($E23:$AI23,"د") | AP23: =IF(COUNTA($E23:$AI23)=0,0,SUMPRODUCT(($E$5:$AI$5<>"")*($E23:$AI23=""))) | AQ23: =SUMPRODUCT(SUMIF(الإعدادات!$A$14:$A$19,$E23:$AI23,الإعدادات!$C$14:$C$19)) | AR23: =AQ23+AP23 | AT23: =IF(COUNTA($E23:$AI23)=0,IF(AS23="",0,AS23),IF(AS23="",AR23,AS23)) | AU23: =IFERROR(VLOOKUP($B23,'بيانات الموظفين'!$B$7:$K$65,5,FALSE),0) | AV23: =IF(AU23=0,0,AU23/الإعدادات!$C$7) | AW23: =IF(AT23>=(COUNT($E$5:$AI$5)-الإعدادات!$C$6),AU23+AV23*(AT23-(COUNT($E$5:$AI$5)-الإعدادات!$C$6)),AV23*AT23) | AX23: =AQ23*IFERROR(VLOOKUP($B23,'بيانات الموظفين'!$B$7:$K$65,7,FALSE),الإعدادات!$C$8) | AY23: =IF(COUNTA($E23:$AI23)=0,0,IFERROR(VLOOKUP($B23,'بيانات الموظفين'!$B$7:$K$65,6,FALSE),0)) | BA23: =AZ23*AV23 | BC23: =AV23*الإعدادات!$C$9*SUMPRODUCT(SUMIF(الإعدادات!$A$14:$A$19,$E23:$AI23,الإعدادات!$C$14:$C$19)*($E$7:$AI$7=1)) | BD23: =AW23+AX23+AY23+BC23-BA23-BB23
A24: 17 | B24: 17 | C24: صلاح عبد الستار محمد علي | D24: SO | E24: P | F24: P | G24: P | H24: P | I24: P | J24: P | K24: P | L24: P | M24: P | N24: P | O24: P | P24: P | Q24: P | R24: P | S24: P | T24: P | U24: P | V24: P | W24: P | X24: P | Y24: P | Z24: P | AA24: P | AB24: P | AC24: P | AD24: P | AE24: P | AF24: P | AG24: P | AH24: P | AI24: P | AJ24: =COUNTIF($E24:$AI24,"P") | AK24: =COUNTIF($E24:$AI24,"غ") | AL24: =COUNTIF($E24:$AI24,"إ") | AM24: =COUNTIF($E24:$AI24,"م") | AN24: =COUNTIF($E24:$AI24,"خ") | AO24: =COUNTIF($E24:$AI24,"د") | AP24: =IF(COUNTA($E24:$AI24)=0,0,SUMPRODUCT(($E$5:$AI$5<>"")*($E24:$AI24=""))) | AQ24: =SUMPRODUCT(SUMIF(الإعدادات!$A$14:$A$19,$E24:$AI24,الإعدادات!$C$14:$C$19)) | AR24: =AQ24+AP24 | AT24: =IF(COUNTA($E24:$AI24)=0,IF(AS24="",0,AS24),IF(AS24="",AR24,AS24)) | AU24: =IFERROR(VLOOKUP($B24,'بيانات الموظفين'!$B$7:$K$65,5,FALSE),0) | AV24: =IF(AU24=0,0,AU24/الإعدادات!$C$7) | AW24: =IF(AT24>=(COUNT($E$5:$AI$5)-الإعدادات!$C$6),AU24+AV24*(AT24-(COUNT($E$5:$AI$5)-الإعدادات!$C$6)),AV24*AT24) | AX24: =AQ24*IFERROR(VLOOKUP($B24,'بيانات الموظفين'!$B$7:$K$65,7,FALSE),الإعدادات!$C$8) | AY24: =IF(COUNTA($E24:$AI24)=0,0,IFERROR(VLOOKUP($B24,'بيانات الموظفين'!$B$7:$K$65,6,FALSE),0)) | BA24: =AZ24*AV24 | BC24: =AV24*الإعدادات!$C$9*SUMPRODUCT(SUMIF(الإعدادات!$A$14:$A$19,$E24:$AI24,الإعدادات!$C$14:$C$19)*($E$7:$AI$7=1)) | BD24: =AW24+AX24+AY24+BC24-BA24-BB24
A25: 18 | B25: 18 | C25: عمر شحات مصطفي رضوان | D25: SO | M25: P | N25: P | O25: P | P25: P | Q25: P | R25: P | S25: P | T25: P | U25: P | V25: P | W25: P | X25: P | Y25: P | Z25: P | AA25: P | AB25: P | AC25: P | AD25: P | AE25: P | AF25: P | AG25: P | AH25: P | AI25: P | AJ25: =COUNTIF($E25:$AI25,"P") | AK25: =COUNTIF($E25:$AI25,"غ") | AL25: =COUNTIF($E25:$AI25,"إ") | AM25: =COUNTIF($E25:$AI25,"م") | AN25: =COUNTIF($E25:$AI25,"خ") | AO25: =COUNTIF($E25:$AI25,"د") | AP25: =IF(COUNTA($E25:$AI25)=0,0,SUMPRODUCT(($E$5:$AI$5<>"")*($E25:$AI25=""))) | AQ25: =SUMPRODUCT(SUMIF(الإعدادات!$A$14:$A$19,$E25:$AI25,الإعدادات!$C$14:$C$19)) | AR25: =AQ25+AP25 | AT25: =IF(COUNTA($E25:$AI25)=0,IF(AS25="",0,AS25),IF(AS25="",AR25,AS25)) | AU25: =IFERROR(VLOOKUP($B25,'بيانات الموظفين'!$B$7:$K$65,5,FALSE),0) | AV25: =IF(AU25=0,0,AU25/الإعدادات!$C$7) | AW25: =IF(AT25>=(COUNT($E$5:$AI$5)-الإعدادات!$C$6),AU25+AV25*(AT25-(COUNT($E$5:$AI$5)-الإعدادات!$C$6)),AV25*AT25) | AX25: =AQ25*IFERROR(VLOOKUP($B25,'بيانات الموظفين'!$B$7:$K$65,7,FALSE),الإعدادات!$C$8) | AY25: =IF(COUNTA($E25:$AI25)=0,0,IFERROR(VLOOKUP($B25,'بيانات الموظفين'!$B$7:$K$65,6,FALSE),0)) | BA25: =AZ25*AV25 | BC25: =AV25*الإعدادات!$C$9*SUMPRODUCT(SUMIF(الإعدادات!$A$14:$A$19,$E25:$AI25,الإعدادات!$C$14:$C$19)*($E$7:$AI$7=1)) | BD25: =AW25+AX25+AY25+BC25-BA25-BB25
A26: 19 | B26: 19 | C26: محمد الصغير مسلم عبد العال | D26: SO | E26: P | F26: P | G26: P | H26: P | I26: P | J26: P | K26: P | L26: P | M26: P | N26: P | O26: P | P26: P | Q26: P | R26: P | S26: P | T26: P | U26: P | V26: P | W26: P | X26: P | Y26: P | Z26: P | AA26: P | AF26: P | AG26: P | AH26: P | AI26: P | AJ26: =COUNTIF($E26:$AI26,"P") | AK26: =COUNTIF($E26:$AI26,"غ") | AL26: =COUNTIF($E26:$AI26,"إ") | AM26: =COUNTIF($E26:$AI26,"م") | AN26: =COUNTIF($E26:$AI26,"خ") | AO26: =COUNTIF($E26:$AI26,"د") | AP26: =IF(COUNTA($E26:$AI26)=0,0,SUMPRODUCT(($E$5:$AI$5<>"")*($E26:$AI26=""))) | AQ26: =SUMPRODUCT(SUMIF(الإعدادات!$A$14:$A$19,$E26:$AI26,الإعدادات!$C$14:$C$19)) | AR26: =AQ26+AP26 | AT26: =IF(COUNTA($E26:$AI26)=0,IF(AS26="",0,AS26),IF(AS26="",AR26,AS26)) | AU26: =IFERROR(VLOOKUP($B26,'بيانات الموظفين'!$B$7:$K$65,5,FALSE),0) | AV26: =IF(AU26=0,0,AU26/الإعدادات!$C$7) | AW26: =IF(AT26>=(COUNT($E$5:$AI$5)-الإعدادات!$C$6),AU26+AV26*(AT26-(COUNT($E$5:$AI$5)-الإعدادات!$C$6)),AV26*AT26) | AX26: =AQ26*IFERROR(VLOOKUP($B26,'بيانات الموظفين'!$B$7:$K$65,7,FALSE),الإعدادات!$C$8) | AY26: =IF(COUNTA($E26:$AI26)=0,0,IFERROR(VLOOKUP($B26,'بيانات الموظفين'!$B$7:$K$65,6,FALSE),0)) | BA26: =AZ26*AV26 | BC26: =AV26*الإعدادات!$C$9*SUMPRODUCT(SUMIF(الإعدادات!$A$14:$A$19,$E26:$AI26,الإعدادات!$C$14:$C$19)*($E$7:$AI$7=1)) | BD26: =AW26+AX26+AY26+BC26-BA26-BB26
A27: 20 | B27: 20 | C27: غريب محمد علي أحمد | D27: SO | E27: P | F27: P | G27: P | H27: P | I27: P | J27: P | K27: P | L27: P | M27: P | N27: P | O27: P | Q27: P | R27: P | S27: P | T27: P | U27: P | V27: P | W27: P | X27: P | Y27: P | AA27: P | AB27: P | AC27: P | AD27: P | AE27: P | AF27: P | AG27: P | AH27: P | AI27: P | AJ27: =COUNTIF($E27:$AI27,"P") | AK27: =COUNTIF($E27:$AI27,"غ") | AL27: =COUNTIF($E27:$AI27,"إ") | AM27: =COUNTIF($E27:$AI27,"م") | AN27: =COUNTIF($E27:$AI27,"خ") | AO27: =COUNTIF($E27:$AI27,"د") | AP27: =IF(COUNTA($E27:$AI27)=0,0,SUMPRODUCT(($E$5:$AI$5<>"")*($E27:$AI27=""))) | AQ27: =SUMPRODUCT(SUMIF(الإعدادات!$A$14:$A$19,$E27:$AI27,الإعدادات!$C$14:$C$19)) | AR27: =AQ27+AP27 | AT27: =IF(COUNTA($E27:$AI27)=0,IF(AS27="",0,AS27),IF(AS27="",AR27,AS27)) | AU27: =IFERROR(VLOOKUP($B27,'بيانات الموظفين'!$B$7:$K$65,5,FALSE),0) | AV27: =IF(AU27=0,0,AU27/الإعدادات!$C$7) | AW27: =IF(AT27>=(COUNT($E$5:$AI$5)-الإعدادات!$C$6),AU27+AV27*(AT27-(COUNT($E$5:$AI$5)-الإعدادات!$C$6)),AV27*AT27) | AX27: =AQ27*IFERROR(VLOOKUP($B27,'بيانات الموظفين'!$B$7:$K$65,7,FALSE),الإعدادات!$C$8) | AY27: =IF(COUNTA($E27:$AI27)=0,0,IFERROR(VLOOKUP($B27,'بيانات الموظفين'!$B$7:$K$65,6,FALSE),0)) | AZ27: 1 | BA27: =AZ27*AV27 | BC27: =AV27*الإعدادات!$C$9*SUMPRODUCT(SUMIF(الإعدادات!$A$14:$A$19,$E27:$AI27,الإعدادات!$C$14:$C$19)*($E$7:$AI$7=1)) | BD27: =AW27+AX27+AY27+BC27-BA27-BB27
A28: 21 | B28: 21 | C28: حسين سعيد حسين محمد | D28: SO | E28: P | F28: P | G28: P | H28: P | I28: P | J28: P | K28: P | L28: P | M28: P | N28: P | O28: P | P28: P | Q28: P | R28: P | S28: P | T28: P | U28: P | V28: P | W28: P | X28: P | Y28: P | Z28: P | AA28: P | AB28: P | AC28: P | AD28: P | AE28: P | AF28: P | AG28: P | AJ28: =COUNTIF($E28:$AI28,"P") | AK28: =COUNTIF($E28:$AI28,"غ") | AL28: =COUNTIF($E28:$AI28,"إ") | AM28: =COUNTIF($E28:$AI28,"م") | AN28: =COUNTIF($E28:$AI28,"خ") | AO28: =COUNTIF($E28:$AI28,"د") | AP28: =IF(COUNTA($E28:$AI28)=0,0,SUMPRODUCT(($E$5:$AI$5<>"")*($E28:$AI28=""))) | AQ28: =SUMPRODUCT(SUMIF(الإعدادات!$A$14:$A$19,$E28:$AI28,الإعدادات!$C$14:$C$19)) | AR28: =AQ28+AP28 | AT28: =IF(COUNTA($E28:$AI28)=0,IF(AS28="",0,AS28),IF(AS28="",AR28,AS28)) | AU28: =IFERROR(VLOOKUP($B28,'بيانات الموظفين'!$B$7:$K$65,5,FALSE),0) | AV28: =IF(AU28=0,0,AU28/الإعدادات!$C$7) | AW28: =IF(AT28>=(COUNT($E$5:$AI$5)-الإعدادات!$C$6),AU28+AV28*(AT28-(COUNT($E$5:$AI$5)-الإعدادات!$C$6)),AV28*AT28) | AX28: =AQ28*IFERROR(VLOOKUP($B28,'بيانات الموظفين'!$B$7:$K$65,7,FALSE),الإعدادات!$C$8) | AY28: =IF(COUNTA($E28:$AI28)=0,0,IFERROR(VLOOKUP($B28,'بيانات الموظفين'!$B$7:$K$65,6,FALSE),0)) | BA28: =AZ28*AV28 | BC28: =AV28*الإعدادات!$C$9*SUMPRODUCT(SUMIF(الإعدادات!$A$14:$A$19,$E28:$AI28,الإعدادات!$C$14:$C$19)*($E$7:$AI$7=1)) | BD28: =AW28+AX28+AY28+BC28-BA28-BB28
A29: 22 | B29: 22 | C29: جمال السيد محمد سليم | D29: SO | E29: P | F29: P | G29: P | H29: P | I29: P | J29: P | K29: P | L29: P | M29: P | N29: P | O29: P | P29: P | Q29: P | R29: P | W29: P | X29: P | Y29: P | Z29: P | AA29: P | AB29: P | AC29: P | AD29: P | AE29: P | AF29: P | AG29: P | AH29: P | AI29: P | AJ29: =COUNTIF($E29:$AI29,"P") | AK29: =COUNTIF($E29:$AI29,"غ") | AL29: =COUNTIF($E29:$AI29,"إ") | AM29: =COUNTIF($E29:$AI29,"م") | AN29: =COUNTIF($E29:$AI29,"خ") | AO29: =COUNTIF($E29:$AI29,"د") | AP29: =IF(COUNTA($E29:$AI29)=0,0,SUMPRODUCT(($E$5:$AI$5<>"")*($E29:$AI29=""))) | AQ29: =SUMPRODUCT(SUMIF(الإعدادات!$A$14:$A$19,$E29:$AI29,الإعدادات!$C$14:$C$19)) | AR29: =AQ29+AP29 | AT29: =IF(COUNTA($E29:$AI29)=0,IF(AS29="",0,AS29),IF(AS29="",AR29,AS29)) | AU29: =IFERROR(VLOOKUP($B29,'بيانات الموظفين'!$B$7:$K$65,5,FALSE),0) | AV29: =IF(AU29=0,0,AU29/الإعدادات!$C$7) | AW29: =IF(AT29>=(COUNT($E$5:$AI$5)-الإعدادات!$C$6),AU29+AV29*(AT29-(COUNT($E$5:$AI$5)-الإعدادات!$C$6)),AV29*AT29) | AX29: =AQ29*IFERROR(VLOOKUP($B29,'بيانات الموظفين'!$B$7:$K$65,7,FALSE),الإعدادات!$C$8) | AY29: =IF(COUNTA($E29:$AI29)=0,0,IFERROR(VLOOKUP($B29,'بيانات الموظفين'!$B$7:$K$65,6,FALSE),0)) | AZ29: 1 | BA29: =AZ29*AV29 | BC29: =AV29*الإعدادات!$C$9*SUMPRODUCT(SUMIF(الإعدادات!$A$14:$A$19,$E29:$AI29,الإعدادات!$C$14:$C$19)*($E$7:$AI$7=1)) | BD29: =AW29+AX29+AY29+BC29-BA29-BB29
A30: 23 | B30: 23 | C30: رمضان إبراهيم مرسي علي | D30: SO | E30: P | F30: P | G30: P | H30: P | I30: P | K30: P | L30: P | M30: P | N30: P | O30: P | P30: P | Q30: P | R30: P | S30: P | T30: P | U30: P | V30: P | W30: P | Y30: P | Z30: P | AA30: P | AB30: P | AC30: P | AD30: P | AE30: P | AF30: P | AG30: P | AH30: P | AI30: P | AJ30: =COUNTIF($E30:$AI30,"P") | AK30: =COUNTIF($E30:$AI30,"غ") | AL30: =COUNTIF($E30:$AI30,"إ") | AM30: =COUNTIF($E30:$AI30,"م") | AN30: =COUNTIF($E30:$AI30,"خ") | AO30: =COUNTIF($E30:$AI30,"د") | AP30: =IF(COUNTA($E30:$AI30)=0,0,SUMPRODUCT(($E$5:$AI$5<>"")*($E30:$AI30=""))) | AQ30: =SUMPRODUCT(SUMIF(الإعدادات!$A$14:$A$19,$E30:$AI30,الإعدادات!$C$14:$C$19)) | AR30: =AQ30+AP30 | AT30: =IF(COUNTA($E30:$AI30)=0,IF(AS30="",0,AS30),IF(AS30="",AR30,AS30)) | AU30: =IFERROR(VLOOKUP($B30,'بيانات الموظفين'!$B$7:$K$65,5,FALSE),0) | AV30: =IF(AU30=0,0,AU30/الإعدادات!$C$7) | AW30: =IF(AT30>=(COUNT($E$5:$AI$5)-الإعدادات!$C$6),AU30+AV30*(AT30-(COUNT($E$5:$AI$5)-الإعدادات!$C$6)),AV30*AT30) | AX30: =AQ30*IFERROR(VLOOKUP($B30,'بيانات الموظفين'!$B$7:$K$65,7,FALSE),الإعدادات!$C$8) | AY30: =IF(COUNTA($E30:$AI30)=0,0,IFERROR(VLOOKUP($B30,'بيانات الموظفين'!$B$7:$K$65,6,FALSE),0)) | BA30: =AZ30*AV30 | BC30: =AV30*الإعدادات!$C$9*SUMPRODUCT(SUMIF(الإعدادات!$A$14:$A$19,$E30:$AI30,الإعدادات!$C$14:$C$19)*($E$7:$AI$7=1)) | BD30: =AW30+AX30+AY30+BC30-BA30-BB30
A31: 24 | B31: 24 | C31: عبد العزيز سعد الدين عبد العزيز | D31: SO | E31: P | F31: P | G31: P | H31: P | I31: P | J31: P | K31: P | L31: P | M31: P | O31: P | P31: P | Q31: P | R31: P | S31: P | T31: P | U31: P | V31: P | W31: P | X31: P | Y31: P | Z31: P | AA31: P | AB31: P | AC31: P | AD31: P | AE31: P | AF31: P | AG31: P | AJ31: =COUNTIF($E31:$AI31,"P") | AK31: =COUNTIF($E31:$AI31,"غ") | AL31: =COUNTIF($E31:$AI31,"إ") | AM31: =COUNTIF($E31:$AI31,"م") | AN31: =COUNTIF($E31:$AI31,"خ") | AO31: =COUNTIF($E31:$AI31,"د") | AP31: =IF(COUNTA($E31:$AI31)=0,0,SUMPRODUCT(($E$5:$AI$5<>"")*($E31:$AI31=""))) | AQ31: =SUMPRODUCT(SUMIF(الإعدادات!$A$14:$A$19,$E31:$AI31,الإعدادات!$C$14:$C$19)) | AR31: =AQ31+AP31 | AT31: =IF(COUNTA($E31:$AI31)=0,IF(AS31="",0,AS31),IF(AS31="",AR31,AS31)) | AU31: =IFERROR(VLOOKUP($B31,'بيانات الموظفين'!$B$7:$K$65,5,FALSE),0) | AV31: =IF(AU31=0,0,AU31/الإعدادات!$C$7) | AW31: =IF(AT31>=(COUNT($E$5:$AI$5)-الإعدادات!$C$6),AU31+AV31*(AT31-(COUNT($E$5:$AI$5)-الإعدادات!$C$6)),AV31*AT31) | AX31: =AQ31*IFERROR(VLOOKUP($B31,'بيانات الموظفين'!$B$7:$K$65,7,FALSE),الإعدادات!$C$8) | AY31: =IF(COUNTA($E31:$AI31)=0,0,IFERROR(VLOOKUP($B31,'بيانات الموظفين'!$B$7:$K$65,6,FALSE),0)) | BA31: =AZ31*AV31 | BC31: =AV31*الإعدادات!$C$9*SUMPRODUCT(SUMIF(الإعدادات!$A$14:$A$19,$E31:$AI31,الإعدادات!$C$14:$C$19)*($E$7:$AI$7=1)) | BD31: =AW31+AX31+AY31+BC31-BA31-BB31
A32: 25 | B32: 25 | C32: سمير نجيب حسن الطباخ | D32: SO | E32: P | F32: P | G32: P | H32: P | I32: P | J32: P | K32: P | L32: P | M32: P | N32: P | O32: P | P32: P | Q32: P | R32: P | S32: P | T32: P | U32: P | V32: P | W32: P | X32: P | Y32: P | Z32: P | AA32: P | AB32: P | AC32: P | AD32: P | AE32: P | AF32: P | AG32: P | AI32: P | AJ32: =COUNTIF($E32:$AI32,"P") | AK32: =COUNTIF($E32:$AI32,"غ") | AL32: =COUNTIF($E32:$AI32,"إ") | AM32: =COUNTIF($E32:$AI32,"م") | AN32: =COUNTIF($E32:$AI32,"خ") | AO32: =COUNTIF($E32:$AI32,"د") | AP32: =IF(COUNTA($E32:$AI32)=0,0,SUMPRODUCT(($E$5:$AI$5<>"")*($E32:$AI32=""))) | AQ32: =SUMPRODUCT(SUMIF(الإعدادات!$A$14:$A$19,$E32:$AI32,الإعدادات!$C$14:$C$19)) | AR32: =AQ32+AP32 | AT32: =IF(COUNTA($E32:$AI32)=0,IF(AS32="",0,AS32),IF(AS32="",AR32,AS32)) | AU32: =IFERROR(VLOOKUP($B32,'بيانات الموظفين'!$B$7:$K$65,5,FALSE),0) | AV32: =IF(AU32=0,0,AU32/الإعدادات!$C$7) | AW32: =IF(AT32>=(COUNT($E$5:$AI$5)-الإعدادات!$C$6),AU32+AV32*(AT32-(COUNT($E$5:$AI$5)-الإعدادات!$C$6)),AV32*AT32) | AX32: =AQ32*IFERROR(VLOOKUP($B32,'بيانات الموظفين'!$B$7:$K$65,7,FALSE),الإعدادات!$C$8) | AY32: =IF(COUNTA($E32:$AI32)=0,0,IFERROR(VLOOKUP($B32,'بيانات الموظفين'!$B$7:$K$65,6,FALSE),0)) | BA32: =AZ32*AV32 | BC32: =AV32*الإعدادات!$C$9*SUMPRODUCT(SUMIF(الإعدادات!$A$14:$A$19,$E32:$AI32,الإعدادات!$C$14:$C$19)*($E$7:$AI$7=1)) | BD32: =AW32+AX32+AY32+BC32-BA32-BB32
A33: 26 | B33: 26 | C33: سلام أحمد سيد سالم | D33: SO | E33: P | F33: P | G33: P | H33: P | I33: P | J33: P | K33: P | L33: P | M33: P | N33: P | O33: P | P33: P | R33: P | S33: P | T33: P | U33: P | V33: P | W33: P | X33: P | Y33: P | AA33: P | AB33: P | AC33: P | AD33: P | AE33: P | AF33: P | AG33: P | AH33: P | AI33: P | AJ33: =COUNTIF($E33:$AI33,"P") | AK33: =COUNTIF($E33:$AI33,"غ") | AL33: =COUNTIF($E33:$AI33,"إ") | AM33: =COUNTIF($E33:$AI33,"م") | AN33: =COUNTIF($E33:$AI33,"خ") | AO33: =COUNTIF($E33:$AI33,"د") | AP33: =IF(COUNTA($E33:$AI33)=0,0,SUMPRODUCT(($E$5:$AI$5<>"")*($E33:$AI33=""))) | AQ33: =SUMPRODUCT(SUMIF(الإعدادات!$A$14:$A$19,$E33:$AI33,الإعدادات!$C$14:$C$19)) | AR33: =AQ33+AP33 | AT33: =IF(COUNTA($E33:$AI33)=0,IF(AS33="",0,AS33),IF(AS33="",AR33,AS33)) | AU33: =IFERROR(VLOOKUP($B33,'بيانات الموظفين'!$B$7:$K$65,5,FALSE),0) | AV33: =IF(AU33=0,0,AU33/الإعدادات!$C$7) | AW33: =IF(AT33>=(COUNT($E$5:$AI$5)-الإعدادات!$C$6),AU33+AV33*(AT33-(COUNT($E$5:$AI$5)-الإعدادات!$C$6)),AV33*AT33) | AX33: =AQ33*IFERROR(VLOOKUP($B33,'بيانات الموظفين'!$B$7:$K$65,7,FALSE),الإعدادات!$C$8) | AY33: =IF(COUNTA($E33:$AI33)=0,0,IFERROR(VLOOKUP($B33,'بيانات الموظفين'!$B$7:$K$65,6,FALSE),0)) | BA33: =AZ33*AV33 | BC33: =AV33*الإعدادات!$C$9*SUMPRODUCT(SUMIF(الإعدادات!$A$14:$A$19,$E33:$AI33,الإعدادات!$C$14:$C$19)*($E$7:$AI$7=1)) | BD33: =AW33+AX33+AY33+BC33-BA33-BB33
A34: 27 | B34: 27 | C34: سامح عبد العاطي عبد المقصود | D34: SO | E34: P | F34: P | H34: P | I34: P | J34: P | K34: P | L34: P | M34: P | O34: P | P34: P | Q34: P | R34: P | S34: P | T34: P | U34: P | V34: P | W34: P | X34: P | Y34: P | Z34: P | AA34: P | AB34: P | AC34: P | AD34: P | AF34: P | AG34: P | AH34: P | AI34: P | AJ34: =COUNTIF($E34:$AI34,"P") | AK34: =COUNTIF($E34:$AI34,"غ") | AL34: =COUNTIF($E34:$AI34,"إ") | AM34: =COUNTIF($E34:$AI34,"م") | AN34: =COUNTIF($E34:$AI34,"خ") | AO34: =COUNTIF($E34:$AI34,"د") | AP34: =IF(COUNTA($E34:$AI34)=0,0,SUMPRODUCT(($E$5:$AI$5<>"")*($E34:$AI34=""))) | AQ34: =SUMPRODUCT(SUMIF(الإعدادات!$A$14:$A$19,$E34:$AI34,الإعدادات!$C$14:$C$19)) | AR34: =AQ34+AP34 | AT34: =IF(COUNTA($E34:$AI34)=0,IF(AS34="",0,AS34),IF(AS34="",AR34,AS34)) | AU34: =IFERROR(VLOOKUP($B34,'بيانات الموظفين'!$B$7:$K$65,5,FALSE),0) | AV34: =IF(AU34=0,0,AU34/الإعدادات!$C$7) | AW34: =IF(AT34>=(COUNT($E$5:$AI$5)-الإعدادات!$C$6),AU34+AV34*(AT34-(COUNT($E$5:$AI$5)-الإعدادات!$C$6)),AV34*AT34) | AX34: =AQ34*IFERROR(VLOOKUP($B34,'بيانات الموظفين'!$B$7:$K$65,7,FALSE),الإعدادات!$C$8) | AY34: =IF(COUNTA($E34:$AI34)=0,0,IFERROR(VLOOKUP($B34,'بيانات الموظفين'!$B$7:$K$65,6,FALSE),0)) | BA34: =AZ34*AV34 | BC34: =AV34*الإعدادات!$C$9*SUMPRODUCT(SUMIF(الإعدادات!$A$14:$A$19,$E34:$AI34,الإعدادات!$C$14:$C$19)*($E$7:$AI$7=1)) | BD34: =AW34+AX34+AY34+BC34-BA34-BB34
A35: 28 | B35: 28 | C35: حسن علي حسن زيدان | D35: SO | E35: P | F35: P | G35: P | H35: P | I35: P | J35: P | K35: P | L35: P | M35: P | N35: P | O35: P | P35: P | Q35: P | R35: P | S35: P | T35: P | U35: غ | V35: غ | W35: غ | X35: غ | Y35: غ | Z35: غ | AA35: غ | AB35: غ | AC35: غ | AD35: غ | AE35: غ | AF35: غ | AG35: غ | AH35: غ | AI35: غ | AJ35: =COUNTIF($E35:$AI35,"P") | AK35: =COUNTIF($E35:$AI35,"غ") | AL35: =COUNTIF($E35:$AI35,"إ") | AM35: =COUNTIF($E35:$AI35,"م") | AN35: =COUNTIF($E35:$AI35,"خ") | AO35: =COUNTIF($E35:$AI35,"د") | AP35: =IF(COUNTA($E35:$AI35)=0,0,SUMPRODUCT(($E$5:$AI$5<>"")*($E35:$AI35=""))) | AQ35: =SUMPRODUCT(SUMIF(الإعدادات!$A$14:$A$19,$E35:$AI35,الإعدادات!$C$14:$C$19)) | AR35: =AQ35+AP35 | AT35: =IF(COUNTA($E35:$AI35)=0,IF(AS35="",0,AS35),IF(AS35="",AR35,AS35)) | AU35: =IFERROR(VLOOKUP($B35,'بيانات الموظفين'!$B$7:$K$65,5,FALSE),0) | AV35: =IF(AU35=0,0,AU35/الإعدادات!$C$7) | AW35: =IF(AT35>=(COUNT($E$5:$AI$5)-الإعدادات!$C$6),AU35+AV35*(AT35-(COUNT($E$5:$AI$5)-الإعدادات!$C$6)),AV35*AT35) | AX35: =AQ35*IFERROR(VLOOKUP($B35,'بيانات الموظفين'!$B$7:$K$65,7,FALSE),الإعدادات!$C$8) | AY35: =IF(COUNTA($E35:$AI35)=0,0,IFERROR(VLOOKUP($B35,'بيانات الموظفين'!$B$7:$K$65,6,FALSE),0)) | AZ35: 2 | BA35: =AZ35*AV35 | BC35: =AV35*الإعدادات!$C$9*SUMPRODUCT(SUMIF(الإعدادات!$A$14:$A$19,$E35:$AI35,الإعدادات!$C$14:$C$19)*($E$7:$AI$7=1)) | BD35: =AW35+AX35+AY35+BC35-BA35-BB35
A36: 29 | B36: 29 | C36: هاني محمد عبد الوهاب | D36: SO | E36: P | F36: P | G36: P | H36: P | I36: P | J36: P | K36: P | L36: P | M36: P | N36: P | O36: P | P36: P | Q36: P | R36: P | S36: P | T36: P | U36: P | V36: P | W36: P | X36: P | Y36: P | Z36: P | AA36: P | AB36: P | AC36: P | AD36: P | AE36: P | AF36: P | AG36: P | AH36: P | AI36: P | AJ36: =COUNTIF($E36:$AI36,"P") | AK36: =COUNTIF($E36:$AI36,"غ") | AL36: =COUNTIF($E36:$AI36,"إ") | AM36: =COUNTIF($E36:$AI36,"م") | AN36: =COUNTIF($E36:$AI36,"خ") | AO36: =COUNTIF($E36:$AI36,"د") | AP36: =IF(COUNTA($E36:$AI36)=0,0,SUMPRODUCT(($E$5:$AI$5<>"")*($E36:$AI36=""))) | AQ36: =SUMPRODUCT(SUMIF(الإعدادات!$A$14:$A$19,$E36:$AI36,الإعدادات!$C$14:$C$19)) | AR36: =AQ36+AP36 | AT36: =IF(COUNTA($E36:$AI36)=0,IF(AS36="",0,AS36),IF(AS36="",AR36,AS36)) | AU36: =IFERROR(VLOOKUP($B36,'بيانات الموظفين'!$B$7:$K$65,5,FALSE),0) | AV36: =IF(AU36=0,0,AU36/الإعدادات!$C$7) | AW36: =IF(AT36>=(COUNT($E$5:$AI$5)-الإعدادات!$C$6),AU36+AV36*(AT36-(COUNT($E$5:$AI$5)-الإعدادات!$C$6)),AV36*AT36) | AX36: =AQ36*IFERROR(VLOOKUP($B36,'بيانات الموظفين'!$B$7:$K$65,7,FALSE),الإعدادات!$C$8) | AY36: =IF(COUNTA($E36:$AI36)=0,0,IFERROR(VLOOKUP($B36,'بيانات الموظفين'!$B$7:$K$65,6,FALSE),0)) | BA36: =AZ36*AV36 | BC36: =AV36*الإعدادات!$C$9*SUMPRODUCT(SUMIF(الإعدادات!$A$14:$A$19,$E36:$AI36,الإعدادات!$C$14:$C$19)*($E$7:$AI$7=1)) | BD36: =AW36+AX36+AY36+BC36-BA36-BB36
A37: 30 | B37: 30 | C37: مصطفي محمد محمد السيد | D37: SO | E37: P | F37: P | G37: P | H37: P | I37: P | J37: P | K37: P | L37: P | M37: P | N37: P | O37: P | P37: P | Q37: P | R37: P | S37: P | T37: P | U37: P | V37: P | W37: P | X37: P | Y37: P | Z37: P | AA37: P | AB37: P | AC37: P | AD37: P | AE37: P | AH37: P | AI37: P | AJ37: =COUNTIF($E37:$AI37,"P") | AK37: =COUNTIF($E37:$AI37,"غ") | AL37: =COUNTIF($E37:$AI37,"إ") | AM37: =COUNTIF($E37:$AI37,"م") | AN37: =COUNTIF($E37:$AI37,"خ") | AO37: =COUNTIF($E37:$AI37,"د") | AP37: =IF(COUNTA($E37:$AI37)=0,0,SUMPRODUCT(($E$5:$AI$5<>"")*($E37:$AI37=""))) | AQ37: =SUMPRODUCT(SUMIF(الإعدادات!$A$14:$A$19,$E37:$AI37,الإعدادات!$C$14:$C$19)) | AR37: =AQ37+AP37 | AT37: =IF(COUNTA($E37:$AI37)=0,IF(AS37="",0,AS37),IF(AS37="",AR37,AS37)) | AU37: =IFERROR(VLOOKUP($B37,'بيانات الموظفين'!$B$7:$K$65,5,FALSE),0) | AV37: =IF(AU37=0,0,AU37/الإعدادات!$C$7) | AW37: =IF(AT37>=(COUNT($E$5:$AI$5)-الإعدادات!$C$6),AU37+AV37*(AT37-(COUNT($E$5:$AI$5)-الإعدادات!$C$6)),AV37*AT37) | AX37: =AQ37*IFERROR(VLOOKUP($B37,'بيانات الموظفين'!$B$7:$K$65,7,FALSE),الإعدادات!$C$8) | AY37: =IF(COUNTA($E37:$AI37)=0,0,IFERROR(VLOOKUP($B37,'بيانات الموظفين'!$B$7:$K$65,6,FALSE),0)) | BA37: =AZ37*AV37 | BC37: =AV37*الإعدادات!$C$9*SUMPRODUCT(SUMIF(الإعدادات!$A$14:$A$19,$E37:$AI37,الإعدادات!$C$14:$C$19)*($E$7:$AI$7=1)) | BD37: =AW37+AX37+AY37+BC37-BA37-BB37
A38: 31 | B38: 31 | C38: شهدي محمحد محمد موسي | D38: SO | E38: P | F38: P | H38: P | I38: P | J38: P | K38: P | L38: P | M38: P | N38: P | O38: P | P38: P | Q38: P | R38: P | S38: P | T38: P | V38: P | W38: P | X38: P | Y38: P | Z38: P | AA38: P | AB38: P | AC38: P | AD38: P | AE38: P | AF38: P | AG38: P | AJ38: =COUNTIF($E38:$AI38,"P") | AK38: =COUNTIF($E38:$AI38,"غ") | AL38: =COUNTIF($E38:$AI38,"إ") | AM38: =COUNTIF($E38:$AI38,"م") | AN38: =COUNTIF($E38:$AI38,"خ") | AO38: =COUNTIF($E38:$AI38,"د") | AP38: =IF(COUNTA($E38:$AI38)=0,0,SUMPRODUCT(($E$5:$AI$5<>"")*($E38:$AI38=""))) | AQ38: =SUMPRODUCT(SUMIF(الإعدادات!$A$14:$A$19,$E38:$AI38,الإعدادات!$C$14:$C$19)) | AR38: =AQ38+AP38 | AT38: =IF(COUNTA($E38:$AI38)=0,IF(AS38="",0,AS38),IF(AS38="",AR38,AS38)) | AU38: =IFERROR(VLOOKUP($B38,'بيانات الموظفين'!$B$7:$K$65,5,FALSE),0) | AV38: =IF(AU38=0,0,AU38/الإعدادات!$C$7) | AW38: =IF(AT38>=(COUNT($E$5:$AI$5)-الإعدادات!$C$6),AU38+AV38*(AT38-(COUNT($E$5:$AI$5)-الإعدادات!$C$6)),AV38*AT38) | AX38: =AQ38*IFERROR(VLOOKUP($B38,'بيانات الموظفين'!$B$7:$K$65,7,FALSE),الإعدادات!$C$8) | AY38: =IF(COUNTA($E38:$AI38)=0,0,IFERROR(VLOOKUP($B38,'بيانات الموظفين'!$B$7:$K$65,6,FALSE),0)) | BA38: =AZ38*AV38 | BC38: =AV38*الإعدادات!$C$9*SUMPRODUCT(SUMIF(الإعدادات!$A$14:$A$19,$E38:$AI38,الإعدادات!$C$14:$C$19)*($E$7:$AI$7=1)) | BD38: =AW38+AX38+AY38+BC38-BA38-BB38
A39: 32 | B39: 32 | C39: رشاد إبراهيم السيد | D39: SO | E39: P | F39: P | G39: P | H39: P | I39: P | J39: P | K39: P | L39: P | M39: P | N39: P | O39: P | P39: P | Q39: P | R39: P | S39: P | T39: P | U39: P | V39: P | W39: P | X39: P | Y39: P | Z39: P | AA39: P | AB39: P | AC39: P | AF39: P | AG39: P | AH39: P | AI39: P | AJ39: =COUNTIF($E39:$AI39,"P") | AK39: =COUNTIF($E39:$AI39,"غ") | AL39: =COUNTIF($E39:$AI39,"إ") | AM39: =COUNTIF($E39:$AI39,"م") | AN39: =COUNTIF($E39:$AI39,"خ") | AO39: =COUNTIF($E39:$AI39,"د") | AP39: =IF(COUNTA($E39:$AI39)=0,0,SUMPRODUCT(($E$5:$AI$5<>"")*($E39:$AI39=""))) | AQ39: =SUMPRODUCT(SUMIF(الإعدادات!$A$14:$A$19,$E39:$AI39,الإعدادات!$C$14:$C$19)) | AR39: =AQ39+AP39 | AT39: =IF(COUNTA($E39:$AI39)=0,IF(AS39="",0,AS39),IF(AS39="",AR39,AS39)) | AU39: =IFERROR(VLOOKUP($B39,'بيانات الموظفين'!$B$7:$K$65,5,FALSE),0) | AV39: =IF(AU39=0,0,AU39/الإعدادات!$C$7) | AW39: =IF(AT39>=(COUNT($E$5:$AI$5)-الإعدادات!$C$6),AU39+AV39*(AT39-(COUNT($E$5:$AI$5)-الإعدادات!$C$6)),AV39*AT39) | AX39: =AQ39*IFERROR(VLOOKUP($B39,'بيانات الموظفين'!$B$7:$K$65,7,FALSE),الإعدادات!$C$8) | AY39: =IF(COUNTA($E39:$AI39)=0,0,IFERROR(VLOOKUP($B39,'بيانات الموظفين'!$B$7:$K$65,6,FALSE),0)) | BA39: =AZ39*AV39 | BC39: =AV39*الإعدادات!$C$9*SUMPRODUCT(SUMIF(الإعدادات!$A$14:$A$19,$E39:$AI39,الإعدادات!$C$14:$C$19)*($E$7:$AI$7=1)) | BD39: =AW39+AX39+AY39+BC39-BA39-BB39
A40: 33 | B40: 33 | C40: آدهم البلاسي يوسف إبراهيم | D40: SO | E40: P | F40: P | G40: P | H40: P | I40: P | J40: P | K40: P | L40: P | M40: P | N40: P | O40: P | P40: P | Q40: P | R40: P | S40: P | T40: P | U40: P | V40: P | W40: P | X40: P | Y40: P | Z40: P | AA40: P | AB40: P | AC40: P | AD40: P | AE40: P | AJ40: =COUNTIF($E40:$AI40,"P") | AK40: =COUNTIF($E40:$AI40,"غ") | AL40: =COUNTIF($E40:$AI40,"إ") | AM40: =COUNTIF($E40:$AI40,"م") | AN40: =COUNTIF($E40:$AI40,"خ") | AO40: =COUNTIF($E40:$AI40,"د") | AP40: =IF(COUNTA($E40:$AI40)=0,0,SUMPRODUCT(($E$5:$AI$5<>"")*($E40:$AI40=""))) | AQ40: =SUMPRODUCT(SUMIF(الإعدادات!$A$14:$A$19,$E40:$AI40,الإعدادات!$C$14:$C$19)) | AR40: =AQ40+AP40 | AT40: =IF(COUNTA($E40:$AI40)=0,IF(AS40="",0,AS40),IF(AS40="",AR40,AS40)) | AU40: =IFERROR(VLOOKUP($B40,'بيانات الموظفين'!$B$7:$K$65,5,FALSE),0) | AV40: =IF(AU40=0,0,AU40/الإعدادات!$C$7) | AW40: =IF(AT40>=(COUNT($E$5:$AI$5)-الإعدادات!$C$6),AU40+AV40*(AT40-(COUNT($E$5:$AI$5)-الإعدادات!$C$6)),AV40*AT40) | AX40: =AQ40*IFERROR(VLOOKUP($B40,'بيانات الموظفين'!$B$7:$K$65,7,FALSE),الإعدادات!$C$8) | AY40: =IF(COUNTA($E40:$AI40)=0,0,IFERROR(VLOOKUP($B40,'بيانات الموظفين'!$B$7:$K$65,6,FALSE),0)) | AZ40: 1 | BA40: =AZ40*AV40 | BC40: =AV40*الإعدادات!$C$9*SUMPRODUCT(SUMIF(الإعدادات!$A$14:$A$19,$E40:$AI40,الإعدادات!$C$14:$C$19)*($E$7:$AI$7=1)) | BD40: =AW40+AX40+AY40+BC40-BA40-BB40
A41: 34 | B41: 34 | C41: السيد محمد عبده | D41: SO | E41: P | F41: P | G41: P | H41: P | I41: P | J41: P | K41: P | L41: P | M41: P | N41: P | O41: P | P41: P | Q41: P | R41: P | S41: P | T41: P | U41: P | V41: P | W41: P | X41: P | Z41: P | AA41: P | AB41: P | AC41: P | AD41: P | AE41: P | AF41: P | AG41: P | AH41: P | AI41: P | AJ41: =COUNTIF($E41:$AI41,"P") | AK41: =COUNTIF($E41:$AI41,"غ") | AL41: =COUNTIF($E41:$AI41,"إ") | AM41: =COUNTIF($E41:$AI41,"م") | AN41: =COUNTIF($E41:$AI41,"خ") | AO41: =COUNTIF($E41:$AI41,"د") | AP41: =IF(COUNTA($E41:$AI41)=0,0,SUMPRODUCT(($E$5:$AI$5<>"")*($E41:$AI41=""))) | AQ41: =SUMPRODUCT(SUMIF(الإعدادات!$A$14:$A$19,$E41:$AI41,الإعدادات!$C$14:$C$19)) | AR41: =AQ41+AP41 | AT41: =IF(COUNTA($E41:$AI41)=0,IF(AS41="",0,AS41),IF(AS41="",AR41,AS41)) | AU41: =IFERROR(VLOOKUP($B41,'بيانات الموظفين'!$B$7:$K$65,5,FALSE),0) | AV41: =IF(AU41=0,0,AU41/الإعدادات!$C$7) | AW41: =IF(AT41>=(COUNT($E$5:$AI$5)-الإعدادات!$C$6),AU41+AV41*(AT41-(COUNT($E$5:$AI$5)-الإعدادات!$C$6)),AV41*AT41) | AX41: =AQ41*IFERROR(VLOOKUP($B41,'بيانات الموظفين'!$B$7:$K$65,7,FALSE),الإعدادات!$C$8) | AY41: =IF(COUNTA($E41:$AI41)=0,0,IFERROR(VLOOKUP($B41,'بيانات الموظفين'!$B$7:$K$65,6,FALSE),0)) | BA41: =AZ41*AV41 | BC41: =AV41*الإعدادات!$C$9*SUMPRODUCT(SUMIF(الإعدادات!$A$14:$A$19,$E41:$AI41,الإعدادات!$C$14:$C$19)*($E$7:$AI$7=1)) | BD41: =AW41+AX41+AY41+BC41-BA41-BB41
A42: 35 | B42: 35 | C42: علاء الدين عبد الفتاح محمد | D42: SO | E42: P | F42: P | G42: P | H42: P | I42: P | J42: P | K42: P | L42: د | M42: P | N42: P | O42: P | P42: P | Q42: P | R42: P | S42: P | T42: P | U42: P | V42: P | W42: P | X42: P | Y42: P | Z42: P | AA42: P | AD42: P | AE42: P | AF42: P | AG42: P | AH42: P | AI42: P | AJ42: =COUNTIF($E42:$AI42,"P") | AK42: =COUNTIF($E42:$AI42,"غ") | AL42: =COUNTIF($E42:$AI42,"إ") | AM42: =COUNTIF($E42:$AI42,"م") | AN42: =COUNTIF($E42:$AI42,"خ") | AO42: =COUNTIF($E42:$AI42,"د") | AP42: =IF(COUNTA($E42:$AI42)=0,0,SUMPRODUCT(($E$5:$AI$5<>"")*($E42:$AI42=""))) | AQ42: =SUMPRODUCT(SUMIF(الإعدادات!$A$14:$A$19,$E42:$AI42,الإعدادات!$C$14:$C$19)) | AR42: =AQ42+AP42 | AT42: =IF(COUNTA($E42:$AI42)=0,IF(AS42="",0,AS42),IF(AS42="",AR42,AS42)) | AU42: =IFERROR(VLOOKUP($B42,'بيانات الموظفين'!$B$7:$K$65,5,FALSE),0) | AV42: =IF(AU42=0,0,AU42/الإعدادات!$C$7) | AW42: =IF(AT42>=(COUNT($E$5:$AI$5)-الإعدادات!$C$6),AU42+AV42*(AT42-(COUNT($E$5:$AI$5)-الإعدادات!$C$6)),AV42*AT42) | AX42: =AQ42*IFERROR(VLOOKUP($B42,'بيانات الموظفين'!$B$7:$K$65,7,FALSE),الإعدادات!$C$8) | AY42: =IF(COUNTA($E42:$AI42)=0,0,IFERROR(VLOOKUP($B42,'بيانات الموظفين'!$B$7:$K$65,6,FALSE),0)) | BA42: =AZ42*AV42 | BC42: =AV42*الإعدادات!$C$9*SUMPRODUCT(SUMIF(الإعدادات!$A$14:$A$19,$E42:$AI42,الإعدادات!$C$14:$C$19)*($E$7:$AI$7=1)) | BD42: =AW42+AX42+AY42+BC42-BA42-BB42
A43: 36 | B43: 36 | C43: إبراهيم علي عبد الجواد | D43: SO | E43: P | F43: P | G43: P | H43: P | I43: P | J43: P | K43: P | O43: P | P43: P | Q43: P | R43: P | S43: P | T43: P | U43: P | V43: P | W43: P | X43: P | Z43: P | AA43: P | AB43: P | AC43: P | AD43: P | AE43: P | AF43: P | AG43: P | AH43: P | AI43: P | AJ43: =COUNTIF($E43:$AI43,"P") | AK43: =COUNTIF($E43:$AI43,"غ") | AL43: =COUNTIF($E43:$AI43,"إ") | AM43: =COUNTIF($E43:$AI43,"م") | AN43: =COUNTIF($E43:$AI43,"خ") | AO43: =COUNTIF($E43:$AI43,"د") | AP43: =IF(COUNTA($E43:$AI43)=0,0,SUMPRODUCT(($E$5:$AI$5<>"")*($E43:$AI43=""))) | AQ43: =SUMPRODUCT(SUMIF(الإعدادات!$A$14:$A$19,$E43:$AI43,الإعدادات!$C$14:$C$19)) | AR43: =AQ43+AP43 | AT43: =IF(COUNTA($E43:$AI43)=0,IF(AS43="",0,AS43),IF(AS43="",AR43,AS43)) | AU43: =IFERROR(VLOOKUP($B43,'بيانات الموظفين'!$B$7:$K$65,5,FALSE),0) | AV43: =IF(AU43=0,0,AU43/الإعدادات!$C$7) | AW43: =IF(AT43>=(COUNT($E$5:$AI$5)-الإعدادات!$C$6),AU43+AV43*(AT43-(COUNT($E$5:$AI$5)-الإعدادات!$C$6)),AV43*AT43) | AX43: =AQ43*IFERROR(VLOOKUP($B43,'بيانات الموظفين'!$B$7:$K$65,7,FALSE),الإعدادات!$C$8) | AY43: =IF(COUNTA($E43:$AI43)=0,0,IFERROR(VLOOKUP($B43,'بيانات الموظفين'!$B$7:$K$65,6,FALSE),0)) | BA43: =AZ43*AV43 | BC43: =AV43*الإعدادات!$C$9*SUMPRODUCT(SUMIF(الإعدادات!$A$14:$A$19,$E43:$AI43,الإعدادات!$C$14:$C$19)*($E$7:$AI$7=1)) | BD43: =AW43+AX43+AY43+BC43-BA43-BB43
A44: 37 | B44: 37 | C44: عبد الواحد احمد عبد المجيد | D44: SO | E44: P | F44: P | G44: P | H44: P | I44: P | J44: P | K44: P | L44: P | M44: P | N44: P | O44: P | P44: P | Q44: P | S44: P | T44: P | U44: P | V44: P | W44: P | X44: P | Y44: P | Z44: P | AA44: P | AB44: P | AC44: P | AD44: P | AE44: P | AF44: P | AG44: P | AH44: P | AI44: P | AJ44: =COUNTIF($E44:$AI44,"P") | AK44: =COUNTIF($E44:$AI44,"غ") | AL44: =COUNTIF($E44:$AI44,"إ") | AM44: =COUNTIF($E44:$AI44,"م") | AN44: =COUNTIF($E44:$AI44,"خ") | AO44: =COUNTIF($E44:$AI44,"د") | AP44: =IF(COUNTA($E44:$AI44)=0,0,SUMPRODUCT(($E$5:$AI$5<>"")*($E44:$AI44=""))) | AQ44: =SUMPRODUCT(SUMIF(الإعدادات!$A$14:$A$19,$E44:$AI44,الإعدادات!$C$14:$C$19)) | AR44: =AQ44+AP44 | AT44: =IF(COUNTA($E44:$AI44)=0,IF(AS44="",0,AS44),IF(AS44="",AR44,AS44)) | AU44: =IFERROR(VLOOKUP($B44,'بيانات الموظفين'!$B$7:$K$65,5,FALSE),0) | AV44: =IF(AU44=0,0,AU44/الإعدادات!$C$7) | AW44: =IF(AT44>=(COUNT($E$5:$AI$5)-الإعدادات!$C$6),AU44+AV44*(AT44-(COUNT($E$5:$AI$5)-الإعدادات!$C$6)),AV44*AT44) | AX44: =AQ44*IFERROR(VLOOKUP($B44,'بيانات الموظفين'!$B$7:$K$65,7,FALSE),الإعدادات!$C$8) | AY44: =IF(COUNTA($E44:$AI44)=0,0,IFERROR(VLOOKUP($B44,'بيانات الموظفين'!$B$7:$K$65,6,FALSE),0)) | BA44: =AZ44*AV44 | BC44: =AV44*الإعدادات!$C$9*SUMPRODUCT(SUMIF(الإعدادات!$A$14:$A$19,$E44:$AI44,الإعدادات!$C$14:$C$19)*($E$7:$AI$7=1)) | BD44: =AW44+AX44+AY44+BC44-BA44-BB44
A45: 38 | B45: 38 | C45: محمد عبد الحميد محمد الجاويش | D45: SUP | E45: P | F45: P | G45: P | H45: P | I45: P | J45: P | K45: P | L45: P | M45: P | N45: P | O45: P | P45: P | Q45: P | R45: P | S45: P | T45: P | U45: P | V45: P | W45: P | X45: P | Y45: P | Z45: P | AA45: P | AB45: P | AC45: P | AD45: P | AE45: P | AF45: P | AG45: P | AH45: P | AI45: P | AJ45: =COUNTIF($E45:$AI45,"P") | AK45: =COUNTIF($E45:$AI45,"غ") | AL45: =COUNTIF($E45:$AI45,"إ") | AM45: =COUNTIF($E45:$AI45,"م") | AN45: =COUNTIF($E45:$AI45,"خ") | AO45: =COUNTIF($E45:$AI45,"د") | AP45: =IF(COUNTA($E45:$AI45)=0,0,SUMPRODUCT(($E$5:$AI$5<>"")*($E45:$AI45=""))) | AQ45: =SUMPRODUCT(SUMIF(الإعدادات!$A$14:$A$19,$E45:$AI45,الإعدادات!$C$14:$C$19)) | AR45: =AQ45+AP45 | AT45: =IF(COUNTA($E45:$AI45)=0,IF(AS45="",0,AS45),IF(AS45="",AR45,AS45)) | AU45: =IFERROR(VLOOKUP($B45,'بيانات الموظفين'!$B$7:$K$65,5,FALSE),0) | AV45: =IF(AU45=0,0,AU45/الإعدادات!$C$7) | AW45: =IF(AT45>=(COUNT($E$5:$AI$5)-الإعدادات!$C$6),AU45+AV45*(AT45-(COUNT($E$5:$AI$5)-الإعدادات!$C$6)),AV45*AT45) | AX45: =AQ45*IFERROR(VLOOKUP($B45,'بيانات الموظفين'!$B$7:$K$65,7,FALSE),الإعدادات!$C$8) | AY45: =IF(COUNTA($E45:$AI45)=0,0,IFERROR(VLOOKUP($B45,'بيانات الموظفين'!$B$7:$K$65,6,FALSE),0)) | BA45: =AZ45*AV45 | BC45: =AV45*الإعدادات!$C$9*SUMPRODUCT(SUMIF(الإعدادات!$A$14:$A$19,$E45:$AI45,الإعدادات!$C$14:$C$19)*($E$7:$AI$7=1)) | BD45: =AW45+AX45+AY45+BC45-BA45-BB45
A46: 39 | B46: 39 | C46: سمير محمد صالح محمد | D46: SO | E46: P | F46: P | G46: P | H46: P | I46: P | J46: P | K46: P | L46: P | M46: P | O46: P | P46: P | Q46: P | R46: P | S46: P | T46: P | V46: P | W46: P | X46: P | Y46: P | Z46: P | AA46: P | AC46: P | AD46: P | AE46: P | AF46: P | AG46: P | AH46: P | AJ46: =COUNTIF($E46:$AI46,"P") | AK46: =COUNTIF($E46:$AI46,"غ") | AL46: =COUNTIF($E46:$AI46,"إ") | AM46: =COUNTIF($E46:$AI46,"م") | AN46: =COUNTIF($E46:$AI46,"خ") | AO46: =COUNTIF($E46:$AI46,"د") | AP46: =IF(COUNTA($E46:$AI46)=0,0,SUMPRODUCT(($E$5:$AI$5<>"")*($E46:$AI46=""))) | AQ46: =SUMPRODUCT(SUMIF(الإعدادات!$A$14:$A$19,$E46:$AI46,الإعدادات!$C$14:$C$19)) | AR46: =AQ46+AP46 | AT46: =IF(COUNTA($E46:$AI46)=0,IF(AS46="",0,AS46),IF(AS46="",AR46,AS46)) | AU46: =IFERROR(VLOOKUP($B46,'بيانات الموظفين'!$B$7:$K$65,5,FALSE),0) | AV46: =IF(AU46=0,0,AU46/الإعدادات!$C$7) | AW46: =IF(AT46>=(COUNT($E$5:$AI$5)-الإعدادات!$C$6),AU46+AV46*(AT46-(COUNT($E$5:$AI$5)-الإعدادات!$C$6)),AV46*AT46) | AX46: =AQ46*IFERROR(VLOOKUP($B46,'بيانات الموظفين'!$B$7:$K$65,7,FALSE),الإعدادات!$C$8) | AY46: =IF(COUNTA($E46:$AI46)=0,0,IFERROR(VLOOKUP($B46,'بيانات الموظفين'!$B$7:$K$65,6,FALSE),0)) | BA46: =AZ46*AV46 | BC46: =AV46*الإعدادات!$C$9*SUMPRODUCT(SUMIF(الإعدادات!$A$14:$A$19,$E46:$AI46,الإعدادات!$C$14:$C$19)*($E$7:$AI$7=1)) | BD46: =AW46+AX46+AY46+BC46-BA46-BB46
A47: 40 | B47: 40 | C47: محمد عصام محمد محمد محمد | D47: SO | E47: P | F47: P | G47: P | H47: P | I47: P | J47: P | K47: P | L47: P | M47: P | N47: P | O47: P | P47: P | Q47: P | R47: P | S47: P | T47: P | U47: P | X47: P | Z47: P | AA47: P | AB47: P | AD47: P | AE47: P | AF47: P | AG47: P | AH47: P | AI47: P | AJ47: =COUNTIF($E47:$AI47,"P") | AK47: =COUNTIF($E47:$AI47,"غ") | AL47: =COUNTIF($E47:$AI47,"إ") | AM47: =COUNTIF($E47:$AI47,"م") | AN47: =COUNTIF($E47:$AI47,"خ") | AO47: =COUNTIF($E47:$AI47,"د") | AP47: =IF(COUNTA($E47:$AI47)=0,0,SUMPRODUCT(($E$5:$AI$5<>"")*($E47:$AI47=""))) | AQ47: =SUMPRODUCT(SUMIF(الإعدادات!$A$14:$A$19,$E47:$AI47,الإعدادات!$C$14:$C$19)) | AR47: =AQ47+AP47 | AT47: =IF(COUNTA($E47:$AI47)=0,IF(AS47="",0,AS47),IF(AS47="",AR47,AS47)) | AU47: =IFERROR(VLOOKUP($B47,'بيانات الموظفين'!$B$7:$K$65,5,FALSE),0) | AV47: =IF(AU47=0,0,AU47/الإعدادات!$C$7) | AW47: =IF(AT47>=(COUNT($E$5:$AI$5)-الإعدادات!$C$6),AU47+AV47*(AT47-(COUNT($E$5:$AI$5)-الإعدادات!$C$6)),AV47*AT47) | AX47: =AQ47*IFERROR(VLOOKUP($B47,'بيانات الموظفين'!$B$7:$K$65,7,FALSE),الإعدادات!$C$8) | AY47: =IF(COUNTA($E47:$AI47)=0,0,IFERROR(VLOOKUP($B47,'بيانات الموظفين'!$B$7:$K$65,6,FALSE),0)) | AZ47: 0.5 | BA47: =AZ47*AV47 | BC47: =AV47*الإعدادات!$C$9*SUMPRODUCT(SUMIF(الإعدادات!$A$14:$A$19,$E47:$AI47,الإعدادات!$C$14:$C$19)*($E$7:$AI$7=1)) | BD47: =AW47+AX47+AY47+BC47-BA47-BB47
A48: 41 | B48: 41 | C48: السيد صابر محمد مهدي | D48: SO | E48: P | F48: P | I48: P | J48: P | K48: P | L48: P | M48: P | N48: P | O48: P | P48: P | R48: P | S48: P | T48: P | U48: P | V48: P | W48: P | X48: P | Y48: P | Z48: P | AA48: P | AB48: P | AC48: P | AD48: P | AE48: P | AF48: P | AG48: P | AI48: P | AJ48: =COUNTIF($E48:$AI48,"P") | AK48: =COUNTIF($E48:$AI48,"غ") | AL48: =COUNTIF($E48:$AI48,"إ") | AM48: =COUNTIF($E48:$AI48,"م") | AN48: =COUNTIF($E48:$AI48,"خ") | AO48: =COUNTIF($E48:$AI48,"د") | AP48: =IF(COUNTA($E48:$AI48)=0,0,SUMPRODUCT(($E$5:$AI$5<>"")*($E48:$AI48=""))) | AQ48: =SUMPRODUCT(SUMIF(الإعدادات!$A$14:$A$19,$E48:$AI48,الإعدادات!$C$14:$C$19)) | AR48: =AQ48+AP48 | AT48: =IF(COUNTA($E48:$AI48)=0,IF(AS48="",0,AS48),IF(AS48="",AR48,AS48)) | AU48: =IFERROR(VLOOKUP($B48,'بيانات الموظفين'!$B$7:$K$65,5,FALSE),0) | AV48: =IF(AU48=0,0,AU48/الإعدادات!$C$7) | AW48: =IF(AT48>=(COUNT($E$5:$AI$5)-الإعدادات!$C$6),AU48+AV48*(AT48-(COUNT($E$5:$AI$5)-الإعدادات!$C$6)),AV48*AT48) | AX48: =AQ48*IFERROR(VLOOKUP($B48,'بيانات الموظفين'!$B$7:$K$65,7,FALSE),الإعدادات!$C$8) | AY48: =IF(COUNTA($E48:$AI48)=0,0,IFERROR(VLOOKUP($B48,'بيانات الموظفين'!$B$7:$K$65,6,FALSE),0)) | BA48: =AZ48*AV48 | BC48: =AV48*الإعدادات!$C$9*SUMPRODUCT(SUMIF(الإعدادات!$A$14:$A$19,$E48:$AI48,الإعدادات!$C$14:$C$19)*($E$7:$AI$7=1)) | BD48: =AW48+AX48+AY48+BC48-BA48-BB48
A49: 42 | B49: 42 | C49: سامي أحمد المليجي ابوحجازي | D49: SO | E49: P | F49: P | G49: غ | H49: غ | I49: غ | J49: غ | K49: غ | L49: غ | M49: غ | N49: غ | O49: غ | P49: غ | Q49: غ | R49: غ | S49: غ | T49: غ | U49: غ | V49: غ | W49: غ | X49: غ | Y49: غ | Z49: غ | AA49: غ | AB49: غ | AC49: غ | AD49: غ | AE49: غ | AF49: غ | AG49: غ | AH49: غ | AI49: غ | AJ49: =COUNTIF($E49:$AI49,"P") | AK49: =COUNTIF($E49:$AI49,"غ") | AL49: =COUNTIF($E49:$AI49,"إ") | AM49: =COUNTIF($E49:$AI49,"م") | AN49: =COUNTIF($E49:$AI49,"خ") | AO49: =COUNTIF($E49:$AI49,"د") | AP49: =IF(COUNTA($E49:$AI49)=0,0,SUMPRODUCT(($E$5:$AI$5<>"")*($E49:$AI49=""))) | AQ49: =SUMPRODUCT(SUMIF(الإعدادات!$A$14:$A$19,$E49:$AI49,الإعدادات!$C$14:$C$19)) | AR49: =AQ49+AP49 | AT49: =IF(COUNTA($E49:$AI49)=0,IF(AS49="",0,AS49),IF(AS49="",AR49,AS49)) | AU49: =IFERROR(VLOOKUP($B49,'بيانات الموظفين'!$B$7:$K$65,5,FALSE),0) | AV49: =IF(AU49=0,0,AU49/الإعدادات!$C$7) | AW49: =IF(AT49>=(COUNT($E$5:$AI$5)-الإعدادات!$C$6),AU49+AV49*(AT49-(COUNT($E$5:$AI$5)-الإعدادات!$C$6)),AV49*AT49) | AX49: =AQ49*IFERROR(VLOOKUP($B49,'بيانات الموظفين'!$B$7:$K$65,7,FALSE),الإعدادات!$C$8) | AY49: =IF(COUNTA($E49:$AI49)=0,0,IFERROR(VLOOKUP($B49,'بيانات الموظفين'!$B$7:$K$65,6,FALSE),0)) | AZ49: 1 | BA49: =AZ49*AV49 | BC49: =AV49*الإعدادات!$C$9*SUMPRODUCT(SUMIF(الإعدادات!$A$14:$A$19,$E49:$AI49,الإعدادات!$C$14:$C$19)*($E$7:$AI$7=1)) | BD49: =AW49+AX49+AY49+BC49-BA49-BB49
A50: 43 | B50: 43 | C50: علي عبد العزيز إبراهيم الفخراني | D50: SUP | E50: P | F50: P | G50: P | H50: P | I50: P | J50: P | L50: P | M50: P | N50: P | O50: P | P50: P | Q50: P | S50: P | T50: P | U50: P | V50: P | W50: P | X50: P | Z50: P | AA50: P | AB50: P | AC50: م | AJ50: =COUNTIF($E50:$AI50,"P") | AK50: =COUNTIF($E50:$AI50,"غ") | AL50: =COUNTIF($E50:$AI50,"إ") | AM50: =COUNTIF($E50:$AI50,"م") | AN50: =COUNTIF($E50:$AI50,"خ") | AO50: =COUNTIF($E50:$AI50,"د") | AP50: =IF(COUNTA($E50:$AI50)=0,0,SUMPRODUCT(($E$5:$AI$5<>"")*($E50:$AI50=""))) | AQ50: =SUMPRODUCT(SUMIF(الإعدادات!$A$14:$A$19,$E50:$AI50,الإعدادات!$C$14:$C$19)) | AR50: =AQ50+AP50 | AS50: 27 | AT50: =IF(COUNTA($E50:$AI50)=0,IF(AS50="",0,AS50),IF(AS50="",AR50,AS50)) | AU50: =IFERROR(VLOOKUP($B50,'بيانات الموظفين'!$B$7:$K$65,5,FALSE),0) | AV50: =IF(AU50=0,0,AU50/الإعدادات!$C$7) | AW50: =IF(AT50>=(COUNT($E$5:$AI$5)-الإعدادات!$C$6),AU50+AV50*(AT50-(COUNT($E$5:$AI$5)-الإعدادات!$C$6)),AV50*AT50) | AX50: =AQ50*IFERROR(VLOOKUP($B50,'بيانات الموظفين'!$B$7:$K$65,7,FALSE),الإعدادات!$C$8) | AY50: =IF(COUNTA($E50:$AI50)=0,0,IFERROR(VLOOKUP($B50,'بيانات الموظفين'!$B$7:$K$65,6,FALSE),0)) | BA50: =AZ50*AV50 | BC50: =AV50*الإعدادات!$C$9*SUMPRODUCT(SUMIF(الإعدادات!$A$14:$A$19,$E50:$AI50,الإعدادات!$C$14:$C$19)*($E$7:$AI$7=1)) | BD50: =AW50+AX50+AY50+BC50-BA50-BB50
A51: 44 | B51: 44 | C51: خالد عبد الرحمن عبد الغني محمد | D51: SO | E51: P | F51: P | H51: P | I51: P | J51: P | K51: P | L51: P | M51: P | N51: P | O51: P | Q51: P | R51: P | S51: P | T51: P | U51: P | V51: P | W51: P | X51: P | Y51: P | Z51: P | AB51: P | AC51: P | AD51: P | AE51: P | AF51: غ | AG51: P | AH51: P | AI51: P | AJ51: =COUNTIF($E51:$AI51,"P") | AK51: =COUNTIF($E51:$AI51,"غ") | AL51: =COUNTIF($E51:$AI51,"إ") | AM51: =COUNTIF($E51:$AI51,"م") | AN51: =COUNTIF($E51:$AI51,"خ") | AO51: =COUNTIF($E51:$AI51,"د") | AP51: =IF(COUNTA($E51:$AI51)=0,0,SUMPRODUCT(($E$5:$AI$5<>"")*($E51:$AI51=""))) | AQ51: =SUMPRODUCT(SUMIF(الإعدادات!$A$14:$A$19,$E51:$AI51,الإعدادات!$C$14:$C$19)) | AR51: =AQ51+AP51 | AT51: =IF(COUNTA($E51:$AI51)=0,IF(AS51="",0,AS51),IF(AS51="",AR51,AS51)) | AU51: =IFERROR(VLOOKUP($B51,'بيانات الموظفين'!$B$7:$K$65,5,FALSE),0) | AV51: =IF(AU51=0,0,AU51/الإعدادات!$C$7) | AW51: =IF(AT51>=(COUNT($E$5:$AI$5)-الإعدادات!$C$6),AU51+AV51*(AT51-(COUNT($E$5:$AI$5)-الإعدادات!$C$6)),AV51*AT51) | AX51: =AQ51*IFERROR(VLOOKUP($B51,'بيانات الموظفين'!$B$7:$K$65,7,FALSE),الإعدادات!$C$8) | AY51: =IF(COUNTA($E51:$AI51)=0,0,IFERROR(VLOOKUP($B51,'بيانات الموظفين'!$B$7:$K$65,6,FALSE),0)) | AZ51: 1.5 | BA51: =AZ51*AV51 | BC51: =AV51*الإعدادات!$C$9*SUMPRODUCT(SUMIF(الإعدادات!$A$14:$A$19,$E51:$AI51,الإعدادات!$C$14:$C$19)*($E$7:$AI$7=1)) | BD51: =AW51+AX51+AY51+BC51-BA51-BB51
A52: 45 | B52: 45 | C52: صلاح الدين فتحي الدسوقي خليل | D52: SO | E52: P | F52: P | G52: P | H52: P | I52: P | J52: P | K52: P | L52: P | M52: P | N52: P | O52: P | P52: P | Q52: P | R52: P | S52: P | T52: P | U52: د | V52: P | W52: P | X52: P | Y52: P | Z52: د | AA52: P | AB52: P | AC52: P | AD52: P | AE52: P | AF52: P | AG52: P | AH52: P | AI52: P | AJ52: =COUNTIF($E52:$AI52,"P") | AK52: =COUNTIF($E52:$AI52,"غ") | AL52: =COUNTIF($E52:$AI52,"إ") | AM52: =COUNTIF($E52:$AI52,"م") | AN52: =COUNTIF($E52:$AI52,"خ") | AO52: =COUNTIF($E52:$AI52,"د") | AP52: =IF(COUNTA($E52:$AI52)=0,0,SUMPRODUCT(($E$5:$AI$5<>"")*($E52:$AI52=""))) | AQ52: =SUMPRODUCT(SUMIF(الإعدادات!$A$14:$A$19,$E52:$AI52,الإعدادات!$C$14:$C$19)) | AR52: =AQ52+AP52 | AT52: =IF(COUNTA($E52:$AI52)=0,IF(AS52="",0,AS52),IF(AS52="",AR52,AS52)) | AU52: =IFERROR(VLOOKUP($B52,'بيانات الموظفين'!$B$7:$K$65,5,FALSE),0) | AV52: =IF(AU52=0,0,AU52/الإعدادات!$C$7) | AW52: =IF(AT52>=(COUNT($E$5:$AI$5)-الإعدادات!$C$6),AU52+AV52*(AT52-(COUNT($E$5:$AI$5)-الإعدادات!$C$6)),AV52*AT52) | AX52: =AQ52*IFERROR(VLOOKUP($B52,'بيانات الموظفين'!$B$7:$K$65,7,FALSE),الإعدادات!$C$8) | AY52: =IF(COUNTA($E52:$AI52)=0,0,IFERROR(VLOOKUP($B52,'بيانات الموظفين'!$B$7:$K$65,6,FALSE),0)) | BA52: =AZ52*AV52 | BC52: =AV52*الإعدادات!$C$9*SUMPRODUCT(SUMIF(الإعدادات!$A$14:$A$19,$E52:$AI52,الإعدادات!$C$14:$C$19)*($E$7:$AI$7=1)) | BD52: =AW52+AX52+AY52+BC52-BA52-BB52
A53: 46 | B53: 46 | C53: عبد المصلح محمود عبد المصلح | D53: SO | E53: P | F53: P | G53: P | H53: P | I53: P | J53: P | K53: P | L53: P | M53: P | N53: P | O53: P | P53: P | Q53: P | R53: P | S53: P | T53: P | U53: P | V53: P | W53: P | X53: P | Y53: P | Z53: P | AA53: P | AB53: P | AC53: P | AD53: P | AE53: P | AF53: P | AG53: P | AJ53: =COUNTIF($E53:$AI53,"P") | AK53: =COUNTIF($E53:$AI53,"غ") | AL53: =COUNTIF($E53:$AI53,"إ") | AM53: =COUNTIF($E53:$AI53,"م") | AN53: =COUNTIF($E53:$AI53,"خ") | AO53: =COUNTIF($E53:$AI53,"د") | AP53: =IF(COUNTA($E53:$AI53)=0,0,SUMPRODUCT(($E$5:$AI$5<>"")*($E53:$AI53=""))) | AQ53: =SUMPRODUCT(SUMIF(الإعدادات!$A$14:$A$19,$E53:$AI53,الإعدادات!$C$14:$C$19)) | AR53: =AQ53+AP53 | AT53: =IF(COUNTA($E53:$AI53)=0,IF(AS53="",0,AS53),IF(AS53="",AR53,AS53)) | AU53: =IFERROR(VLOOKUP($B53,'بيانات الموظفين'!$B$7:$K$65,5,FALSE),0) | AV53: =IF(AU53=0,0,AU53/الإعدادات!$C$7) | AW53: =IF(AT53>=(COUNT($E$5:$AI$5)-الإعدادات!$C$6),AU53+AV53*(AT53-(COUNT($E$5:$AI$5)-الإعدادات!$C$6)),AV53*AT53) | AX53: =AQ53*IFERROR(VLOOKUP($B53,'بيانات الموظفين'!$B$7:$K$65,7,FALSE),الإعدادات!$C$8) | AY53: =IF(COUNTA($E53:$AI53)=0,0,IFERROR(VLOOKUP($B53,'بيانات الموظفين'!$B$7:$K$65,6,FALSE),0)) | BA53: =AZ53*AV53 | BC53: =AV53*الإعدادات!$C$9*SUMPRODUCT(SUMIF(الإعدادات!$A$14:$A$19,$E53:$AI53,الإعدادات!$C$14:$C$19)*($E$7:$AI$7=1)) | BD53: =AW53+AX53+AY53+BC53-BA53-BB53
A54: 47 | B54: 47 | C54: رضا كامل سليمان محمد | D54: SO | E54: P | F54: P | G54: P | H54: P | I54: P | J54: P | K54: P | L54: غ | M54: غ | N54: غ | O54: غ | P54: P | Q54: P | R54: P | S54: P | T54: P | U54: P | V54: P | W54: P | X54: P | Y54: P | Z54: P | AA54: P | AB54: P | AC54: P | AD54: P | AE54: P | AF54: P | AG54: P | AH54: P | AI54: P | AJ54: =COUNTIF($E54:$AI54,"P") | AK54: =COUNTIF($E54:$AI54,"غ") | AL54: =COUNTIF($E54:$AI54,"إ") | AM54: =COUNTIF($E54:$AI54,"م") | AN54: =COUNTIF($E54:$AI54,"خ") | AO54: =COUNTIF($E54:$AI54,"د") | AP54: =IF(COUNTA($E54:$AI54)=0,0,SUMPRODUCT(($E$5:$AI$5<>"")*($E54:$AI54=""))) | AQ54: =SUMPRODUCT(SUMIF(الإعدادات!$A$14:$A$19,$E54:$AI54,الإعدادات!$C$14:$C$19)) | AR54: =AQ54+AP54 | AT54: =IF(COUNTA($E54:$AI54)=0,IF(AS54="",0,AS54),IF(AS54="",AR54,AS54)) | AU54: =IFERROR(VLOOKUP($B54,'بيانات الموظفين'!$B$7:$K$65,5,FALSE),0) | AV54: =IF(AU54=0,0,AU54/الإعدادات!$C$7) | AW54: =IF(AT54>=(COUNT($E$5:$AI$5)-الإعدادات!$C$6),AU54+AV54*(AT54-(COUNT($E$5:$AI$5)-الإعدادات!$C$6)),AV54*AT54) | AX54: =AQ54*IFERROR(VLOOKUP($B54,'بيانات الموظفين'!$B$7:$K$65,7,FALSE),الإعدادات!$C$8) | AY54: =IF(COUNTA($E54:$AI54)=0,0,IFERROR(VLOOKUP($B54,'بيانات الموظفين'!$B$7:$K$65,6,FALSE),0)) | AZ54: 1 | BA54: =AZ54*AV54 | BC54: =AV54*الإعدادات!$C$9*SUMPRODUCT(SUMIF(الإعدادات!$A$14:$A$19,$E54:$AI54,الإعدادات!$C$14:$C$19)*($E$7:$AI$7=1)) | BD54: =AW54+AX54+AY54+BC54-BA54-BB54
A55: 48 | B55: 48 | C55: أحمد فرغلي شلبي إبراهيم | D55: SO | E55: P | F55: P | G55: P | H55: P | I55: P | J55: P | K55: P | L55: P | M55: P | N55: P | O55: P | P55: P | Q55: P | V55: P | W55: P | X55: P | Y55: P | Z55: P | AA55: غ | AB55: غ | AC55: غ | AD55: غ | AE55: غ | AF55: غ | AG55: P | AH55: P | AI55: P | AJ55: =COUNTIF($E55:$AI55,"P") | AK55: =COUNTIF($E55:$AI55,"غ") | AL55: =COUNTIF($E55:$AI55,"إ") | AM55: =COUNTIF($E55:$AI55,"م") | AN55: =COUNTIF($E55:$AI55,"خ") | AO55: =COUNTIF($E55:$AI55,"د") | AP55: =IF(COUNTA($E55:$AI55)=0,0,SUMPRODUCT(($E$5:$AI$5<>"")*($E55:$AI55=""))) | AQ55: =SUMPRODUCT(SUMIF(الإعدادات!$A$14:$A$19,$E55:$AI55,الإعدادات!$C$14:$C$19)) | AR55: =AQ55+AP55 | AT55: =IF(COUNTA($E55:$AI55)=0,IF(AS55="",0,AS55),IF(AS55="",AR55,AS55)) | AU55: =IFERROR(VLOOKUP($B55,'بيانات الموظفين'!$B$7:$K$65,5,FALSE),0) | AV55: =IF(AU55=0,0,AU55/الإعدادات!$C$7) | AW55: =IF(AT55>=(COUNT($E$5:$AI$5)-الإعدادات!$C$6),AU55+AV55*(AT55-(COUNT($E$5:$AI$5)-الإعدادات!$C$6)),AV55*AT55) | AX55: =AQ55*IFERROR(VLOOKUP($B55,'بيانات الموظفين'!$B$7:$K$65,7,FALSE),الإعدادات!$C$8) | AY55: =IF(COUNTA($E55:$AI55)=0,0,IFERROR(VLOOKUP($B55,'بيانات الموظفين'!$B$7:$K$65,6,FALSE),0)) | AZ55: 1 | BA55: =AZ55*AV55 | BC55: =AV55*الإعدادات!$C$9*SUMPRODUCT(SUMIF(الإعدادات!$A$14:$A$19,$E55:$AI55,الإعدادات!$C$14:$C$19)*($E$7:$AI$7=1)) | BD55: =AW55+AX55+AY55+BC55-BA55-BB55
A56: 49 | B56: 49 | C56: أحمد السيد محمد عوض الله | D56: SO | E56: P | F56: P | G56: P | H56: P | I56: P | K56: P | M56: P | N56: P | O56: P | P56: P | Q56: P | R56: P | S56: P | T56: P | V56: P | W56: P | X56: P | Y56: P | Z56: غ | AA56: P | AB56: P | AC56: P | AD56: P | AE56: P | AF56: P | AG56: غ | AH56: P | AI56: P | AJ56: =COUNTIF($E56:$AI56,"P") | AK56: =COUNTIF($E56:$AI56,"غ") | AL56: =COUNTIF($E56:$AI56,"إ") | AM56: =COUNTIF($E56:$AI56,"م") | AN56: =COUNTIF($E56:$AI56,"خ") | AO56: =COUNTIF($E56:$AI56,"د") | AP56: =IF(COUNTA($E56:$AI56)=0,0,SUMPRODUCT(($E$5:$AI$5<>"")*($E56:$AI56=""))) | AQ56: =SUMPRODUCT(SUMIF(الإعدادات!$A$14:$A$19,$E56:$AI56,الإعدادات!$C$14:$C$19)) | AR56: =AQ56+AP56 | AT56: =IF(COUNTA($E56:$AI56)=0,IF(AS56="",0,AS56),IF(AS56="",AR56,AS56)) | AU56: =IFERROR(VLOOKUP($B56,'بيانات الموظفين'!$B$7:$K$65,5,FALSE),0) | AV56: =IF(AU56=0,0,AU56/الإعدادات!$C$7) | AW56: =IF(AT56>=(COUNT($E$5:$AI$5)-الإعدادات!$C$6),AU56+AV56*(AT56-(COUNT($E$5:$AI$5)-الإعدادات!$C$6)),AV56*AT56) | AX56: =AQ56*IFERROR(VLOOKUP($B56,'بيانات الموظفين'!$B$7:$K$65,7,FALSE),الإعدادات!$C$8) | AY56: =IF(COUNTA($E56:$AI56)=0,0,IFERROR(VLOOKUP($B56,'بيانات الموظفين'!$B$7:$K$65,6,FALSE),0)) | AZ56: 0.5 | BA56: =AZ56*AV56 | BC56: =AV56*الإعدادات!$C$9*SUMPRODUCT(SUMIF(الإعدادات!$A$14:$A$19,$E56:$AI56,الإعدادات!$C$14:$C$19)*($E$7:$AI$7=1)) | BD56: =AW56+AX56+AY56+BC56-BA56-BB56
A57: 50 | B57: 50 | C57: رمضان عبد اللطيف محمد السيد | D57: SO | E57: P | F57: P | G57: P | H57: P | I57: P | J57: P | K57: P | L57: P | M57: P | N57: P | O57: P | P57: P | Q57: P | R57: P | AJ57: =COUNTIF($E57:$AI57,"P") | AK57: =COUNTIF($E57:$AI57,"غ") | AL57: =COUNTIF($E57:$AI57,"إ") | AM57: =COUNTIF($E57:$AI57,"م") | AN57: =COUNTIF($E57:$AI57,"خ") | AO57: =COUNTIF($E57:$AI57,"د") | AP57: =IF(COUNTA($E57:$AI57)=0,0,SUMPRODUCT(($E$5:$AI$5<>"")*($E57:$AI57=""))) | AQ57: =SUMPRODUCT(SUMIF(الإعدادات!$A$14:$A$19,$E57:$AI57,الإعدادات!$C$14:$C$19)) | AR57: =AQ57+AP57 | AS57: 25 | AT57: =IF(COUNTA($E57:$AI57)=0,IF(AS57="",0,AS57),IF(AS57="",AR57,AS57)) | AU57: =IFERROR(VLOOKUP($B57,'بيانات الموظفين'!$B$7:$K$65,5,FALSE),0) | AV57: =IF(AU57=0,0,AU57/الإعدادات!$C$7) | AW57: =IF(AT57>=(COUNT($E$5:$AI$5)-الإعدادات!$C$6),AU57+AV57*(AT57-(COUNT($E$5:$AI$5)-الإعدادات!$C$6)),AV57*AT57) | AX57: =AQ57*IFERROR(VLOOKUP($B57,'بيانات الموظفين'!$B$7:$K$65,7,FALSE),الإعدادات!$C$8) | AY57: =IF(COUNTA($E57:$AI57)=0,0,IFERROR(VLOOKUP($B57,'بيانات الموظفين'!$B$7:$K$65,6,FALSE),0)) | BA57: =AZ57*AV57 | BC57: =AV57*الإعدادات!$C$9*SUMPRODUCT(SUMIF(الإعدادات!$A$14:$A$19,$E57:$AI57,الإعدادات!$C$14:$C$19)*($E$7:$AI$7=1)) | BD57: =AW57+AX57+AY57+BC57-BA57-BB57
A58: 51 | B58: 51 | C58: محمد عطوه محمود الجندي | D58: SO | E58: P | F58: P | G58: P | H58: P | I58: P | J58: P | K58: P | L58: P | M58: P | N58: P | O58: P | P58: P | Q58: P | R58: P | S58: P | U58: P | V58: P | W58: P | X58: P | Y58: P | Z58: P | AA58: P | AB58: P | AC58: P | AD58: P | AE58: P | AF58: P | AH58: P | AI58: P | AJ58: =COUNTIF($E58:$AI58,"P") | AK58: =COUNTIF($E58:$AI58,"غ") | AL58: =COUNTIF($E58:$AI58,"إ") | AM58: =COUNTIF($E58:$AI58,"م") | AN58: =COUNTIF($E58:$AI58,"خ") | AO58: =COUNTIF($E58:$AI58,"د") | AP58: =IF(COUNTA($E58:$AI58)=0,0,SUMPRODUCT(($E$5:$AI$5<>"")*($E58:$AI58=""))) | AQ58: =SUMPRODUCT(SUMIF(الإعدادات!$A$14:$A$19,$E58:$AI58,الإعدادات!$C$14:$C$19)) | AR58: =AQ58+AP58 | AT58: =IF(COUNTA($E58:$AI58)=0,IF(AS58="",0,AS58),IF(AS58="",AR58,AS58)) | AU58: =IFERROR(VLOOKUP($B58,'بيانات الموظفين'!$B$7:$K$65,5,FALSE),0) | AV58: =IF(AU58=0,0,AU58/الإعدادات!$C$7) | AW58: =IF(AT58>=(COUNT($E$5:$AI$5)-الإعدادات!$C$6),AU58+AV58*(AT58-(COUNT($E$5:$AI$5)-الإعدادات!$C$6)),AV58*AT58) | AX58: =AQ58*IFERROR(VLOOKUP($B58,'بيانات الموظفين'!$B$7:$K$65,7,FALSE),الإعدادات!$C$8) | AY58: =IF(COUNTA($E58:$AI58)=0,0,IFERROR(VLOOKUP($B58,'بيانات الموظفين'!$B$7:$K$65,6,FALSE),0)) | BA58: =AZ58*AV58 | BC58: =AV58*الإعدادات!$C$9*SUMPRODUCT(SUMIF(الإعدادات!$A$14:$A$19,$E58:$AI58,الإعدادات!$C$14:$C$19)*($E$7:$AI$7=1)) | BD58: =AW58+AX58+AY58+BC58-BA58-BB58
A59: 52 | B59: 52 | C59: نبيل علي إبراهيم | D59: SO | E59: P | F59: P | G59: P | H59: P | I59: P | J59: P | K59: P | L59: P | M59: P | N59: P | O59: P | P59: P | Q59: P | R59: P | S59: P | T59: P | U59: P | V59: P | W59: P | X59: P | Y59: P | Z59: P | AA59: P | AB59: P | AC59: P | AD59: P | AE59: P | AF59: P | AG59: P | AH59: P | AI59: P | AJ59: =COUNTIF($E59:$AI59,"P") | AK59: =COUNTIF($E59:$AI59,"غ") | AL59: =COUNTIF($E59:$AI59,"إ") | AM59: =COUNTIF($E59:$AI59,"م") | AN59: =COUNTIF($E59:$AI59,"خ") | AO59: =COUNTIF($E59:$AI59,"د") | AP59: =IF(COUNTA($E59:$AI59)=0,0,SUMPRODUCT(($E$5:$AI$5<>"")*($E59:$AI59=""))) | AQ59: =SUMPRODUCT(SUMIF(الإعدادات!$A$14:$A$19,$E59:$AI59,الإعدادات!$C$14:$C$19)) | AR59: =AQ59+AP59 | AT59: =IF(COUNTA($E59:$AI59)=0,IF(AS59="",0,AS59),IF(AS59="",AR59,AS59)) | AU59: =IFERROR(VLOOKUP($B59,'بيانات الموظفين'!$B$7:$K$65,5,FALSE),0) | AV59: =IF(AU59=0,0,AU59/الإعدادات!$C$7) | AW59: =IF(AT59>=(COUNT($E$5:$AI$5)-الإعدادات!$C$6),AU59+AV59*(AT59-(COUNT($E$5:$AI$5)-الإعدادات!$C$6)),AV59*AT59) | AX59: =AQ59*IFERROR(VLOOKUP($B59,'بيانات الموظفين'!$B$7:$K$65,7,FALSE),الإعدادات!$C$8) | AY59: =IF(COUNTA($E59:$AI59)=0,0,IFERROR(VLOOKUP($B59,'بيانات الموظفين'!$B$7:$K$65,6,FALSE),0)) | BA59: =AZ59*AV59 | BC59: =AV59*الإعدادات!$C$9*SUMPRODUCT(SUMIF(الإعدادات!$A$14:$A$19,$E59:$AI59,الإعدادات!$C$14:$C$19)*($E$7:$AI$7=1)) | BD59: =AW59+AX59+AY59+BC59-BA59-BB59
A60: 53 | B60: 53 | C60: محمد إبراهيم مصطفي | D60: SO | E60: P | F60: P | G60: P | H60: P | I60: P | J60: P | K60: P | L60: P | M60: P | N60: P | O60: P | P60: غ | Q60: P | R60: P | S60: P | T60: P | U60: P | V60: P | W60: P | X60: P | Y60: P | Z60: P | AA60: P | AB60: P | AC60: P | AD60: P | AE60: P | AF60: P | AG60: P | AH60: P | AI60: P | AJ60: =COUNTIF($E60:$AI60,"P") | AK60: =COUNTIF($E60:$AI60,"غ") | AL60: =COUNTIF($E60:$AI60,"إ") | AM60: =COUNTIF($E60:$AI60,"م") | AN60: =COUNTIF($E60:$AI60,"خ") | AO60: =COUNTIF($E60:$AI60,"د") | AP60: =IF(COUNTA($E60:$AI60)=0,0,SUMPRODUCT(($E$5:$AI$5<>"")*($E60:$AI60=""))) | AQ60: =SUMPRODUCT(SUMIF(الإعدادات!$A$14:$A$19,$E60:$AI60,الإعدادات!$C$14:$C$19)) | AR60: =AQ60+AP60 | AT60: =IF(COUNTA($E60:$AI60)=0,IF(AS60="",0,AS60),IF(AS60="",AR60,AS60)) | AU60: =IFERROR(VLOOKUP($B60,'بيانات الموظفين'!$B$7:$K$65,5,FALSE),0) | AV60: =IF(AU60=0,0,AU60/الإعدادات!$C$7) | AW60: =IF(AT60>=(COUNT($E$5:$AI$5)-الإعدادات!$C$6),AU60+AV60*(AT60-(COUNT($E$5:$AI$5)-الإعدادات!$C$6)),AV60*AT60) | AX60: =AQ60*IFERROR(VLOOKUP($B60,'بيانات الموظفين'!$B$7:$K$65,7,FALSE),الإعدادات!$C$8) | AY60: =IF(COUNTA($E60:$AI60)=0,0,IFERROR(VLOOKUP($B60,'بيانات الموظفين'!$B$7:$K$65,6,FALSE),0)) | AZ60: 0.5 | BA60: =AZ60*AV60 | BC60: =AV60*الإعدادات!$C$9*SUMPRODUCT(SUMIF(الإعدادات!$A$14:$A$19,$E60:$AI60,الإعدادات!$C$14:$C$19)*($E$7:$AI$7=1)) | BD60: =AW60+AX60+AY60+BC60-BA60-BB60
A61: 54 | B61: 54 | C61: بلال أحمد شوقي | D61: SO | E61: P | F61: P | G61: P | H61: P | I61: P | J61: غ | K61: غ | L61: غ | M61: غ | N61: غ | O61: غ | P61: غ | Q61: غ | R61: غ | S61: غ | T61: غ | U61: غ | V61: غ | W61: غ | X61: غ | Y61: غ | Z61: غ | AA61: غ | AB61: غ | AC61: غ | AD61: غ | AE61: غ | AF61: غ | AG61: غ | AH61: غ | AI61: غ | AJ61: =COUNTIF($E61:$AI61,"P") | AK61: =COUNTIF($E61:$AI61,"غ") | AL61: =COUNTIF($E61:$AI61,"إ") | AM61: =COUNTIF($E61:$AI61,"م") | AN61: =COUNTIF($E61:$AI61,"خ") | AO61: =COUNTIF($E61:$AI61,"د") | AP61: =IF(COUNTA($E61:$AI61)=0,0,SUMPRODUCT(($E$5:$AI$5<>"")*($E61:$AI61=""))) | AQ61: =SUMPRODUCT(SUMIF(الإعدادات!$A$14:$A$19,$E61:$AI61,الإعدادات!$C$14:$C$19)) | AR61: =AQ61+AP61 | AT61: =IF(COUNTA($E61:$AI61)=0,IF(AS61="",0,AS61),IF(AS61="",AR61,AS61)) | AU61: =IFERROR(VLOOKUP($B61,'بيانات الموظفين'!$B$7:$K$65,5,FALSE),0) | AV61: =IF(AU61=0,0,AU61/الإعدادات!$C$7) | AW61: =IF(AT61>=(COUNT($E$5:$AI$5)-الإعدادات!$C$6),AU61+AV61*(AT61-(COUNT($E$5:$AI$5)-الإعدادات!$C$6)),AV61*AT61) | AX61: =AQ61*IFERROR(VLOOKUP($B61,'بيانات الموظفين'!$B$7:$K$65,7,FALSE),الإعدادات!$C$8) | AY61: =IF(COUNTA($E61:$AI61)=0,0,IFERROR(VLOOKUP($B61,'بيانات الموظفين'!$B$7:$K$65,6,FALSE),0)) | AZ61: 2 | BA61: =AZ61*AV61 | BC61: =AV61*الإعدادات!$C$9*SUMPRODUCT(SUMIF(الإعدادات!$A$14:$A$19,$E61:$AI61,الإعدادات!$C$14:$C$19)*($E$7:$AI$7=1)) | BD61: =AW61+AX61+AY61+BC61-BA61-BB61
A62: 55 | B62: 55 | C62: محمود علي محمد علي | D62: SO | I62: P | J62: P | K62: P | L62: P | M62: P | N62: P | O62: P | P62: P | Q62: غ | R62: غ | S62: غ | T62: غ | U62: غ | V62: غ | W62: غ | X62: غ | Y62: غ | Z62: غ | AA62: غ | AB62: غ | AC62: غ | AD62: غ | AE62: غ | AF62: غ | AG62: غ | AH62: غ | AI62: غ | AJ62: =COUNTIF($E62:$AI62,"P") | AK62: =COUNTIF($E62:$AI62,"غ") | AL62: =COUNTIF($E62:$AI62,"إ") | AM62: =COUNTIF($E62:$AI62,"م") | AN62: =COUNTIF($E62:$AI62,"خ") | AO62: =COUNTIF($E62:$AI62,"د") | AP62: =IF(COUNTA($E62:$AI62)=0,0,SUMPRODUCT(($E$5:$AI$5<>"")*($E62:$AI62=""))) | AQ62: =SUMPRODUCT(SUMIF(الإعدادات!$A$14:$A$19,$E62:$AI62,الإعدادات!$C$14:$C$19)) | AR62: =AQ62+AP62 | AS62: 8 | AT62: =IF(COUNTA($E62:$AI62)=0,IF(AS62="",0,AS62),IF(AS62="",AR62,AS62)) | AU62: =IFERROR(VLOOKUP($B62,'بيانات الموظفين'!$B$7:$K$65,5,FALSE),0) | AV62: =IF(AU62=0,0,AU62/الإعدادات!$C$7) | AW62: =IF(AT62>=(COUNT($E$5:$AI$5)-الإعدادات!$C$6),AU62+AV62*(AT62-(COUNT($E$5:$AI$5)-الإعدادات!$C$6)),AV62*AT62) | AX62: =AQ62*IFERROR(VLOOKUP($B62,'بيانات الموظفين'!$B$7:$K$65,7,FALSE),الإعدادات!$C$8) | AY62: =IF(COUNTA($E62:$AI62)=0,0,IFERROR(VLOOKUP($B62,'بيانات الموظفين'!$B$7:$K$65,6,FALSE),0)) | AZ62: 3 | BA62: =AZ62*AV62 | BC62: =AV62*الإعدادات!$C$9*SUMPRODUCT(SUMIF(الإعدادات!$A$14:$A$19,$E62:$AI62,الإعدادات!$C$14:$C$19)*($E$7:$AI$7=1)) | BD62: =AW62+AX62+AY62+BC62-BA62-BB62
A63: 56 | B63: 56 | C63: رضا بسيوني إبراهيم | D63: SO | T63: P | U63: P | V63: P | W63: P | X63: P | Y63: P | Z63: P | AA63: P | AB63: P | AC63: P | AD63: P | AE63: P | AF63: P | AG63: P | AH63: P | AI63: P | AJ63: =COUNTIF($E63:$AI63,"P") | AK63: =COUNTIF($E63:$AI63,"غ") | AL63: =COUNTIF($E63:$AI63,"إ") | AM63: =COUNTIF($E63:$AI63,"م") | AN63: =COUNTIF($E63:$AI63,"خ") | AO63: =COUNTIF($E63:$AI63,"د") | AP63: =IF(COUNTA($E63:$AI63)=0,0,SUMPRODUCT(($E$5:$AI$5<>"")*($E63:$AI63=""))) | AQ63: =SUMPRODUCT(SUMIF(الإعدادات!$A$14:$A$19,$E63:$AI63,الإعدادات!$C$14:$C$19)) | AR63: =AQ63+AP63 | AS63: 18 | AT63: =IF(COUNTA($E63:$AI63)=0,IF(AS63="",0,AS63),IF(AS63="",AR63,AS63)) | AU63: =IFERROR(VLOOKUP($B63,'بيانات الموظفين'!$B$7:$K$65,5,FALSE),0) | AV63: =IF(AU63=0,0,AU63/الإعدادات!$C$7) | AW63: =IF(AT63>=(COUNT($E$5:$AI$5)-الإعدادات!$C$6),AU63+AV63*(AT63-(COUNT($E$5:$AI$5)-الإعدادات!$C$6)),AV63*AT63) | AX63: =AQ63*IFERROR(VLOOKUP($B63,'بيانات الموظفين'!$B$7:$K$65,7,FALSE),الإعدادات!$C$8) | AY63: =IF(COUNTA($E63:$AI63)=0,0,IFERROR(VLOOKUP($B63,'بيانات الموظفين'!$B$7:$K$65,6,FALSE),0)) | BA63: =AZ63*AV63 | BC63: =AV63*الإعدادات!$C$9*SUMPRODUCT(SUMIF(الإعدادات!$A$14:$A$19,$E63:$AI63,الإعدادات!$C$14:$C$19)*($E$7:$AI$7=1)) | BD63: =AW63+AX63+AY63+BC63-BA63-BB63
A64: 57 | B64: 57 | C64: حسن صالح حسن إبراهيم | D64: SO | W64: P | X64: P | Y64: غ | Z64: غ | AA64: غ | AB64: غ | AC64: غ | AD64: غ | AE64: غ | AF64: غ | AG64: غ | AH64: غ | AI64: غ | AJ64: =COUNTIF($E64:$AI64,"P") | AK64: =COUNTIF($E64:$AI64,"غ") | AL64: =COUNTIF($E64:$AI64,"إ") | AM64: =COUNTIF($E64:$AI64,"م") | AN64: =COUNTIF($E64:$AI64,"خ") | AO64: =COUNTIF($E64:$AI64,"د") | AP64: =IF(COUNTA($E64:$AI64)=0,0,SUMPRODUCT(($E$5:$AI$5<>"")*($E64:$AI64=""))) | AQ64: =SUMPRODUCT(SUMIF(الإعدادات!$A$14:$A$19,$E64:$AI64,الإعدادات!$C$14:$C$19)) | AR64: =AQ64+AP64 | AS64: 2 | AT64: =IF(COUNTA($E64:$AI64)=0,IF(AS64="",0,AS64),IF(AS64="",AR64,AS64)) | AU64: =IFERROR(VLOOKUP($B64,'بيانات الموظفين'!$B$7:$K$65,5,FALSE),0) | AV64: =IF(AU64=0,0,AU64/الإعدادات!$C$7) | AW64: =IF(AT64>=(COUNT($E$5:$AI$5)-الإعدادات!$C$6),AU64+AV64*(AT64-(COUNT($E$5:$AI$5)-الإعدادات!$C$6)),AV64*AT64) | AX64: =AQ64*IFERROR(VLOOKUP($B64,'بيانات الموظفين'!$B$7:$K$65,7,FALSE),الإعدادات!$C$8) | AY64: =IF(COUNTA($E64:$AI64)=0,0,IFERROR(VLOOKUP($B64,'بيانات الموظفين'!$B$7:$K$65,6,FALSE),0)) | AZ64: 2 | BA64: =AZ64*AV64 | BC64: =AV64*الإعدادات!$C$9*SUMPRODUCT(SUMIF(الإعدادات!$A$14:$A$19,$E64:$AI64,الإعدادات!$C$14:$C$19)*($E$7:$AI$7=1)) | BD64: =AW64+AX64+AY64+BC64-BA64-BB64
A65: 58 | B65: 58 | C65: علي عبده السيد علي | D65: SO | AG65: P | AH65: P | AI65: P | AJ65: =COUNTIF($E65:$AI65,"P") | AK65: =COUNTIF($E65:$AI65,"غ") | AL65: =COUNTIF($E65:$AI65,"إ") | AM65: =COUNTIF($E65:$AI65,"م") | AN65: =COUNTIF($E65:$AI65,"خ") | AO65: =COUNTIF($E65:$AI65,"د") | AP65: =IF(COUNTA($E65:$AI65)=0,0,SUMPRODUCT(($E$5:$AI$5<>"")*($E65:$AI65=""))) | AQ65: =SUMPRODUCT(SUMIF(الإعدادات!$A$14:$A$19,$E65:$AI65,الإعدادات!$C$14:$C$19)) | AR65: =AQ65+AP65 | AS65: 3 | AT65: =IF(COUNTA($E65:$AI65)=0,IF(AS65="",0,AS65),IF(AS65="",AR65,AS65)) | AU65: =IFERROR(VLOOKUP($B65,'بيانات الموظفين'!$B$7:$K$65,5,FALSE),0) | AV65: =IF(AU65=0,0,AU65/الإعدادات!$C$7) | AW65: =IF(AT65>=(COUNT($E$5:$AI$5)-الإعدادات!$C$6),AU65+AV65*(AT65-(COUNT($E$5:$AI$5)-الإعدادات!$C$6)),AV65*AT65) | AX65: =AQ65*IFERROR(VLOOKUP($B65,'بيانات الموظفين'!$B$7:$K$65,7,FALSE),الإعدادات!$C$8) | AY65: =IF(COUNTA($E65:$AI65)=0,0,IFERROR(VLOOKUP($B65,'بيانات الموظفين'!$B$7:$K$65,6,FALSE),0)) | BA65: =AZ65*AV65 | BC65: =AV65*الإعدادات!$C$9*SUMPRODUCT(SUMIF(الإعدادات!$A$14:$A$19,$E65:$AI65,الإعدادات!$C$14:$C$19)*($E$7:$AI$7=1)) | BD65: =AW65+AX65+AY65+BC65-BA65-BB65
A66: 59 | B66: 59 | C66: حسن محمد حسن حسيني | D66: SO | R66: P | S66: P | T66: P | V66: P | W66: P | AJ66: =COUNTIF($E66:$AI66,"P") | AK66: =COUNTIF($E66:$AI66,"غ") | AL66: =COUNTIF($E66:$AI66,"إ") | AM66: =COUNTIF($E66:$AI66,"م") | AN66: =COUNTIF($E66:$AI66,"خ") | AO66: =COUNTIF($E66:$AI66,"د") | AP66: =IF(COUNTA($E66:$AI66)=0,0,SUMPRODUCT(($E$5:$AI$5<>"")*($E66:$AI66=""))) | AQ66: =SUMPRODUCT(SUMIF(الإعدادات!$A$14:$A$19,$E66:$AI66,الإعدادات!$C$14:$C$19)) | AR66: =AQ66+AP66 | AS66: 5 | AT66: =IF(COUNTA($E66:$AI66)=0,IF(AS66="",0,AS66),IF(AS66="",AR66,AS66)) | AU66: =IFERROR(VLOOKUP($B66,'بيانات الموظفين'!$B$7:$K$65,5,FALSE),0) | AV66: =IF(AU66=0,0,AU66/الإعدادات!$C$7) | AW66: =IF(AT66>=(COUNT($E$5:$AI$5)-الإعدادات!$C$6),AU66+AV66*(AT66-(COUNT($E$5:$AI$5)-الإعدادات!$C$6)),AV66*AT66) | AX66: =AQ66*IFERROR(VLOOKUP($B66,'بيانات الموظفين'!$B$7:$K$65,7,FALSE),الإعدادات!$C$8) | AY66: =IF(COUNTA($E66:$AI66)=0,0,IFERROR(VLOOKUP($B66,'بيانات الموظفين'!$B$7:$K$65,6,FALSE),0)) | BA66: =AZ66*AV66 | BC66: =AV66*الإعدادات!$C$9*SUMPRODUCT(SUMIF(الإعدادات!$A$14:$A$19,$E66:$AI66,الإعدادات!$C$14:$C$19)*($E$7:$AI$7=1)) | BD66: =AW66+AX66+AY66+BC66-BA66-BB66
A67: الإجمالي — 59 موظفًا | AJ67: =SUM(AJ8:AJ66) | AK67: =SUM(AK8:AK66) | AL67: =SUM(AL8:AL66) | AM67: =SUM(AM8:AM66) | AN67: =SUM(AN8:AN66) | AO67: =SUM(AO8:AO66) | AP67: =SUM(AP8:AP66) | AQ67: =SUM(AQ8:AQ66) | ... AU67: =SUM(AU8:AU66) | AW67: =SUM(AW8:AW66) | AX67: =SUM(AX8:AX66) | AY67: =SUM(AY8:AY66) | AZ67: =SUM(AZ8:AZ66) | BA67: =SUM(BA8:BA66) | BB67: =SUM(BB8:BB66) | BC67: =SUM(BC8:BC66) | BD67: =SUM(BD8:BD66)
A69: طريقة الحساب: قيمة اليوم = الراتب الأساسي ÷ 30 • أجر الأيام = قيمة اليوم × الأيام النهائية، وإذا زادت الأيام عن أيام المعيار (أيام الشهر − 4) يُضاف الفرق بأجر اليوم • الوجبات = أيام الحضور × بدل الوجبة اليومي • بدل العطلة = قيمة اليوم × 2 لكل يوم عطلة حضر فيه الموظف • الصافي = أجر الأيام + الوجبات + بدل التأمين + بدل العطلة − قيمة الجزاء − أي خصم آخر • عمود «تعديل يدوي» للموظف الجديد أو منتصف الشهر ويُلغي الحساب التلقائي للأيام. تنبيه: الخانة الفارغة تُعدّ يوم راحة مدفوعًا — لا تترك يوم غياب فارغًا، بل سجّله «غ».
A71: إعداد المحاسب: ________________ | S71: مراجعة: ________________ | AK71: اعتماد المدير: ________________

Sheet 08-أغسطس
A1: مسير رواتب شهر أغسطس 2026 — شركة أرمسترونج | فرع 10 رمضان | موقع التجمعات
A2: أيام الشهر: 31 • أيام المعيار: 27 • بدل الوجبة: 30 ج.م/يوم • قيمة اليوم = الأساسي ÷ 30 • معامل العطلة: 2
A3: الرموز: P حاضر • غ غياب • إ إجازة • م مرضية • خ نصف يوم • د دبل شيفت — والخانة الفارغة = راحة (تُحتسب ضمن الشهر ولا تُحتسب حضورًا)
A5: م | B5: الكود | C5: اسم الموظف | D5: الوظيفة | E5: 1 | F5: 2 | G5: 3 | H5: 4 | I5: 5 | J5: 6 | K5: 7 | L5: 8 | M5: 9 | N5: 10 | O5: 11 | P5: 12 | Q5: 13 | R5: 14 | S5: 15 | T5: 16 | U5: 17 | V5: 18 | W5: 19 | X5: 20 | Y5: 21 | Z5: 22 | AA5: 23 | AB5: 24 | AC5: 25 | AD5: 26 | AE5: 27 | AF5: 28 | AG5: 29 | AH5: 30 | AI5: 31 | AJ5: بيانات الحضور | AR5: أيام الاستحقاق | AU5: الأجر | AX5: البدلات | AZ5: الاستقطاعات | BC5: بدل العطلة | BD5: الصافي المستحق
E6: س | F6: أ | G6: ن | H6: ث | I6: ر | J6: خ | K6: ج | L6: س | M6: أ | N6: ن | O6: ث | P6: ر | Q6: خ | R6: ج | S6: س | T6: أ | U6: ن | V6: ث | W6: ر | X6: خ | Y6: ج | Z6: س | AA6: أ | AB6: ن | AC6: ث | AD6: ر | AE6: خ | AF6: ج | AG6: س | AH6: أ | AI6: ن | AJ6: حاضر | AK6: غياب | AL6: إجازة | AM6: مرضية | AN6: نصف يوم | AO6: دبل | AP6: راحة (فراغ) | AQ6: أيام الحضور | AR6: أيام محتسبة (تلقائي) | AS6: تعديل يدوي | AT6: الأيام النهائية | AU6: الراتب الأساسي | AV6: قيمة اليوم | AW6: أجر الأيام | AX6: الوجبات | AY6: بدل التأمين (+) | AZ6: جزاء (أيام) | BA6: قيمة الجزاء | BB6: خصم آخر (مبلغ)
A7: عطلة رسمية (1 = يوم عطلة مدفوع بالمعامل) | E7: =IF(COUNTIFS(الإعدادات!$B$23:$B$60,8,الإعدادات!$C$23:$C$60,E$5)>0,1,0) | F7: =IF(COUNTIFS(الإعدادات!$B$23:$B$60,8,الإعدادات!$C$23:$C$60,F$5)>0,1,0) | G7: =IF(COUNTIFS(الإعدادات!$B$23:$B$60,8,الإعدادات!$C$23:$C$60,G$5)>0,1,0) | H7: =IF(COUNTIFS(الإعدادات!$B$23:$B$60,8,الإعدادات!$C$23:$C$60,H$5)>0,1,0) | I7: =IF(COUNTIFS(الإعدادات!$B$23:$B$60,8,الإعدادات!$C$23:$C$60,I$5)>0,1,0) | J7: =IF(COUNTIFS(الإعدادات!$B$23:$B$60,8,الإعدادات!$C$23:$C$60,J$5)>0,1,0) | K7: =IF(COUNTIFS(الإعدادات!$B$23:$B$60,8,الإعدادات!$C$23:$C$60,K$5)>0,1,0) | L7: =IF(COUNTIFS(الإعدادات!$B$23:$B$60,8,الإعدادات!$C$23:$C$60,L$5)>0,1,0) | ... AI7: =IF(COUNTIFS(الإعدادات!$B$23:$B$60,8,الإعدادات!$C$23:$C$60,AI$5)>0,1,0)
A8: 1 | B8: 1 | C8: صابر محمود محمد حسن | D8: SO | AJ8: =COUNTIF($E8:$AI8,"P") | AK8: =COUNTIF($E8:$AI8,"غ") | AL8: =COUNTIF($E8:$AI8,"إ") | AM8: =COUNTIF($E8:$AI8,"م") | AN8: =COUNTIF($E8:$AI8,"خ") | AO8: =COUNTIF($E8:$AI8,"د") | AP8: =IF(COUNTA($E8:$AI8)=0,0,SUMPRODUCT(($E$5:$AI$5<>"")*($E8:$AI8=""))) | AQ8: =SUMPRODUCT(SUMIF(الإعدادات!$A$14:$A$19,$E8:$AI8,الإعدادات!$C$14:$C$19)) | AR8: =AQ8+AP8 | AT8: =IF(COUNTA($E8:$AI8)=0,IF(AS8="",0,AS8),IF(AS8="",AR8,AS8)) | AU8: =IFERROR(VLOOKUP($B8,'بيانات الموظفين'!$B$7:$K$65,5,FALSE),0) | AV8: =IF(AU8=0,0,AU8/الإعدادات!$C$7) | AW8: =IF(AT8>=(COUNT($E$5:$AI$5)-الإعدادات!$C$6),AU8+AV8*(AT8-(COUNT($E$5:$AI$5)-الإعدادات!$C$6)),AV8*AT8) | AX8: =AQ8*IFERROR(VLOOKUP($B8,'بيانات الموظفين'!$B$7:$K$65,7,FALSE),الإعدادات!$C$8) | AY8: =IF(COUNTA($E8:$AI8)=0,0,IFERROR(VLOOKUP($B8,'بيانات الموظفين'!$B$7:$K$65,6,FALSE),0)) | BA8: =AZ8*AV8 | BC8: =AV8*الإعدادات!$C$9*SUMPRODUCT(SUMIF(الإعدادات!$A$14:$A$19,$E8:$AI8,الإعدادات!$C$14:$C$19)*($E$7:$AI$7=1)) | BD8: =AW8+AX8+AY8+BC8-BA8-BB8
A9: 2 | B9: 2 | C9: ناجي محمد حسن ابو العزم | D9: SO | AJ9: =COUNTIF($E9:$AI9,"P") | AK9: =COUNTIF($E9:$AI9,"غ") | AL9: =COUNTIF($E9:$AI9,"إ") | AM9: =COUNTIF($E9:$AI9,"م") | AN9: =COUNTIF($E9:$AI9,"خ") | AO9: =COUNTIF($E9:$AI9,"د") | AP9: =IF(COUNTA($E9:$AI9)=0,0,SUMPRODUCT(($E$5:$AI$5<>"")*($E9:$AI9=""))) | AQ9: =SUMPRODUCT(SUMIF(الإعدادات!$A$14:$A$19,$E9:$AI9,الإعدادات!$C$14:$C$19)) | AR9: =AQ9+AP9 | AT9: =IF(COUNTA($E9:$AI9)=0,IF(AS9="",0,AS9),IF(AS9="",AR9,AS9)) | AU9: =IFERROR(VLOOKUP($B9,'بيانات الموظفين'!$B$7:$K$65,5,FALSE),0) | AV9: =IF(AU9=0,0,AU9/الإعدادات!$C$7) | AW9: =IF(AT9>=(COUNT($E$5:$AI$5)-الإعدادات!$C$6),AU9+AV9*(AT9-(COUNT($E$5:$AI$5)-الإعدادات!$C$6)),AV9*AT9) | AX9: =AQ9*IFERROR(VLOOKUP($B9,'بيانات الموظفين'!$B$7:$K$65,7,FALSE),الإعدادات!$C$8) | AY9: =IF(COUNTA($E9:$AI9)=0,0,IFERROR(VLOOKUP($B9,'بيانات الموظفين'!$B$7:$K$65,6,FALSE),0)) | BA9: =AZ9*AV9 | BC9: =AV9*الإعدادات!$C$9*SUMPRODUCT(SUMIF(الإعدادات!$A$14:$A$19,$E9:$AI9,الإعدادات!$C$14:$C$19)*($E$7:$AI$7=1)) | BD9: =AW9+AX9+AY9+BC9-BA9-BB9
A10: 3 | B10: 3 | C10: طه سامي طه تله | D10: SO | AJ10: =COUNTIF($E10:$AI10,"P") | AK10: =COUNTIF($E10:$AI10,"غ") | AL10: =COUNTIF($E10:$AI10,"إ") | AM10: =COUNTIF($E10:$AI10,"م") | AN10: =COUNTIF($E10:$AI10,"خ") | AO10: =COUNTIF($E10:$AI10,"د") | AP10: =IF(COUNTA($E10:$AI10)=0,0,SUMPRODUCT(($E$5:$AI$5<>"")*($E10:$AI10=""))) | AQ10: =SUMPRODUCT(SUMIF(الإعدادات!$A$14:$A$19,$E10:$AI10,الإعدادات!$C$14:$C$19)) | AR10: =AQ10+AP10 | AT10: =IF(COUNTA($E10:$AI10)=0,IF(AS10="",0,AS10),IF(AS10="",AR10,AS10)) | AU10: =IFERROR(VLOOKUP($B10,'بيانات الموظفين'!$B$7:$K$65,5,FALSE),0) | AV10: =IF(AU10=0,0,AU10/الإعدادات!$C$7) | AW10: =IF(AT10>=(COUNT($E$5:$AI$5)-الإعدادات!$C$6),AU10+AV10*(AT10-(COUNT($E$5:$AI$5)-الإعدادات!$C$6)),AV10*AT10) | AX10: =AQ10*IFERROR(VLOOKUP($B10,'بيانات الموظفين'!$B$7:$K$65,7,FALSE),الإعدادات!$C$8) | AY10: =IF(COUNTA($E10:$AI10)=0,0,IFERROR(VLOOKUP($B10,'بيانات الموظفين'!$B$7:$K$65,6,FALSE),0)) | BA10: =AZ10*AV10 | BC10: =AV10*الإعدادات!$C$9*SUMPRODUCT(SUMIF(الإعدادات!$A$14:$A$19,$E10:$AI10,الإعدادات!$C$14:$C$19)*($E$7:$AI$7=1)) | BD10: =AW10+AX10+AY10+BC10-BA10-BB10
A11: 4 | B11: 4 | C11: مصطفي ربيع محمد حسن | D11: SO | AJ11: =COUNTIF($E11:$AI11,"P") | AK11: =COUNTIF($E11:$AI11,"غ") | AL11: =COUNTIF($E11:$AI11,"إ") | AM11: =COUNTIF($E11:$AI11,"م") | AN11: =COUNTIF($E11:$AI11,"خ") | AO11: =COUNTIF($E11:$AI11,"د") | AP11: =IF(COUNTA($E11:$AI11)=0,0,SUMPRODUCT(($E$5:$AI$5<>"")*($E11:$AI11=""))) | AQ11: =SUMPRODUCT(SUMIF(الإعدادات!$A$14:$A$19,$E11:$AI11,الإعدادات!$C$14:$C$19)) | AR11: =AQ11+AP11 | AT11: =IF(COUNTA($E11:$AI11)=0,IF(AS11="",0,AS11),IF(AS11="",AR11,AS11)) | AU11: =IFERROR(VLOOKUP($B11,'بيانات الموظفين'!$B$7:$K$65,5,FALSE),0) | AV11: =IF(AU11=0,0,AU11/الإعدادات!$C$7) | AW11: =IF(AT11>=(COUNT($E$5:$AI$5)-الإعدادات!$C$6),AU11+AV11*(AT11-(COUNT($E$5:$AI$5)-الإعدادات!$C$6)),AV11*AT11) | AX11: =AQ11*IFERROR(VLOOKUP($B11,'بيانات الموظفين'!$B$7:$K$65,7,FALSE),الإعدادات!$C$8) | AY11: =IF(COUNTA($E11:$AI11)=0,0,IFERROR(VLOOKUP($B11,'بيانات الموظفين'!$B$7:$K$65,6,FALSE),0)) | BA11: =AZ11*AV11 | BC11: =AV11*الإعدادات!$C$9*SUMPRODUCT(SUMIF(الإعدادات!$A$14:$A$19,$E11:$AI11,الإعدادات!$C$14:$C$19)*($E$7:$AI$7=1)) | BD11: =AW11+AX11+AY11+BC11-BA11-BB11
A12: 5 | B12: 5 | C12: محمد محمود خليل غنيم | D12: SO | AJ12: =COUNTIF($E12:$AI12,"P") | AK12: =COUNTIF($E12:$AI12,"غ") | AL12: =COUNTIF($E12:$AI12,"إ") | AM12: =COUNTIF($E12:$AI12,"م") | AN12: =COUNTIF($E12:$AI12,"خ") | AO12: =COUNTIF($E12:$AI12,"د") | AP12: =IF(COUNTA($E12:$AI12)=0,0,SUMPRODUCT(($E$5:$AI$5<>"")*($E12:$AI12=""))) | AQ12: =SUMPRODUCT(SUMIF(الإعدادات!$A$14:$A$19,$E12:$AI12,الإعدادات!$C$14:$C$19)) | AR12: =AQ12+AP12 | AT12: =IF(COUNTA($E12:$AI12)=0,IF(AS12="",0,AS12),IF(AS12="",AR12,AS12)) | AU12: =IFERROR(VLOOKUP($B12,'بيانات الموظفين'!$B$7:$K$65,5,FALSE),0) | AV12: =IF(AU12=0,0,AU12/الإعدادات!$C$7) | AW12: =IF(AT12>=(COUNT($E$5:$AI$5)-الإعدادات!$C$6),AU12+AV12*(AT12-(COUNT($E$5:$AI$5)-الإعدادات!$C$6)),AV12*AT12) | AX12: =AQ12*IFERROR(VLOOKUP($B12,'بيانات الموظفين'!$B$7:$K$65,7,FALSE),الإعدادات!$C$8) | AY12: =IF(COUNTA($E12:$AI12)=0,0,IFERROR(VLOOKUP($B12,'بيانات الموظفين'!$B$7:$K$65,6,FALSE),0)) | BA12: =AZ12*AV12 | BC12: =AV12*الإعدادات!$C$9*SUMPRODUCT(SUMIF(الإعدادات!$A$14:$A$19,$E12:$AI12,الإعدادات!$C$14:$C$19)*($E$7:$AI$7=1)) | BD12: =AW12+AX12+AY12+BC12-BA12-BB12
A13: 6 | B13: 6 | C13: ربيع محمد أحمد محمد | D13: SO | AJ13: =COUNTIF($E13:$AI13,"P") | AK13: =COUNTIF($E13:$AI13,"غ") | AL13: =COUNTIF($E13:$AI13,"إ") | AM13: =COUNTIF($E13:$AI13,"م") | AN13: =COUNTIF($E13:$AI13,"خ") | AO13: =COUNTIF($E13:$AI13,"د") | AP13: =IF(COUNTA($E13:$AI13)=0,0,SUMPRODUCT(($E$5:$AI$5<>"")*($E13:$AI13=""))) | AQ13: =SUMPRODUCT(SUMIF(الإعدادات!$A$14:$A$19,$E13:$AI13,الإعدادات!$C$14:$C$19)) | AR13: =AQ13+AP13 | AT13: =IF(COUNTA($E13:$AI13)=0,IF(AS13="",0,AS13),IF(AS13="",AR13,AS13)) | AU13: =IFERROR(VLOOKUP($B13,'بيانات الموظفين'!$B$7:$K$65,5,FALSE),0) | AV13: =IF(AU13=0,0,AU13/الإعدادات!$C$7) | AW13: =IF(AT13>=(COUNT($E$5:$AI$5)-الإعدادات!$C$6),AU13+AV13*(AT13-(COUNT($E$5:$AI$5)-الإعدادات!$C$6)),AV13*AT13) | AX13: =AQ13*IFERROR(VLOOKUP($B13,'بيانات الموظفين'!$B$7:$K$65,7,FALSE),الإعدادات!$C$8) | AY13: =IF(COUNTA($E13:$AI13)=0,0,IFERROR(VLOOKUP($B13,'بيانات الموظفين'!$B$7:$K$65,6,FALSE),0)) | BA13: =AZ13*AV13 | BC13: =AV13*الإعدادات!$C$9*SUMPRODUCT(SUMIF(الإعدادات!$A$14:$A$19,$E13:$AI13,الإعدادات!$C$14:$C$19)*($E$7:$AI$7=1)) | BD13: =AW13+AX13+AY13+BC13-BA13-BB13
